BEGIN:VCALENDAR
VERSION:2.0
PRODID:-//Hartford Jazz Society - ECPv6.15.20//NONSGML v1.0//EN
CALSCALE:GREGORIAN
METHOD:PUBLISH
X-ORIGINAL-URL:https://hartfordjazzsociety.com
X-WR-CALDESC:Events for Hartford Jazz Society
REFRESH-INTERVAL;VALUE=DURATION:PT1H
X-Robots-Tag:noindex
X-PUBLISHED-TTL:PT1H
BEGIN:VTIMEZONE
TZID:America/New_York
BEGIN:DAYLIGHT
TZOFFSETFROM:-0500
TZOFFSETTO:-0400
TZNAME:EDT
DTSTART:20240310T070000
END:DAYLIGHT
BEGIN:STANDARD
TZOFFSETFROM:-0400
TZOFFSETTO:-0500
TZNAME:EST
DTSTART:20241103T060000
END:STANDARD
BEGIN:DAYLIGHT
TZOFFSETFROM:-0500
TZOFFSETTO:-0400
TZNAME:EDT
DTSTART:20250309T070000
END:DAYLIGHT
BEGIN:STANDARD
TZOFFSETFROM:-0400
TZOFFSETTO:-0500
TZNAME:EST
DTSTART:20251102T060000
END:STANDARD
BEGIN:DAYLIGHT
TZOFFSETFROM:-0500
TZOFFSETTO:-0400
TZNAME:EDT
DTSTART:20260308T070000
END:DAYLIGHT
BEGIN:STANDARD
TZOFFSETFROM:-0400
TZOFFSETTO:-0500
TZNAME:EST
DTSTART:20261101T060000
END:STANDARD
END:VTIMEZONE
BEGIN:VEVENT
DTSTART;TZID=America/New_York:20251017T180000
DTEND;TZID=America/New_York:20251017T210000
DTSTAMP:20260424T095219
CREATED:20250809T210022Z
LAST-MODIFIED:20250809T210136Z
UID:10006726-1760724000-1760734800@hartfordjazzsociety.com
SUMMARY:Jazz at Three Sheets
DESCRIPTION:New England Jazz Underground presents jazz on the 1st and 3rd Friday every month.
URL:https://hartfordjazzsociety.com/event/jazz-at-three-sheets-2/
LOCATION:Three Sheets\, 372 Elm Street\, New Haven\, CT
END:VEVENT
BEGIN:VEVENT
DTSTART;TZID=America/New_York:20251017T200000
DTEND;TZID=America/New_York:20251017T223000
DTSTAMP:20260424T095219
CREATED:20250927T014436Z
LAST-MODIFIED:20250927T014436Z
UID:10006887-1760731200-1760740200@hartfordjazzsociety.com
SUMMARY:Jonathan Barber & Vision Ahead
DESCRIPTION:Jonathan Barber – Drums \nTony Davis – Guitar \nMatt Knoegel – Saxophone \nCameron Campbell – Piano  \nMatt Dwonszyk – Bass \nInternational Recorded artist\, composer\, educator and bandleader Jonathan Barber was voted the #1 Up-and-Coming Drummer of 2018 in Modern Drummer. Barber has already recorded and toured worldwide with such artists as Pat Metheny\, Terence Blanchard\, Christain McBride\, Erykah Badu\, Nicholas Payton\, Buster Williams\, Jimmy Greene\, Jeremy Pelt\, Wallace Roney\, Terrace Martin\, Gretchen Parlato\, Jennifer Holiday\, Steve Davis\, J.D. Allen\, Walter Smith III\, The Brooklyn Philharmonic and many more. \nIn addition to his first-call status as a sideman\, Barber has stepped forth as a composer and leader with his band Jonathan Barber & Vision Ahead. Even with Barber’s history of high-profile gigs and recordings taken into consideration\, DownBeat magazine gave his latest album “Legacy Holder” 4.5 stars. Jonathan Barber & Vision Ahead is a powerful declaration of intent for a band that’s been making waves on the modern jazz scene. Barber’s blend of classic\, swinging jazz with elements of gospel\, rock\, soul\, and fusion is a compelling showcase of Barber’s broad stylistic range as a drummer\, performer and composer. Jonathan Barber & Vision Ahead was featured and headline the Rainy Days Jazz Festival held in St. Petersburg and Moscow\, Russia\, Hartford Jazz Festival\, Clifford Brown Jazz Festival\, Pittsburgh Jazz Festival as well jazz venues around the world. Since 2020\, Jonathan Barber & Vision Ahead have been completed three National tours across the United States. \nBeing an independent artist Jonathan Barber has released 5 albums with Vision Ahead: Vision Ahead (2018)\, Legacy Holder (2020)\, Live at Jazz Standard (which is exclusively on Bandcamp\, 2020)\, Poetic (2022) and In Motion (2024). \nGearing up for their new album release “In Motion” Jonathan Barber & Vision Ahead will embark upon their first International Tour performing at Musig Im Pflegidach (Muri\, Switzerland)\, Ronnie Scott’s (London\, U.K.) and Duc Des Lombards (Paris\, France). \nStepping into the role as a Drum Clinician\, Barber toured as solo clinician in Latin America and China Barber and has been featured artist at PASIC convention. \nBarber recently has been appointed as Jazz Drum Professor at the University of Connecticut. \n“I recognize my God given gift. Maximizing this gift to its full potential is the best thing you can do for yourself. Operating in this gift is how you give back to the world.”
URL:https://hartfordjazzsociety.com/event/jonathan-barber-vision-ahead/
LOCATION:Side Door Jazz Club\, 85 Lyme Street\, Old Lyme\, CT\, United States
END:VEVENT
END:VCALENDAR