BEGIN:VCALENDAR
VERSION:2.0
PRODID:-//Hartford Jazz Society - ECPv6.15.20//NONSGML v1.0//EN
CALSCALE:GREGORIAN
METHOD:PUBLISH
X-WR-CALNAME:Hartford Jazz Society
X-ORIGINAL-URL:https://hartfordjazzsociety.com
X-WR-CALDESC:Events for Hartford Jazz Society
REFRESH-INTERVAL;VALUE=DURATION:PT1H
X-Robots-Tag:noindex
X-PUBLISHED-TTL:PT1H
BEGIN:VTIMEZONE
TZID:America/New_York
BEGIN:DAYLIGHT
TZOFFSETFROM:-0500
TZOFFSETTO:-0400
TZNAME:EDT
DTSTART:20240310T070000
END:DAYLIGHT
BEGIN:STANDARD
TZOFFSETFROM:-0400
TZOFFSETTO:-0500
TZNAME:EST
DTSTART:20241103T060000
END:STANDARD
BEGIN:DAYLIGHT
TZOFFSETFROM:-0500
TZOFFSETTO:-0400
TZNAME:EDT
DTSTART:20250309T070000
END:DAYLIGHT
BEGIN:STANDARD
TZOFFSETFROM:-0400
TZOFFSETTO:-0500
TZNAME:EST
DTSTART:20251102T060000
END:STANDARD
BEGIN:DAYLIGHT
TZOFFSETFROM:-0500
TZOFFSETTO:-0400
TZNAME:EDT
DTSTART:20260308T070000
END:DAYLIGHT
BEGIN:STANDARD
TZOFFSETFROM:-0400
TZOFFSETTO:-0500
TZNAME:EST
DTSTART:20261101T060000
END:STANDARD
END:VTIMEZONE
BEGIN:VEVENT
DTSTART;TZID=America/New_York:20251031T200000
DTEND;TZID=America/New_York:20251031T223000
DTSTAMP:20260424T075724
CREATED:20250927T015835Z
LAST-MODIFIED:20250927T015835Z
UID:10006892-1761940800-1761949800@hartfordjazzsociety.com
SUMMARY:Russell Hall Quintet
DESCRIPTION:Mike Troy – Saxophone \nEsteban Castro – Piano \nLeo Larratt – Guitar \nRussell Hall – Bass \nMatt Lee – Drums \nBorn in Kingston\, Jamaica\, Russell Hall migrated to the United States in 2007 where his double bass studies progressed quickly through the rigorous programs of The Dillard Center for the Arts and The Juilliard School. Russell deeply understands the jazz tradition\, having studied with many of the double bass world’s most renowned artists including Ron Carter and Ben Wolfe. Still\, he is also an artist looking forward with his own distinct approach to the double bass. \nAs a first-call bassist in New York City\, Russell has performed with some of the biggest names in music including Joey Alexander\, Wayne Shorter\, Wynton Marsalis\, Branford Marsalis\, Jon Batiste\, Roy Hargrove\, Kathleen Battle\, Christian McBride\, Emmet Cohen\, Russell Malone\, George Coleman and many more. \nWell known for his work with the Emmet Cohen Trio alongside drummer Kyle Poole\, Russell also leads his own bands\, including Bessie and the Rainbowkids to much critical acclaim.
URL:https://hartfordjazzsociety.com/event/russell-hall-quintet/
LOCATION:Side Door Jazz Club\, 85 Lyme Street\, Old Lyme\, CT\, United States
END:VEVENT
END:VCALENDAR