BEGIN:VCALENDAR
VERSION:2.0
PRODID:-//Hartford Jazz Society - ECPv6.15.20//NONSGML v1.0//EN
CALSCALE:GREGORIAN
METHOD:PUBLISH
X-ORIGINAL-URL:https://hartfordjazzsociety.com
X-WR-CALDESC:Events for Hartford Jazz Society
REFRESH-INTERVAL;VALUE=DURATION:PT1H
X-Robots-Tag:noindex
X-PUBLISHED-TTL:PT1H
BEGIN:VTIMEZONE
TZID:America/New_York
BEGIN:DAYLIGHT
TZOFFSETFROM:-0500
TZOFFSETTO:-0400
TZNAME:EDT
DTSTART:20240310T070000
END:DAYLIGHT
BEGIN:STANDARD
TZOFFSETFROM:-0400
TZOFFSETTO:-0500
TZNAME:EST
DTSTART:20241103T060000
END:STANDARD
BEGIN:DAYLIGHT
TZOFFSETFROM:-0500
TZOFFSETTO:-0400
TZNAME:EDT
DTSTART:20250309T070000
END:DAYLIGHT
BEGIN:STANDARD
TZOFFSETFROM:-0400
TZOFFSETTO:-0500
TZNAME:EST
DTSTART:20251102T060000
END:STANDARD
BEGIN:DAYLIGHT
TZOFFSETFROM:-0500
TZOFFSETTO:-0400
TZNAME:EDT
DTSTART:20260308T070000
END:DAYLIGHT
BEGIN:STANDARD
TZOFFSETFROM:-0400
TZOFFSETTO:-0500
TZNAME:EST
DTSTART:20261101T060000
END:STANDARD
END:VTIMEZONE
BEGIN:VEVENT
DTSTART;TZID=America/New_York:20251109T160000
DTEND;TZID=America/New_York:20251109T180000
DTSTAMP:20260424T075836
CREATED:20250811T144029Z
LAST-MODIFIED:20250811T144029Z
UID:10006768-1762704000-1762711200@hartfordjazzsociety.com
SUMMARY:Omar Sosa Quarteto Americanos
DESCRIPTION:Featuring Josh Jones\, Sheldon Brown\, and Ernesto Mazar Kindelán \nQuarteto Americanos is Omar Sosa’s first U.S.-based jazz ensemble since the 1990s!  Featuring drummer Josh Jones\, bassist Ernesto Mazar Kindelán\, and saxophone / clarinet / flute player Sheldon Brown\, the group came together in February 2021 when Omar was in the Bay Area for several live streams.  Connecting with Josh and Sheldon was a gratifying reunion for Omar\, as he played extensively with them during his early days in San Francisco and Oakland in the late 1990s.  Josh Jones’ Trio at the time\, including Omar and bassist Geoff Brennan\, played frequently at Bay Area clubs.  Josh remains one of Omar’s favorite drummers – a versatile musician and educator equally at home in Latin\, jazz\, hip-hop\, and fusion styles.  Sheldon Brown was a member of Omar’s first Septet ensemble in the Bay Area\, performing in San Francisco and Oakland and around the world in support of Omar’s earliest recording projects\, ‘Free Roots’\, ‘Spirit of the Roots’\, and ‘Bembón’\, also known as the Roots Trilogy.  Sheldon is a talented composer\, arranger and producer whose first recording\, ‘Shifting Currents‘\, caught Omar’s ear when he first moved to San Francisco in 1995.  Ernesto Mazar Kindelán is a dynamic Cuban musician who came to the San Francisco Bay Area in 2014 following a ten-year stint with Charanga Habanera\, the celebrated Cuban timba band from Havana. \nOmar’s Quarteto Americanos plays a number of arrangements of Omar’s signature compositions from his early career\, including ‘My Three Notes’\, ‘Angustia’\, and ‘Toridanzón’\, as well as new songs written by Omar in Barcelona during the lockdown in 2020.  Like Omar’s oeuvre\, Quarteto Americanos’ repertoire is eclectic and energizing.  Its improvisational approach seamlessly fuses elements of jazz\, Latin\, hip-hop\, and electronica into an exciting\, passionate\, contemporary sound.
URL:https://hartfordjazzsociety.com/event/omar-sosa-quarteto-americanos/
LOCATION:Bombyx Center for Arts and Equity\, 130 Pine Street\, Northampton\, MA
END:VEVENT
BEGIN:VEVENT
DTSTART;TZID=America/New_York:20251109T170000
DTEND;TZID=America/New_York:20251109T200000
DTSTAMP:20260424T075836
CREATED:20251026T200153Z
LAST-MODIFIED:20251026T200153Z
UID:10006945-1762707600-1762718400@hartfordjazzsociety.com
SUMMARY:JHunter Group
DESCRIPTION:Live Jazz\, Blues and other grooves and Great Food \nCecil Carter vocalist \nSteven Marien saxophonist\nRufus Davis pianist \nJames Hunter bassist\nJacob Grahm drums
URL:https://hartfordjazzsociety.com/event/jhunter-group-3/
LOCATION:Steak Loft\, 27 Coogan Blvd\, Mystic\, CT\, United States
END:VEVENT
END:VCALENDAR