BEGIN:VCALENDAR
VERSION:2.0
PRODID:-//Hartford Jazz Society - ECPv6.15.20//NONSGML v1.0//EN
CALSCALE:GREGORIAN
METHOD:PUBLISH
X-WR-CALNAME:Hartford Jazz Society
X-ORIGINAL-URL:https://hartfordjazzsociety.com
X-WR-CALDESC:Events for Hartford Jazz Society
REFRESH-INTERVAL;VALUE=DURATION:PT1H
X-Robots-Tag:noindex
X-PUBLISHED-TTL:PT1H
BEGIN:VTIMEZONE
TZID:America/New_York
BEGIN:DAYLIGHT
TZOFFSETFROM:-0500
TZOFFSETTO:-0400
TZNAME:EDT
DTSTART:20240310T070000
END:DAYLIGHT
BEGIN:STANDARD
TZOFFSETFROM:-0400
TZOFFSETTO:-0500
TZNAME:EST
DTSTART:20241103T060000
END:STANDARD
BEGIN:DAYLIGHT
TZOFFSETFROM:-0500
TZOFFSETTO:-0400
TZNAME:EDT
DTSTART:20250309T070000
END:DAYLIGHT
BEGIN:STANDARD
TZOFFSETFROM:-0400
TZOFFSETTO:-0500
TZNAME:EST
DTSTART:20251102T060000
END:STANDARD
BEGIN:DAYLIGHT
TZOFFSETFROM:-0500
TZOFFSETTO:-0400
TZNAME:EDT
DTSTART:20260308T070000
END:DAYLIGHT
BEGIN:STANDARD
TZOFFSETFROM:-0400
TZOFFSETTO:-0500
TZNAME:EST
DTSTART:20261101T060000
END:STANDARD
END:VTIMEZONE
BEGIN:VEVENT
DTSTART;TZID=America/New_York:20251122T160000
DTEND;TZID=America/New_York:20251122T190000
DTSTAMP:20260424T075719
CREATED:20251116T031948Z
LAST-MODIFIED:20251116T031948Z
UID:10007147-1763827200-1763838000@hartfordjazzsociety.com
SUMMARY:Jazz Jam at Cafe Nine
DESCRIPTION:Every Saturday\, 4-7
URL:https://hartfordjazzsociety.com/event/jazz-jam-at-cafe-nine-2/2025-11-22/
LOCATION:MA
END:VEVENT
BEGIN:VEVENT
DTSTART;TZID=America/New_York:20251122T190000
DTEND;TZID=America/New_York:20251122T203000
DTSTAMP:20260424T075719
CREATED:20251030T030901Z
LAST-MODIFIED:20251030T030901Z
UID:10006967-1763838000-1763843400@hartfordjazzsociety.com
SUMMARY:Blue Lion Trio
DESCRIPTION:Jeff Fuller\, bass\, Rich Sylvester\, drums and David Childs\, piano \n$10 cover – includes a glass of wine
URL:https://hartfordjazzsociety.com/event/blue-lion-trio-3/
LOCATION:Obodo Serendipity Books\, 3588 Main Street\, Stratford\, CT
END:VEVENT
BEGIN:VEVENT
DTSTART;TZID=America/New_York:20251122T200000
DTEND;TZID=America/New_York:20251122T223000
DTSTAMP:20260424T075719
CREATED:20251018T023202Z
LAST-MODIFIED:20251018T023843Z
UID:10006938-1763841600-1763850600@hartfordjazzsociety.com
SUMMARY:Ben Wolfe Quartet
DESCRIPTION:John Ellis – Saxophone\nJoel Ross – Vibes\nBen Wolfe – Bass\nAaron Kimmel – Drums \nNew York bassist/composer and bandleader Ben Wolfe’s music has been described as “Mingus and Miles Davis meet Bartok and Bernard Herrmann” (Ben Ratliff – The New York Times). With acclaim by some of the jazz world’s most respected critics\, Wolfe continues to produce works that draw top-flight reviews from fans and jazz journalists alike.\nBen’s 2024 release The Understated is his eleventh as leader and features all original compositions. Nicole Glover who plays tenor saxophone on the record says in her liner notes “This record succeeds in bringing Ben’s beautiful music to life through extremely conscientious group playing. Nothing is forced or pushed; everything that needs to be stated is stated.”\n“The Understated is a beauty.” (Carlo Wolff\, Downbeat) \nIn many ways\, The Understated is a continuation of his previous release the critically acclaimed Unjust. “Unjust is a brilliant work of melodic ensemble writing and superb playing by a stellar intergenerational crew.” (Bill Milkowski\, Downbeat). \nIts balance – of elegance and propulsion\, of accessibility and edge – distinguishes it from most conventional jazz. Its details reward repeated listening.” (Larry Blumenfeld\, Wall Street Journal)\nThere is no doubt that after decades as one of the most sought-after bassists in jazz\, performing with top names such as Wynton Marsalis\, Harry Connick Jr.\, Diana Krall and many others\, award-winning composer and bandleader Ben Wolfe is clear about his creative direction… \n“Much of the music I’ve composed; particularly the music that includes strings\, I think of as chamber music within a jazz context.” \nAn award-winning composer\, Ben is a two-time recipient of Chamber Music America’s New Works: Creation and Presentation Program Grant through the Doris Duke Foundation. First received in 2004\, Ben was able to use this funding to compose his extended work “Contradiction: Music for Sextet.” He received the grant in 2020 and composed “Nonet”. Both of these extended works have been recorded for future release. \nWolfe has distinguished himself through a significant catalogue of original music\, including over one hundred songs across eleven albums\, several extended works\, and the film score for Matthew Modine’s 2008 short I Think I Thought. The New York Sun hailed his work on this film as\, “a standout music score.” \nWolfe’s early career included Grammy award-winning\, platinum-selling collaborations with both Harry Connick Jr. and Diana Krall\, including Harry’s 1988 soundtrack album When Harry Met Sally\, and Diana’s 1999 release When I Look in Your Eyes. He appeared alongside both artists on numerous world tours. \nWolfe’s ongoing and close association with Wynton Marsalis; during which Marsalis recorded as a guest on two of his albums\, has seen Ben appear on a number of Wynton’s releases\, and included a stint in the Wynton Marsalis Septet and membership in the Jazz at Lincoln CenteOrchestra (JLCO)\, where he performed with jazz luminaries such as Joe Henderson\, Doc Cheatham\, Jon Hendricks\, Harry “Sweets” Edison\, and Billy Higgins\, among many others. Contemporary jazz greats with whom he has also worked and recorded include Branford Marsalis\, Orrin Evans\, Eric Reed and Benny Green. \nBen Wolfe’s full list of recorded original albums as a leader:\n• The Understated\, Resident Arts Records (2024)\n• Unjust\, Resident Arts Records (2023)\n• Fatherhood\, Resident Arts Records (2019)\n• The Whisperer\, Posi-Tone (2015)\n• From Here I See\, MAXJAZZ/Mack Avenue Records (2013)\n• Ben Wolfe Quintet: Live at Smalls\, SmallsLIVE (2011)\n• No Strangers Here\, MAXJAZZ/Mack Avenue Records (2008)\n• My Kinda Beautiful\, Planet Arts Records (2004)\n• Murray’s Cadillac\, Amosaya Music (2000)\n• Bagdad Theater\, Mons Records (1997)\n• 13 Sketches\, Mons Records (1996) \nBen maintains a busy schedule\, performing and touring on the international stage. Currently a member of the teaching faculty at The Julliard School in New York City\, Ben is helping to shape and mentor the jazz scene’s next generation of outstanding talent. \n“Ben Wolfe swings with authority!”– to quote Wynton Marsalis. It can’t be said any better!
URL:https://hartfordjazzsociety.com/event/ben-wolfe-quartet/
LOCATION:Side Door Jazz Club\, 85 Lyme Street\, Old Lyme\, CT\, United States
END:VEVENT
END:VCALENDAR