BEGIN:VCALENDAR
VERSION:2.0
PRODID:-//Hartford Jazz Society - ECPv6.15.20//NONSGML v1.0//EN
CALSCALE:GREGORIAN
METHOD:PUBLISH
X-ORIGINAL-URL:https://hartfordjazzsociety.com
X-WR-CALDESC:Events for Hartford Jazz Society
REFRESH-INTERVAL;VALUE=DURATION:PT1H
X-Robots-Tag:noindex
X-PUBLISHED-TTL:PT1H
BEGIN:VTIMEZONE
TZID:America/New_York
BEGIN:DAYLIGHT
TZOFFSETFROM:-0500
TZOFFSETTO:-0400
TZNAME:EDT
DTSTART:20240310T070000
END:DAYLIGHT
BEGIN:STANDARD
TZOFFSETFROM:-0400
TZOFFSETTO:-0500
TZNAME:EST
DTSTART:20241103T060000
END:STANDARD
BEGIN:DAYLIGHT
TZOFFSETFROM:-0500
TZOFFSETTO:-0400
TZNAME:EDT
DTSTART:20250309T070000
END:DAYLIGHT
BEGIN:STANDARD
TZOFFSETFROM:-0400
TZOFFSETTO:-0500
TZNAME:EST
DTSTART:20251102T060000
END:STANDARD
BEGIN:DAYLIGHT
TZOFFSETFROM:-0500
TZOFFSETTO:-0400
TZNAME:EDT
DTSTART:20260308T070000
END:DAYLIGHT
BEGIN:STANDARD
TZOFFSETFROM:-0400
TZOFFSETTO:-0500
TZNAME:EST
DTSTART:20261101T060000
END:STANDARD
END:VTIMEZONE
BEGIN:VEVENT
DTSTART;TZID=America/New_York:20251207T120000
DTEND;TZID=America/New_York:20251207T150000
DTSTAMP:20260424T060340
CREATED:20251116T021850Z
LAST-MODIFIED:20251116T021852Z
UID:10006973-1765108800-1765119600@hartfordjazzsociety.com
SUMMARY:Dr. G’s Jazz Brunch
DESCRIPTION:Dr. G’s Jazz Brunch held on the 1st\, 3rd & 5th Sundays from 12pm (noon) until 3pm at Quattro’s Italian Restaurant:\n\n\n\nAll events will also include jazz masters Jeff Fuller on bass and Barry Ries on drums &/or trumpet. “Dr. G” will provide guitar accompaniment.
URL:https://hartfordjazzsociety.com/event/dr-gs-jazz-brunch-3-2/2025-12-07/
LOCATION:Quattro’s Italian Restaurant & Wine Bar\, 14 Water Street\, Guilford\, CT
END:VEVENT
BEGIN:VEVENT
DTSTART;TZID=America/New_York:20251207T130000
DTEND;TZID=America/New_York:20251207T170000
DTSTAMP:20260424T060340
CREATED:20250108T233839Z
LAST-MODIFIED:20251129T052405Z
UID:10004644-1765112400-1765126800@hartfordjazzsociety.com
SUMMARY:Manchester CT Jazz Festival
DESCRIPTION:Performers include Grammy winner Dan Pugach with his Jazz Orchestra with guest vocalist Grammy winner Nicole Zuraitis. Also vocalist Vanish Gould with the Alex Nakhimovsky Trio\, Jonathan Barber with Vision Ahead\, the Liviu Pop group\, the Hall Monitors and Grass Routes Bluegrass. \nAdditional performers include award winning Hall High School and Timothy Edwards Middle School Jazz Combos. \nThe festival\, which has sold out for the past 3 years\, promises to be extraordinary! Look forward to seeing you there!
URL:https://hartfordjazzsociety.com/event/manchester-ct-jazz-festival-3/
LOCATION:Little Theatre of Manchester at Cheney Hall\, 177 Hartford Road\, Manchester\, CT\, 06040
END:VEVENT
BEGIN:VEVENT
DTSTART;TZID=America/New_York:20251207T200000
DTEND;TZID=America/New_York:20251207T223000
DTSTAMP:20260424T060340
CREATED:20251129T020621Z
LAST-MODIFIED:20251129T020623Z
UID:10007344-1765137600-1765146600@hartfordjazzsociety.com
SUMMARY:Christian Sands Trio
DESCRIPTION:Jazz history is filled with stirring torch songs and ballads — brilliant expressions of suffering after love has gone awry. The jazz record shelf even contains some classic album-long explorations of melancholy. But it’s hard to find precedent in pianist Christian Sands’ new Embracing Dawn\, his fifth full-length effort for Mack Avenue Records. \nSands’ LP is nothing less than a cinematic narration of the stages of grief\, crafted by one of jazz’s finest young composers. It’s a “breakup record\,” to be sure — composed while Sands was experiencing the hurt that only a sudden absence of love can deliver — but it’s so much more. In its thoughtfully assembled nine tracks are a group therapy session\, a guide to healing\, and an understanding that Sands’ deeply personal angst could apply to any person who has lost a partner\, a job\, a loved one\, an opportunity\, the list goes on. In other words\, Embracing Dawn is for everyone. \n“I actually tried not to write this record\,” Sands says with a laugh. “It was painful. I was going through heartbreak\, and I didn’t know what to do — and so I decided to put it all into music. But I knew I wasn’t alone in this feeling. So why not create a safe space for people to go when they’re having this feeling\, when they’re having these thoughts or questions?” \nEmbracing Dawn trails 2023’s acclaimed Christmas Stories and 2020’s GRAMMY-nominated Be Water. Following that album’s release\, the New York Times commented\, “Equipped with a crisp but forceful touch\, he seems always to be flowing in new directions\, integrating elements of prog rock\, gospel and Western classical into a forward-tumbling jazz conception.” Embracing Dawn furthers Sands’ uniquely cultivated jazz language\, where agile post-bop meets soulful bluesy tinges and gorgeous swells of strings. Sands’ love of classical orchestration\, he explains\, is rooted in his lifelong obsession with film. \nUltimately\, Sands’ sound and philosophy are informed by two of his most essential mentors: bass maestro Christian McBride\, who\, as Sands’ longtime employer\, taught him the importance of always being yourself; and the late piano legend Dr. Billy Taylor\, who stressed how crucial it is to connect jazz to a wide-ranging audience. “I want Embracing Dawn to be something you gravitate toward because of the story\,” Sands says
URL:https://hartfordjazzsociety.com/event/christian-sands-trio-3/
LOCATION:Side Door Jazz Club\, 85 Lyme Street\, Old Lyme\, CT\, United States
END:VEVENT
END:VCALENDAR