BEGIN:VCALENDAR
VERSION:2.0
PRODID:-//Hartford Jazz Society - ECPv6.15.20//NONSGML v1.0//EN
CALSCALE:GREGORIAN
METHOD:PUBLISH
X-WR-CALNAME:Hartford Jazz Society
X-ORIGINAL-URL:https://hartfordjazzsociety.com
X-WR-CALDESC:Events for Hartford Jazz Society
REFRESH-INTERVAL;VALUE=DURATION:PT1H
X-Robots-Tag:noindex
X-PUBLISHED-TTL:PT1H
BEGIN:VTIMEZONE
TZID:America/New_York
BEGIN:DAYLIGHT
TZOFFSETFROM:-0500
TZOFFSETTO:-0400
TZNAME:EDT
DTSTART:20240310T070000
END:DAYLIGHT
BEGIN:STANDARD
TZOFFSETFROM:-0400
TZOFFSETTO:-0500
TZNAME:EST
DTSTART:20241103T060000
END:STANDARD
BEGIN:DAYLIGHT
TZOFFSETFROM:-0500
TZOFFSETTO:-0400
TZNAME:EDT
DTSTART:20250309T070000
END:DAYLIGHT
BEGIN:STANDARD
TZOFFSETFROM:-0400
TZOFFSETTO:-0500
TZNAME:EST
DTSTART:20251102T060000
END:STANDARD
BEGIN:DAYLIGHT
TZOFFSETFROM:-0500
TZOFFSETTO:-0400
TZNAME:EDT
DTSTART:20260308T070000
END:DAYLIGHT
BEGIN:STANDARD
TZOFFSETFROM:-0400
TZOFFSETTO:-0500
TZNAME:EST
DTSTART:20261101T060000
END:STANDARD
END:VTIMEZONE
BEGIN:VEVENT
DTSTART;TZID=America/New_York:20251208T131500
DTEND;TZID=America/New_York:20251208T150000
DTSTAMP:20260424T060159
CREATED:20251206T175318Z
LAST-MODIFIED:20251206T175318Z
UID:10007356-1765199700-1765206000@hartfordjazzsociety.com
SUMMARY:Damian Curtis Ensemble
DESCRIPTION:Damian Curtis\, also known as “King Solomon\,” is a Connecticut-based jazz pianist who performs various genres\, including jazz\, Latin jazz\, salsa\, and hip-hop. \nHaving performed with renowned artists like Jackie McLean and Eddie Palmieri\, Damian Curtis has produced several albums\, and is an in-demand educator for young artists—our Loomis Chaffee students are so fortunate to work with Damian Curtis. \nDamian Curtis was featured in the film Diaspora Stories: Hartford where he described the intergenerational nature of Hartford’s African and African Diasporic arts community and its impact on his career. \nIf you’ve been to Monday Night Jazz in Bushnell Park or the Greater Hartford Festival of Jazz\, you know Damian Curtis is a stalwart—and immensely inspiring– presence in today’s jazz world! \nHubbard Performance Hall
URL:https://hartfordjazzsociety.com/event/damian-curtis-ensemble/
LOCATION:Loomis Chaffee School\, 4 Batchelder Road\, Windsor\, CT\, 06095
END:VEVENT
BEGIN:VEVENT
DTSTART;TZID=America/New_York:20251208T190000
DTEND;TZID=America/New_York:20251208T203000
DTSTAMP:20260424T060159
CREATED:20251116T032622Z
LAST-MODIFIED:20251116T032844Z
UID:10007211-1765220400-1765225800@hartfordjazzsociety.com
SUMMARY:Tuxedo Junction
DESCRIPTION:For over 24 years\, hosting public rehearsals every Monday night\, now at Guilford VFW Post 7666. \nTuxedo Junction was started in 1989 by Pete Jacobs (trumpet) and Will Tayler (drums)\, WWII veterans who set up an 8-piece Dixieland jazz band in the basement of the senior citizens center in Madison\, CT. Pat soon joined on piano. \nThe band quickly grew into a full swing band as Pete added big band arrangements and people joined: everyone from high school students to retired music teachers started to fill out the sections. Tuxedo Junction moved its practice home to the Westbrook Elks briefly\, and in 1997 Paul James suggested that Bill’s Seafood restaurant in Westbrook would be a great place to share the sounds of swing. After more than 20 years of Monday nights at Bill’s\, originally outnumbering the customers and staff before turning it into the most happening place on the Shoreline for a Monday night\, we moved outside to Town Greens\, Overlook Farm in Killingworth\, and the Guilford VFW. \nTuxedo Junction plays original big band arrangements from the 30’s through the present\, including charts from Count Basie\, Duke Ellington\, Glenn Miller\, Sy Zentner\, Buddy Rich\, Frank Sinatra\, Ella Fitzgerald\, and more. We focus on danceable tunes from swing to waltz\, foxtrot to two-step\, Latin and even some rock. The band has weekly open rehearsals at local venues on the Eastern Connecticut shoreline. The public is invited to dance and listen in at no charge. We are also available for hire at public and private events throughout Connecticut. \nAfter more than 1\,001 performances\, Tuxedo Junction has become a musical success story. We are now eighteen passionate musicians\, men and women of all ages\, following the great jazz tradition and warmly welcoming visiting jazz musicians to sit in.
URL:https://hartfordjazzsociety.com/event/tuxedo-junction/2025-12-08/
LOCATION:Guilford VFW Post 9666\, 104 Mill Road\, Guilford\, CT
END:VEVENT
END:VCALENDAR