BEGIN:VCALENDAR
VERSION:2.0
PRODID:-//Hartford Jazz Society - ECPv6.15.20//NONSGML v1.0//EN
CALSCALE:GREGORIAN
METHOD:PUBLISH
X-WR-CALNAME:Hartford Jazz Society
X-ORIGINAL-URL:https://hartfordjazzsociety.com
X-WR-CALDESC:Events for Hartford Jazz Society
REFRESH-INTERVAL;VALUE=DURATION:PT1H
X-Robots-Tag:noindex
X-PUBLISHED-TTL:PT1H
BEGIN:VTIMEZONE
TZID:America/New_York
BEGIN:DAYLIGHT
TZOFFSETFROM:-0500
TZOFFSETTO:-0400
TZNAME:EDT
DTSTART:20240310T070000
END:DAYLIGHT
BEGIN:STANDARD
TZOFFSETFROM:-0400
TZOFFSETTO:-0500
TZNAME:EST
DTSTART:20241103T060000
END:STANDARD
BEGIN:DAYLIGHT
TZOFFSETFROM:-0500
TZOFFSETTO:-0400
TZNAME:EDT
DTSTART:20250309T070000
END:DAYLIGHT
BEGIN:STANDARD
TZOFFSETFROM:-0400
TZOFFSETTO:-0500
TZNAME:EST
DTSTART:20251102T060000
END:STANDARD
BEGIN:DAYLIGHT
TZOFFSETFROM:-0500
TZOFFSETTO:-0400
TZNAME:EDT
DTSTART:20260308T070000
END:DAYLIGHT
BEGIN:STANDARD
TZOFFSETFROM:-0400
TZOFFSETTO:-0500
TZNAME:EST
DTSTART:20261101T060000
END:STANDARD
END:VTIMEZONE
BEGIN:VEVENT
DTSTART;TZID=America/New_York:20251212T080000
DTEND;TZID=America/New_York:20251212T170000
DTSTAMP:20260424T075721
CREATED:20251114T205531Z
LAST-MODIFIED:20251217T142446Z
UID:10007084-1765526400-1765558800@hartfordjazzsociety.com
SUMMARY:Firehouse 12 Weekly Concert Series
DESCRIPTION:November 14: Otherlands Trio\nNovember 21: Jon Irabagon Quintet\nDecember 5: Matt Mitchell & Sara Serpa\nDecember 12: Tyshawn Sorey Trio\nDecember 19: Ingrid Laubrock’s Grammy Season + + DoYeon Kim \nTickets are $20 for the 8:30pm performance and $15 for 10:00pm. All tickets can be purchased online or\, subject to availability\, at the box office on the night of the show.
URL:https://hartfordjazzsociety.com/event/firehouse-12-weekly-concert-series/2025-12-12/
LOCATION:Firehouse 12\, 45 Crown Street\, New Haven\, CT
END:VEVENT
BEGIN:VEVENT
DTSTART;TZID=America/New_York:20251212T171500
DTEND;TZID=America/New_York:20251212T190000
DTSTAMP:20260424T075721
CREATED:20251210T225329Z
LAST-MODIFIED:20251210T225331Z
UID:10007364-1765559700-1765566000@hartfordjazzsociety.com
SUMMARY:Fridays with Frank
DESCRIPTION:Join renowned jazz historian and Jazz Haven Board member Frank Cochran for BYOB “Fridays with Frank.”  Happy Hour jazz listening sessions are held every Friday from 5:15 to 7:00 pm at the Institute Library in downtown New Haven.  Each Friday Frank selects iconic jazz LPs to play from the Library’s extensive collection.  Discussion follows.  BYOB and please give a modest donation towards the IL’s spiraling utilities. A $5.00 contribution is welcome. \nThis Friday\, December 12th\, Frank will feature the music of Lee Konitz. Between the 1940s and his death at 92 in 2020\, Konitz played with most everyone\, and made records with most. From the 1949 Birth of the cool\, a long though intermittent association with Lennie Tristano\, gigs with Gerry Mulligan\, Jimmy Giuffre\, Harold Danko in the 1980s\, and Warne Marsh in the 90s\, he was constantly showing up on LPs\, always with an intellectually relaxed sound like no one else. Even when Elvin Jones was the drummer. We’ve got a bunch of his records; you will\, Frank believes\, be in for a treat because there will be at least one you’ve never heard.
URL:https://hartfordjazzsociety.com/event/fridays-with-frank-2/
LOCATION:Institute Library\, 847 Chapel Street\, New Haven\, CT
END:VEVENT
BEGIN:VEVENT
DTSTART;TZID=America/New_York:20251212T193000
DTEND;TZID=America/New_York:20251212T213000
DTSTAMP:20260424T075721
CREATED:20251209T041620Z
LAST-MODIFIED:20251209T041620Z
UID:10007357-1765567800-1765575000@hartfordjazzsociety.com
SUMMARY:Yoko Miwa Trio
DESCRIPTION:Miwa performs with her trio featuring bassist Matt Stavrakas and drummer Scott Goulding. \nMiwa’s musicianship evokes the harmonic finesse and rhythmic brilliance of key influences like Bill Evans\, Keith Jarrett\, McCoy Tyner and Oscar Peterson. Her expansive\, versatile writing presents both a remarkable ear for melody and an earthy\, intuitive feel for groove. As a bandleader\, Miwa heads one of the finest jazz trios playing today. In his 4-star DownBeat review of Miwa’s 2019 release Keep Talkin’\, Carlo Wolff noted “the blend of intimacy and power this unusually gifted trio can muster.” \nInternationally acclaimed pianist/composer Yoko Miwa is one of the most powerful and compelling performers on the scene today. Her trio\, with its remarkable telepathy and infectious energy\, has brought audiences to their feet worldwide. Their 2021 release Songs of Joy received wide acclaim and reached #1 on national jazz radio charts. Jazziz called it “a radiant new collection.” Her 2019 CD\, Keep Talkin’\, showcases Miwa’s fine playing and artful compositions and the trio’s uncanny musical camaraderie. DownBeat gave the recording four stars\, calling it “a beautifully constructed album” and noting “the drive and lyricism of a pianist and composer at home in bebop\, gospel\, pop\, and classical.” For more than a decade Miwa’s trio has played regularly at major jazz clubs in their home city of Boston\, as well as venues around the world. A favorite of Jazz at Lincoln Center\, Miwa was chosen to play on “Marian McPartland & Friends\,” part of the Coca-Cola Generations in Jazz Festival. Miwa also appears regularly at New York’s famed Blue Note Jazz Club as well as Birdland and has performed and/or recorded with a wide range of jazz greats including Sheila Jordan\, Slide Hampton\, Arturo Sandoval\, George Garzone\, Jazzmeia Horn\, Jon Faddis\, Jerry Bergonzi\, esperanza spalding\, Terri Lyne Carrington\, Kevin Mahogany\, John Lockwood and Johnathan Blake\, among others.
URL:https://hartfordjazzsociety.com/event/yoko-miwa-trio/
LOCATION:Beekley Community Library\, 10 Central Avenue\, New Hartford\, CT
END:VEVENT
BEGIN:VEVENT
DTSTART;TZID=America/New_York:20251212T193000
DTEND;TZID=America/New_York:20251212T213000
DTSTAMP:20260424T075721
CREATED:20251209T042151Z
LAST-MODIFIED:20251209T042151Z
UID:10007358-1765567800-1765575000@hartfordjazzsociety.com
SUMMARY:Wesleyan Jazz Orchestra & Jazz Ensemble
DESCRIPTION:The Wesleyan University Jazz Orchestra\, directed by Professor of Music and African American Studies Jay Hoggard ’76\, MA ’91\, and the Wesleyan Jazz Ensemble\, directed by Noah Baerman\, present an exciting evening of classic and contemporary jazz repertoire. \nThis event will also be live-streamed on YouTube.
URL:https://hartfordjazzsociety.com/event/wesleyan-jazz-orchestra-jazz-ensemble/
LOCATION:Crowell Concert Hall – Wesleyan University\, 283 Washington St\, Middletown\, CT
END:VEVENT
BEGIN:VEVENT
DTSTART;TZID=America/New_York:20251212T200000
DTEND;TZID=America/New_York:20251212T223000
DTSTAMP:20260424T075721
CREATED:20251129T020840Z
LAST-MODIFIED:20251129T020840Z
UID:10007345-1765569600-1765578600@hartfordjazzsociety.com
SUMMARY:Ricky Ford Quartet
DESCRIPTION:Join us for a special night of jazz with Saxophonist Ricky Ford and his Quartet! \nRicky Ford – Tenor Saxophone \nJohn Kordalweski – Piano \nTony Marino – Bass \nThurman Barker – Drums \nAmerican jazz saxophonist Ricky Ford has played alongside Charles Mingus\, Sonny Rollins\, Lionel Hampton\, Benny Golson… \nRicky Ford\, Jazz Tenor saxophonist\, was born in Boston March 4th\, 1954. He studied saxophone at the New England Conservatory of Music with Joe Allard from 1970 to 1974. Bachelor in Music 83. In 1974 he recorded with Gunther Schuller. Perfomed with Sonny Rollins (1973) at The Jazz Workshop Boston. Ricky joined the Duke Ellington Orchestra under Mercer Ellington from 1974 to 1976. Charles Mingus (1976-1977)\, Dannie Richmond (1978-1981)\, Lionel Hampton (1981)\, Mingus Dinasty (1982)\, Abdullah Ibrahim 1985. He has recorded extensively as a leader for MUSE\, Candid and jazz Friends. \nHis discography is extensive having recorded with nearly every one in jazz Sonny Stitt\, Red Rodney\, Mc Coy Tyner\, Steve Lacy\, Ran Blake\, Pete Laroca\, Rhoda Scott\, Dannie Richmond\, Benny Golson\, Gerry Mulligan\, Nat Adderly Joe Williams\, Mal Waldron\, Yusef Latif and Betty Carter. Ricky also helped discover various musicians on his cds for Muse records Wallace Rooney\, Roy Hargove\, Christian Mc Bride\, Danilo Perez\, and Jeff Kezzer\, Ricky has held academic affiliations with Brandeis University Masters in Music Composition (1989) and Istanbul Bilgi University (2000 to 2006). He is credited with being one of important teacher to many saxophonists in Turkey today. \nIn 1991 he received the medal of Chevalier des Arts et des Lettres. \nRicky recorded two CDs with the ZE BIGBAND based in Rennes. He commissioned Benny Golson for a composition in Big Band format. They performed together on mezzo tv in 2014. \nRicky Ford has participated in numerous film : Choclate (1988) and No Fear No Die (1990). Ricky Ford Encore is a mid-career documentary by Lionel Boncompagnie.
URL:https://hartfordjazzsociety.com/event/ricky-ford-quartet/
LOCATION:Side Door Jazz Club\, 85 Lyme Street\, Old Lyme\, CT\, United States
END:VEVENT
END:VCALENDAR