BEGIN:VCALENDAR
VERSION:2.0
PRODID:-//Hartford Jazz Society - ECPv6.15.20//NONSGML v1.0//EN
CALSCALE:GREGORIAN
METHOD:PUBLISH
X-WR-CALNAME:Hartford Jazz Society
X-ORIGINAL-URL:https://hartfordjazzsociety.com
X-WR-CALDESC:Events for Hartford Jazz Society
REFRESH-INTERVAL;VALUE=DURATION:PT1H
X-Robots-Tag:noindex
X-PUBLISHED-TTL:PT1H
BEGIN:VTIMEZONE
TZID:America/New_York
BEGIN:DAYLIGHT
TZOFFSETFROM:-0500
TZOFFSETTO:-0400
TZNAME:EDT
DTSTART:20240310T070000
END:DAYLIGHT
BEGIN:STANDARD
TZOFFSETFROM:-0400
TZOFFSETTO:-0500
TZNAME:EST
DTSTART:20241103T060000
END:STANDARD
BEGIN:DAYLIGHT
TZOFFSETFROM:-0500
TZOFFSETTO:-0400
TZNAME:EDT
DTSTART:20250309T070000
END:DAYLIGHT
BEGIN:STANDARD
TZOFFSETFROM:-0400
TZOFFSETTO:-0500
TZNAME:EST
DTSTART:20251102T060000
END:STANDARD
BEGIN:DAYLIGHT
TZOFFSETFROM:-0500
TZOFFSETTO:-0400
TZNAME:EDT
DTSTART:20260308T070000
END:DAYLIGHT
BEGIN:STANDARD
TZOFFSETFROM:-0400
TZOFFSETTO:-0500
TZNAME:EST
DTSTART:20261101T060000
END:STANDARD
END:VTIMEZONE
BEGIN:VEVENT
DTSTART;TZID=America/New_York:20251217T190000
DTEND;TZID=America/New_York:20251217T210000
DTSTAMP:20260424T060133
CREATED:20251126T160616Z
LAST-MODIFIED:20251210T223340Z
UID:10007341-1765998000-1766005200@hartfordjazzsociety.com
SUMMARY:Allen Lowe & The All-Stars
DESCRIPTION:Acclaimed jazz saxophonist Allen Lowe leads the monthly Jazz Night at Best Video Film & Cultural Center. Allen Lowe & The All Stars consists of a coterie of musical guests including Gary Grippo on guitar\, Jeff Fuller on bass\, Barry Ries on drums and trumpet\, and Mark Kaplan on tenor sax.  Join them in a relaxed setting with tables and chairs to truly sit back\, relax\, and enjoy the great vibe. The BVCoffee Bar will be open for beer\, wine\, and café drinks. \nAllen Lowe is a composer\, saxophonist\, and music historian. He was voted Artist of the Year in the 2021 Jazz Times Readers’ Poll. He has recorded as a leader with: Julius Hemphill\, Gary Bartz\, Marc Ribot\, David Murray\, Nels Cline\, Matt Shipp\, Roswell Rudd\, Don Byron\, Doc Cheatham\, and others. \n“This fall\, the jazz composer\, saxophonist\, and music historian Allen Lowe released what I consider to be his magnum opus\, a four-cd set containing 69 tracks exploring almost every musical element and style that could be subsumed under the expansive rubric of “jazz.” One can hear elements of blues\, R&B\, bop\, funk\, rock\, punk\, avant guard\, and much more\, all beautifully composed and magnificently played (by Lowe himself and his colleagues). I’ve been digesting this music slowly\, gradually\, and repeatedly\, and it just sounds better with each listen. It’s Allen’s unequaled grasp of the entire history of American music that emerges in such idiosyncratic and creatively beautiful ways throughout this collection. I can’t think of anyone else who could have pulled off such a remarkably ambitious undertaking. He is a genius\, without question.” -Professor Jon Karp\, SUNY Binghamton
URL:https://hartfordjazzsociety.com/event/allen-lowe-the-all-stars-2/
LOCATION:Best Video Film and Cultural Center\, 1842 Whitney Ave\, Hamden\, CT
END:VEVENT
BEGIN:VEVENT
DTSTART;TZID=America/New_York:20251217T190000
DTEND;TZID=America/New_York:20251217T220000
DTSTAMP:20260424T060134
CREATED:20251202T143232Z
LAST-MODIFIED:20251202T143233Z
UID:10004620-1765998000-1766008800@hartfordjazzsociety.com
SUMMARY:Black Eyed Sally’s Jazz Jam - Rory Allen
DESCRIPTION:Located in downtown Hartford\, for the aficionado\, musician\, or the curious first-timer\, Black Eyed Sally’s Jazz Jams are the best taste of live jazz in Hartford. Set in the southern juke joint atmosphere of Black-eyed Sally’s\, these jam sessions will strike a chord as you hear what our local talent has to offer\, with regular special appearances by big city jazz names. Experience the cool original music of the jam session while you enjoy the hot fierce cookin’ of Hartford’s favorite BBQ joint. \nAfter a long hiatus due to the pandemic\, regularly scheduled jazz jams have returned to Black Eyed Sally’s every Wednesday. There will be a featured jazz ensemble followed by an open jam session. Bring your axe and be ready to jam! \nThe music begins at 7:00 PM\, jam session begins after 1st set. No cover charge most nights\, under 21’s welcome. \nPresented by the Hartford Jazz Society and Neefjazz Entertainment
URL:https://hartfordjazzsociety.com/event/black-eyed-sallys-jazz-jam-10-9-4/
LOCATION:Black-eyed Sally’s Southern Kitchen & Bar\, 350 Asylum St.\, Hartford\, CT\, 06103
END:VEVENT
BEGIN:VEVENT
DTSTART;TZID=America/New_York:20251217T200000
DTEND;TZID=America/New_York:20251217T220000
DTSTAMP:20260424T060134
CREATED:20251214T163722Z
LAST-MODIFIED:20251214T163722Z
UID:10007436-1766001600-1766008800@hartfordjazzsociety.com
SUMMARY:Jane Monheit
DESCRIPTION:Jane Monheit is a jazz and adult contemporary vocalist with a deep passion for the Great American Songbook. With many highly acclaimed solo albums\, countless awards and accolades\, and over two decades of international touring experience\, Jane has not only been an extremely successful bandleader\, but has had the privilege of making music with some of the greatest musicians\, arrangers\, and producers in jazz.
URL:https://hartfordjazzsociety.com/event/jane-monheit/
LOCATION:Infinity Hall – Norfolk\, Route 44\, Norfolk\, CT
END:VEVENT
END:VCALENDAR