BEGIN:VCALENDAR
VERSION:2.0
PRODID:-//Hartford Jazz Society - ECPv6.15.20//NONSGML v1.0//EN
CALSCALE:GREGORIAN
METHOD:PUBLISH
X-WR-CALNAME:Hartford Jazz Society
X-ORIGINAL-URL:https://hartfordjazzsociety.com
X-WR-CALDESC:Events for Hartford Jazz Society
REFRESH-INTERVAL;VALUE=DURATION:PT1H
X-Robots-Tag:noindex
X-PUBLISHED-TTL:PT1H
BEGIN:VTIMEZONE
TZID:America/New_York
BEGIN:DAYLIGHT
TZOFFSETFROM:-0500
TZOFFSETTO:-0400
TZNAME:EDT
DTSTART:20240310T070000
END:DAYLIGHT
BEGIN:STANDARD
TZOFFSETFROM:-0400
TZOFFSETTO:-0500
TZNAME:EST
DTSTART:20241103T060000
END:STANDARD
BEGIN:DAYLIGHT
TZOFFSETFROM:-0500
TZOFFSETTO:-0400
TZNAME:EDT
DTSTART:20250309T070000
END:DAYLIGHT
BEGIN:STANDARD
TZOFFSETFROM:-0400
TZOFFSETTO:-0500
TZNAME:EST
DTSTART:20251102T060000
END:STANDARD
BEGIN:DAYLIGHT
TZOFFSETFROM:-0500
TZOFFSETTO:-0400
TZNAME:EDT
DTSTART:20260308T070000
END:DAYLIGHT
BEGIN:STANDARD
TZOFFSETFROM:-0400
TZOFFSETTO:-0500
TZNAME:EST
DTSTART:20261101T060000
END:STANDARD
END:VTIMEZONE
BEGIN:VEVENT
DTSTART;TZID=America/New_York:20251220T160000
DTEND;TZID=America/New_York:20251220T190000
DTSTAMP:20260424T060157
CREATED:20251116T031948Z
LAST-MODIFIED:20251116T031948Z
UID:10007151-1766246400-1766257200@hartfordjazzsociety.com
SUMMARY:Jazz Jam at Cafe Nine
DESCRIPTION:Every Saturday\, 4-7
URL:https://hartfordjazzsociety.com/event/jazz-jam-at-cafe-nine-2/2025-12-20/
LOCATION:MA
END:VEVENT
BEGIN:VEVENT
DTSTART;TZID=America/New_York:20251220T183000
DTEND;TZID=America/New_York:20251220T203000
DTSTAMP:20260424T060157
CREATED:20251125T164028Z
LAST-MODIFIED:20251125T164028Z
UID:10007339-1766255400-1766262600@hartfordjazzsociety.com
SUMMARY:Holiday Jazz Show by Candlelight
DESCRIPTION:Step into an intimate\, softly lit room glowing with candlelight and Old Hollywood charm. Enjoy a complimentary glass of wine during the cocktail reception\, followed by a harvest cheese tray\, heavy appetizers\, and a dessert bar available all evening. \nRelax as the smooth\, soulful sounds of Fusion 88 fill the room with the perfect holiday jazz vibe. Featured Musicians\, Vocals Elden Lowery\, Bass Lionel Lee\, Saxophone Glen Winfree\, Drums Trevor Pitts\, Keyboard Jarreau Pitts. \nExtras: Cash bar available \nA classy\, cozy evening of music\, food\, and holiday magic. We can’t wait to see you there.
URL:https://hartfordjazzsociety.com/event/holiday-jazz-show-by-candlelight/
LOCATION:Naatiya Banquet Hall\, 8 Mountain Avenue\, Bloomfield\, CT\, 06002
END:VEVENT
BEGIN:VEVENT
DTSTART;TZID=America/New_York:20251220T200000
DTEND;TZID=America/New_York:20251220T220000
DTSTAMP:20260424T060158
CREATED:20251214T164506Z
LAST-MODIFIED:20251214T164506Z
UID:10007438-1766260800-1766268000@hartfordjazzsociety.com
SUMMARY:Big Bad Voodoo Daddy's Wild and Swingin' Holiday Party
DESCRIPTION:Since its formation in the early nineties in Ventura\, California\, the band has toured virtually nonstop\, performing on average over 150 shows a year\, and has produced a sizable catalog of recorded music\, with sales of over two million albums to date. Early on\, during their legendary residency at the Derby nightclub in Los Angeles\, they reminded the world\, in the midst of the Grunge era no less\, that it was still cool to swing. The band\, co-founded by singer Scotty Morris and drummer Kurt Sodergren\, was at the forefront of the swing revival of that time\, blending a vibrant fusion of the Classic American sounds of Jazz\, Swing\, and Dixieland\, with the energy and spirit of contemporary culture. \nAfter over 30 years\, 11 records\, over 3000 live shows\, and countless appearances in film and television\, Big Bad Voodoo Daddy is showing no signs of slowing down\, and is looking forward to sharing its music with new and old fans alike. \nWolf Den
URL:https://hartfordjazzsociety.com/event/big-bad-voodoo-daddys-wild-and-swingin-holiday-party/2025-12-20/
LOCATION:Mohegan Sun Casino\, 1 Mohegan Sun Blvd\, Uncasville\, CT
END:VEVENT
BEGIN:VEVENT
DTSTART;TZID=America/New_York:20251220T200000
DTEND;TZID=America/New_York:20251220T220000
DTSTAMP:20260424T060158
CREATED:20251214T164828Z
LAST-MODIFIED:20251214T164828Z
UID:10007439-1766260800-1766268000@hartfordjazzsociety.com
SUMMARY:Caravan of Thieves
DESCRIPTION:Inspired by the big band swing era\, Django Reinhardt and the Quintette du Hot Club de France\, absurd and macabre musical theater and early American folk music\, Caravan of Thieves took shape in the hearts and minds of Fuzz and Carrie\, the dynamic singing\, strumming and songwriting musical duo who formed the band in early 2008. They began by writing a handful of songs based on this concept and soon after\, filled out their sound with upright bass\, violin\, and an occasional accordion and any other willing participant they could recruit along the way. Caravan of Thieves was born. \nBy the end of their first year\, the Caravan began to gain recognition for their distinctive musical vision\, which inspired them to record and release their debut full-length album\, Bouquet (2009). So Fuzz and Carrie took their show and growing cast of characters on the road\, sharing stages with a variety of artists such as Emmylou Harris\, Dan Hicks\, The Decemberists\, Keb Mo\, Tom Tom Club\, Iron and Wine\, Shemekia Copeland\, Punch Brothers\, Robert Cray\, John Jorgenson and many others. They successfully connected with audiences on each of these diverse bills\, proving their act to be appreciated by folk\, pop\, rock and jazz audiences of all ages. \nA few albums and a few hundred thousand miles later\, Fuzz and Carrie eventually reached a comfortable stride embracing their roles as show and album producers\, songwriters and arrangers. They released Mischief Night (2010)\, The Funhouse (2012) and Kiss Kiss (2015)\, produced the shows and tours to follow\, and continued to introduce a greater blend of styles\, instrumentation and musical guests with each new album and tour. As a result\, the live performance now covers a wide dynamic range and appeal with each show flowing seamlessly from intimate acoustic duets to entertaining and exciting junk percussion jams to big audience stomp\, clap and sing alongs\, all while maintaining their spontaneous “street performance brought to the stage” mentality they developed in their early days of performing together. \nAccording to Fuzz and Carrie\, “We’re driven to consistently entertain our audience\, in concert and on our studio recordings\, which lends to building a community of listeners who can be involved in our show and our creative process in some way\, as well as a variety of artists who we can share our vision with. These elements allow our band and our music to be alive\, have a soul.” \n“We are always attempting to write that song that was mistakenly left out of the book of standards”\, Fuzz and Carrie explain. “But the challenge for us lies in covering topics that most listeners can relate to while taking them to the edges of their imaginations by both lyrically and musically using as many vibrant images as we can to illustrate the story.” \nOver the past fifteen years and throughout several countries\, the Caravan of Thieves have developed a loyal family of “Freaks”\, a moniker both the band and their followers willingly and affectionately refer to themselves as. During that time\, Fuzz and Carrie’s ever expanding community of musicians\, artists and fans have allowed their dream to live through each triumph and hurdle\, and with each performance\, each interaction and each new moment adding another layer of color to their story.
URL:https://hartfordjazzsociety.com/event/caravan-of-thieves/
LOCATION:StageOne at Fairfield Theatre Company\, 70 Sanford Street\, Fairfield\, CT\, 06824
END:VEVENT
BEGIN:VEVENT
DTSTART;TZID=America/New_York:20251220T200000
DTEND;TZID=America/New_York:20251220T223000
DTSTAMP:20260424T060158
CREATED:20251129T022156Z
LAST-MODIFIED:20251129T022156Z
UID:10007349-1766260800-1766269800@hartfordjazzsociety.com
SUMMARY:Eddie Allen's Jazzy Brass for the Holidays
DESCRIPTION:Join us for a special night of jazz with Trumpeter Eddie Allen and his band\, which will be spreading the Holiday Cheer! \nEddie Allen – Trumpet \nMark McGowan – Trumpet \nAmie Amis – French Horn \nJerrick Matthews – Trombone \nOscar Perez – Piano \nRichie Goods – Bass \nJerome Jennings – Drums \n– CRITIC’S REVIEW – \nA smart holiday set that might have some fat playing but certainly doesn’t show any schmaltz- Chris Spector Midwest Record \nNew Yorker Eddie Allen has assembled a sassy brass quartet (plus acoustic bass and some percussion)\, generating white heat and a slow burn for the holidays. ChristmasReviews.com–Carol Swanson \nTrumpeter Allen has conviction in what he’s doing. Refusing to stoop to weak sentiment\, he communicates his sense of uplift when refurbishing “We Three Kings”\, “O Holy Night” and a dozen more classics. –Downbeat Magazine Frank Hadley \nHere\, Allen has chosen to go the jazzy route from the outset on the pop material. For the carols\, he makes use of the brass quartet to state the melody\, but then allows the individual horn players to follow their improvisational imagination. It makes for an interesting mix that is a pleasant and lively change of pace from most jazz Christmas albums. –Jersey Jazz Joe Lang
URL:https://hartfordjazzsociety.com/event/eddie-allens-jazzy-brass-for-the-holidays/
LOCATION:Side Door Jazz Club\, 85 Lyme Street\, Old Lyme\, CT\, United States
END:VEVENT
BEGIN:VEVENT
DTSTART;TZID=America/New_York:20251220T203000
DTEND;TZID=America/New_York:20251220T233000
DTSTAMP:20260424T060158
CREATED:20251124T011329Z
LAST-MODIFIED:20251202T173852Z
UID:10007338-1766262600-1766273400@hartfordjazzsociety.com
SUMMARY:The Tricycle Trick + Conduction XX New Haven 2025
DESCRIPTION:8:30 The Tricycle Trick (Knox Chandler\, Bob Gorry\, Peter Riccio)\n10:00 Conduction XX New Haven 2025 (For Butch Morris)\n\nThe New Haven Improvisers Collective celebrates the 20th anniversary of the first NHIC performance at the recently opened Firehouse 12.  In 2005\, Lawrence D. “Butch” Morris led the New Haven Improvisers collective for two sold out shows of new music based on his trademark Conduction system. It helped launch NHIC and Firehouse12 into the New Haven institutions they are today. \nConduction XX New Haven 2025\nBob Gorry will lead this new group of CT music luminaries\, featuring a few from the original performance. Musicians include Stephen Haynes\, Jeff Cedrone\, Brian Slattery\,  Diane Buettner\, Michael Larocca\, Dan O’Brien\, and Brett Bottomley\, Vance Provey\, and Chris Morrison.   https://www.conduction.us/ \nThe Tricycle Trick opens the evening\, offering compelling new music with Soundribbons electronic processed bass\, guitar\, and drums.  It features Knox Chandler (Psychedelic Furs\, Siouxsie and the Banshees\, The Golden Palominos\, Cyndi Lauper)\,  Bob Gorry (Roundhouse Quartet\, GoBruCcio\, Truth Ensemble) and Peter Riccio (Sawtelles\, GoBruCcio\, Void Kittens). \nKnox Chandler’s career has spanned over four decades\, including long stints as a member of The Psychedelic Furs\, Siouxsie and the Banshees\, and the Cyndi Lauper band\, as well as extraordinary experiences in recording and performing live around the world on guitar\, bass\, and cello. Knox spent a decade residing in Berlin\, Germany\, while he explored sound-scaping. He developed a technique he calls “Soundribbons”\, which he recorded and performed in its own right as well as applying it to different genres and mediums. He composed\, recorded\, toured\, produced\, and wrote string arrangements for Herbert Grönemeyer\, Jesper Munk\, Pure Reason Revolution\, The Still\, TAU\, Miss Kenichi and the Sun\, Mars William’s Albert Ayler Xmas\, Rita Redshoes\, Them There\, The Night\, etc. \nBob Gorry is a guitarist/composer/bandleader living in and working out of New Haven\, CT where he curates the NHIC New Music series and leads the New Haven Improvisers Collective\, a group he founded that is now celebrating 20 years. Other current working bands include GoBruCcio\, The Light Upon Blight Ensemble\, RHINOCH\, and The Roundhouse Quartet. He has performed and recorded with Joe Morris\, Stephen Haynes\, Butch Morris\, Vance Provey\, Allen Lowe\, Greg Bendian\, Albee Balgochian\, Adam Matlock\, Brett Bottomley\, Michael Larocca\, and many more. \nPeter Riccio acquired his first set of drums at the age of eight and has been involved in a constant stream of diverse performing groups and configurations ever since (indie rock\, punk\, jazz\, new music\, etc). He studied jazz drums at Berklee College of Music along the way. He has played in punk\, indie rock\, and jazz groups. Peter also plays rhythm guitar\, sings\, and writes songs for the Sawtelles and plays drums with Lys Guillorn’s Void Kittens.
URL:https://hartfordjazzsociety.com/event/conduction-2025-new-haven-the-tricycle-trick/
LOCATION:Firehouse 12\, 45 Crown Street\, New Haven\, CT
END:VEVENT
END:VCALENDAR