BEGIN:VCALENDAR
VERSION:2.0
PRODID:-//Hartford Jazz Society - ECPv6.15.20//NONSGML v1.0//EN
CALSCALE:GREGORIAN
METHOD:PUBLISH
X-ORIGINAL-URL:https://hartfordjazzsociety.com
X-WR-CALDESC:Events for Hartford Jazz Society
REFRESH-INTERVAL;VALUE=DURATION:PT1H
X-Robots-Tag:noindex
X-PUBLISHED-TTL:PT1H
BEGIN:VTIMEZONE
TZID:America/New_York
BEGIN:DAYLIGHT
TZOFFSETFROM:-0500
TZOFFSETTO:-0400
TZNAME:EDT
DTSTART:20240310T070000
END:DAYLIGHT
BEGIN:STANDARD
TZOFFSETFROM:-0400
TZOFFSETTO:-0500
TZNAME:EST
DTSTART:20241103T060000
END:STANDARD
BEGIN:DAYLIGHT
TZOFFSETFROM:-0500
TZOFFSETTO:-0400
TZNAME:EDT
DTSTART:20250309T070000
END:DAYLIGHT
BEGIN:STANDARD
TZOFFSETFROM:-0400
TZOFFSETTO:-0500
TZNAME:EST
DTSTART:20251102T060000
END:STANDARD
BEGIN:DAYLIGHT
TZOFFSETFROM:-0500
TZOFFSETTO:-0400
TZNAME:EDT
DTSTART:20260308T070000
END:DAYLIGHT
BEGIN:STANDARD
TZOFFSETFROM:-0400
TZOFFSETTO:-0500
TZNAME:EST
DTSTART:20261101T060000
END:STANDARD
END:VTIMEZONE
BEGIN:VEVENT
DTSTART;TZID=America/New_York:20251227T160000
DTEND;TZID=America/New_York:20251227T190000
DTSTAMP:20260424T060338
CREATED:20251116T031948Z
LAST-MODIFIED:20251116T031948Z
UID:10007152-1766851200-1766862000@hartfordjazzsociety.com
SUMMARY:Jazz Jam at Cafe Nine
DESCRIPTION:Every Saturday\, 4-7
URL:https://hartfordjazzsociety.com/event/jazz-jam-at-cafe-nine-2/2025-12-27/
LOCATION:MA
END:VEVENT
BEGIN:VEVENT
DTSTART;TZID=America/New_York:20251227T180000
DTEND;TZID=America/New_York:20251227T210000
DTSTAMP:20260424T060338
CREATED:20251116T033609Z
LAST-MODIFIED:20251116T033611Z
UID:10004560-1766858400-1766869200@hartfordjazzsociety.com
SUMMARY:Bob Ahern Quartet
DESCRIPTION:The Bob Ahern Quartet featuring drummer Bob Ahern will be performing the last Saturday of every month for 2025 at the legendary Lighthouse Inn in New London. Each month\, Bob features a different Jazz celebrity. Great jazz venue and restaurant.
URL:https://hartfordjazzsociety.com/event/bob-ahern-quartet-2-2/
LOCATION:Lighthouse Inn\, 6 Guthrie Pl\, New London\, CT
END:VEVENT
BEGIN:VEVENT
DTSTART;TZID=America/New_York:20251227T200000
DTEND;TZID=America/New_York:20251227T223000
DTSTAMP:20260424T060338
CREATED:20251129T022725Z
LAST-MODIFIED:20251129T022725Z
UID:10007351-1766865600-1766874600@hartfordjazzsociety.com
SUMMARY:Nat Reeves Trio w/ Jordan Williams & Jeff "Tain" Watts
DESCRIPTION:Join us for a special night of jazz with Bassist Nat Reeves and his Trio! \nNat Reeves – Bass \nJordan Williams – Piano \nJeff “Tain” Watts – Drums \nFor over 40 years\, Nat Reeves has been one of the top bassists in jazz. His supportive and stimulating playing has uplifted a countless number of sessions and recording dates (most notably with the great altoists Jackie McLean and Kenny Garrett). He has lead his own CDs State of Emergency and Blue Ridge. Both as a performer and an educator\, he has made a strong impact on the jazz world. \nNat Reeves was born and raised in Lynchburg\, Virginia. “My grandfather played the banjo\, mandolin and guitar. One day I picked up his guitar and started playing the bass part. He noticed and\, for my 16th birthday\, he bought me an electric bass.” Nat had grown up hearing bluegrass\, rock and soul records but did not get an opportunity to listen to jazz until he was already a bassist. “As a teenager\, I listened closely to the radio\, learning everything by ear. Originally I gravitated towards soul artists such as Marvin Gaye and the music of the time. In high school\, I worked for a time with a band called the Dynatones. We learned all of the top 40 songs as soon as they came out. Whenever a new hit record was released\, we would purchase the recording\, go in the basement\, put it on the turntable\, and learn the song. Quite often the same day we would play the song for dances.” \nNat admired Stanley Clarke\, Jaco Pastorius and all of the top electric bassists of the time\, being interested in all of the styles. “As a bassist it is my function to concentrate on the foundation of the band and make everybody else sound good. To become a better bass player and learn more about the instrument\, I started listening to jazz. In jazz there is much more freedom to create one’s own bass part and to develop my own bass sound. It is my job to always learn and not merely play the bass but be a bass player\, projecting more than just my notes and always sounding fresh and alive.” \nWhen he was 22 and living in Richmond\, Virginia\, Nat joined a band led by trumpeter Tom Mitchell and guitarist Randy Johnston. Johnny Coles\, trumpeter for Ray Charles who frequently sat in with the band\, convinced Nat to switch to acoustic bass. Without taking a lesson\, Nat taught himself the new instrument and quickly developed his own individual voice. \nIn 1979\, Nat Reeves moved to New York City. “I listened\, played on the streets\, listened some more\, and learned. It was at the same time that Kenny Garrett\, Mulgrew Miller\, Tony Reedus and James Williams also came to New York. We were all friends and played together.” He first toured with Sonny Stitt in 1982 during what would be the great saxophonist’s last tour. That year he met Jackie McLean\, who became his mentor.
URL:https://hartfordjazzsociety.com/event/nat-reeves-trio-w-jordan-williams-jeff-tain-watts/
LOCATION:Side Door Jazz Club\, 85 Lyme Street\, Old Lyme\, CT\, United States
END:VEVENT
END:VCALENDAR