BEGIN:VCALENDAR
VERSION:2.0
PRODID:-//Hartford Jazz Society - ECPv6.15.20//NONSGML v1.0//EN
CALSCALE:GREGORIAN
METHOD:PUBLISH
X-ORIGINAL-URL:https://hartfordjazzsociety.com
X-WR-CALDESC:Events for Hartford Jazz Society
REFRESH-INTERVAL;VALUE=DURATION:PT1H
X-Robots-Tag:noindex
X-PUBLISHED-TTL:PT1H
BEGIN:VTIMEZONE
TZID:America/New_York
BEGIN:DAYLIGHT
TZOFFSETFROM:-0500
TZOFFSETTO:-0400
TZNAME:EDT
DTSTART:20250309T070000
END:DAYLIGHT
BEGIN:STANDARD
TZOFFSETFROM:-0400
TZOFFSETTO:-0500
TZNAME:EST
DTSTART:20251102T060000
END:STANDARD
BEGIN:DAYLIGHT
TZOFFSETFROM:-0500
TZOFFSETTO:-0400
TZNAME:EDT
DTSTART:20260308T070000
END:DAYLIGHT
BEGIN:STANDARD
TZOFFSETFROM:-0400
TZOFFSETTO:-0500
TZNAME:EST
DTSTART:20261101T060000
END:STANDARD
BEGIN:DAYLIGHT
TZOFFSETFROM:-0500
TZOFFSETTO:-0400
TZNAME:EDT
DTSTART:20270314T070000
END:DAYLIGHT
BEGIN:STANDARD
TZOFFSETFROM:-0400
TZOFFSETTO:-0500
TZNAME:EST
DTSTART:20271107T060000
END:STANDARD
END:VTIMEZONE
BEGIN:VEVENT
DTSTART;TZID=America/New_York:20260110T150000
DTEND;TZID=America/New_York:20260110T170000
DTSTAMP:20260424T055301
CREATED:20251222T023727Z
LAST-MODIFIED:20251222T023727Z
UID:10007496-1768057200-1768064400@hartfordjazzsociety.com
SUMMARY:Valley Jazz Voices
DESCRIPTION:Valley Jazz Voices\, the Pioneer Valley’s longest-running community jazz vocal ensemble\, will present a winter concert at the BOMBYX Center for Arts & Equity. The program features selections from the Great American Songbook organized around themes of the sun\, the moon\, the weather and love\, all arranged and sung in the group’s signature four‑part jazz harmonies. The singers will be accompanied by a jazz trio led by pianist Dylan Walter\, with Wes Brown on bass and Dillon Pinard on drums.\n \nDirected by Jeff Olmsted and founded in 2014\, Valley Jazz Voices performs swing\, bebop\, cool\, Brazilian and pop‑inspired jazz arrangements and highlights local vocal talent and community musicianship. The concert is a family‑friendly matinee that offers familiar standards presented with fresh arrangements and warm ensemble sound. \nTickets are $20 in advance or at the door; children under 12 are free. Learn more about Valley Jazz Voices at https://www.valleyjazzvoices.org/about or on YouTube at @valleyjazzvoices8965 or on Facebook @valleyjazzvoices
URL:https://hartfordjazzsociety.com/event/valley-jazz-voices/
LOCATION:Bombyx Center for Arts and Equity\, 130 Pine Street\, Northampton\, MA
END:VEVENT
BEGIN:VEVENT
DTSTART;TZID=America/New_York:20260110T160000
DTEND;TZID=America/New_York:20260110T190000
DTSTAMP:20260424T055301
CREATED:20251116T031948Z
LAST-MODIFIED:20251116T031948Z
UID:10007154-1768060800-1768071600@hartfordjazzsociety.com
SUMMARY:Jazz Jam at Cafe Nine
DESCRIPTION:Every Saturday\, 4-7
URL:https://hartfordjazzsociety.com/event/jazz-jam-at-cafe-nine-2/2026-01-10/
LOCATION:MA
END:VEVENT
BEGIN:VEVENT
DTSTART;TZID=America/New_York:20260110T193000
DTEND;TZID=America/New_York:20260110T213000
DTSTAMP:20260424T055301
CREATED:20251225T044726Z
LAST-MODIFIED:20251225T044726Z
UID:10007498-1768073400-1768080600@hartfordjazzsociety.com
SUMMARY:Vinny Golia Trio
DESCRIPTION:Vinny Golia (reeds)\, Ken Filiano (bass)\, Michael TA Thompson (drums) \nVinny Golia is a composer who fuses the rich heritage of Jazz\, contemporary classical and world music into his own unique compositions. As a bandleader\, Golia has presented his music to concert audiences in Europe\, Canada\, Mexico\, Japan and the United States in ensembles varying dramatically in size and instrumentation. \nMr. Golia has won numerous awards as a composer\, including grants from the National Endowment of the Arts\, The Lila Wallace Commissioning Program\, The California Arts Council\, Meet the Composer\, Clausen Foundation of the Arts\, Funds for U.S. Artists and the American Composers Forum. In 1982 he created the on-going 37-piece Vinny Golia Large Ensemble to perform his compositions for chamber group and jazz orchestra. \nA multi-woodwind performer\, Vinny’s recordings have been consistently picked by critics and readers of music journals for their yearly “ten best” lists. In 1990 he was the winner of the Jazz Times TDWR award for Bass Saxophone. In 1998 he ranked 1st in the Cadence Magazine Writers & Readers Poll and has continually placed in the Downbeat Critic’s Poll for Baritone Saxophone. In 1999 Vinny won the LA Weekly’s Award for “Best Jazz Musician.” \nJazziz Magazine has also named him as one of the 100 people who have influenced the course of Jazz in our Century. Golia has also contributed original compositions and scores to Ballet and Modern Dance works\, video\, theatrical productions\, and film. As an educator Vinny has lectured on music & painting composition\, improvisation\, Jazz History\, The History of Music in Film\, CD & record manufacturing and self-production throughout the United States\, Europe and Canada. \nHe currently teaches at CalArts. In 1998 Golia was appointed Regent’s Lecturer at the University of California at San Diego. \nVinny has been a featured performer with Anthony Braxton\, Henry Grimes\, John Carter\, Bobby Bradford\, Joelle Leandre\, Leo Smith\, Horace Tapscott\, John Zorn\, Tim Berne\, Bertram Turetzky\, George Lewis\, Barre Phillips\, The Rova Saxophone Quartet\, Patti Smith\, Harry “the Hipster” Gibson\, Eugene Chadburne\, Kevin Ayers\, Peter Kowald\, John Bergamo\, George Gruntz Concert Jazz Band\, Misha Mengelberg\, Han Bennick\, Lydia Lunch\, Harry Sparrney and the Los Angeles Philharmonic Orchestra amongst many others.
URL:https://hartfordjazzsociety.com/event/vinny-golia-trio/
LOCATION:The Parlor Room\, 32 Masonic St.\, Northampton\, MA
END:VEVENT
BEGIN:VEVENT
DTSTART;TZID=America/New_York:20260110T200000
DTEND;TZID=America/New_York:20260110T223000
DTSTAMP:20260424T055301
CREATED:20251229T155131Z
LAST-MODIFIED:20251229T155155Z
UID:10007505-1768075200-1768084200@hartfordjazzsociety.com
SUMMARY:Boss Baritones Ft Gary Smulyan & Frank Basile
DESCRIPTION:Gary Smulyan – Baritone Saxophone \nFrank Basile – Baritone Saxophone \nSteve Ash – Piano \nMike Karn – Bass \nJason Tiemann – Drums \nInspired by the rich history of the great 2-tenor pairings in jazz (think Lester Young & Herschel Evans\, Gene Ammons & Sonny Stitt\, Lockjaw Davis & Johnny Griffin\, and Al Cohn & Zoot Sims)\, the Boss Baritones continue this tradition\, but with the pairing of the tenor saxophone’s lower pitched baritone brethren.​ \nSo who are these “Boss Baritones?” Locking horns in the front line are two of today’s finest exponents and practitioners of the baritone saxophone in jazz: Gary Smulyan and Frank Basile.​ \nGary Smulyan has been steadily polishing his craft for over 40 years and is all but unanimously regarded as today’s leading baritone saxophonist. Since filling the baritone chair in Woody Herman’s Young Thundering Herd in 1978\, Smulyan has gone on to perform with virtually every important name in jazz since. A sampling of this lofty company includes the Mel Lewis Jazz Orchestra\, the Gene Harris Superband\, B.B. King\, Joe Henderson\, Freddie Hubbard\, Michel Camilo\, the Carnegie Hall Jazz Band\, Cedar Walton\, Joe Lovano\, George Coleman\, the Mingus Big Band\, and Dave Holland. A favorite of critics and peers alike\, Smulyan has consistently topped polls in Downbeat\, Jazz Times\, and with the Jazz Journalists Association for the past two decades. Smulyan is a 6-time Grammy winner. \nFrank Basile made his way on to the New York scene in 2001 after his studies at the University of North Texas and a brief stint at the Juilliard School. He has since forged his own path following in the footsteps of his mentors such as Smulyan. Dubbed a “prized sideman” by The New Yorker\, Basile has been called upon to perform with the Vanguard Jazz Orchestra\, the Dizzy Gillespie All-Star Big Band\, the Jimmy Heath Big Band\, the Bob Mintzer Big Band\, the Jon Faddis Jazz Orchestra\, the Christian McBride Big Band\, the Count Basie Orchestra\, and the Duke Ellington Orchestra. As a “rising star\,” Basile has consistently appeared in the Downbeat critic’s poll since 2014. \nThe Boss Baritones made their debut the weekend of March 6-7\, 2020 at Smalls Jazz Club in New York City. This was an auspicious start for the band\, but one week later\, the Coronavirus pandemic would officially put it all on hold. Since the easing of restrictions and the return of normal aspects to life\, the Boss Baritones have been regaining their momentum with performances in the New York City area (including numerous return engagements at Smalls) as well as their eponymous debut recording on Steeplechase Records.
URL:https://hartfordjazzsociety.com/event/boss-baritones-ft-gary-smulyan-and-frank-basile/
LOCATION:Side Door Jazz Club\, 85 Lyme Street\, Old Lyme\, CT\, United States
END:VEVENT
END:VCALENDAR