BEGIN:VCALENDAR
VERSION:2.0
PRODID:-//Hartford Jazz Society - ECPv6.15.20//NONSGML v1.0//EN
CALSCALE:GREGORIAN
METHOD:PUBLISH
X-WR-CALNAME:Hartford Jazz Society
X-ORIGINAL-URL:https://hartfordjazzsociety.com
X-WR-CALDESC:Events for Hartford Jazz Society
REFRESH-INTERVAL;VALUE=DURATION:PT1H
X-Robots-Tag:noindex
X-PUBLISHED-TTL:PT1H
BEGIN:VTIMEZONE
TZID:America/New_York
BEGIN:DAYLIGHT
TZOFFSETFROM:-0500
TZOFFSETTO:-0400
TZNAME:EDT
DTSTART:20250309T070000
END:DAYLIGHT
BEGIN:STANDARD
TZOFFSETFROM:-0400
TZOFFSETTO:-0500
TZNAME:EST
DTSTART:20251102T060000
END:STANDARD
BEGIN:DAYLIGHT
TZOFFSETFROM:-0500
TZOFFSETTO:-0400
TZNAME:EDT
DTSTART:20260308T070000
END:DAYLIGHT
BEGIN:STANDARD
TZOFFSETFROM:-0400
TZOFFSETTO:-0500
TZNAME:EST
DTSTART:20261101T060000
END:STANDARD
BEGIN:DAYLIGHT
TZOFFSETFROM:-0500
TZOFFSETTO:-0400
TZNAME:EDT
DTSTART:20270314T070000
END:DAYLIGHT
BEGIN:STANDARD
TZOFFSETFROM:-0400
TZOFFSETTO:-0500
TZNAME:EST
DTSTART:20271107T060000
END:STANDARD
END:VTIMEZONE
BEGIN:VEVENT
DTSTART;TZID=America/New_York:20260117T160000
DTEND;TZID=America/New_York:20260117T190000
DTSTAMP:20260424T042217
CREATED:20251116T031948Z
LAST-MODIFIED:20251116T031948Z
UID:10007155-1768665600-1768676400@hartfordjazzsociety.com
SUMMARY:Jazz Jam at Cafe Nine
DESCRIPTION:Every Saturday\, 4-7
URL:https://hartfordjazzsociety.com/event/jazz-jam-at-cafe-nine-2/2026-01-17/
LOCATION:MA
END:VEVENT
BEGIN:VEVENT
DTSTART;TZID=America/New_York:20260117T193000
DTEND;TZID=America/New_York:20260117T220000
DTSTAMP:20260424T042217
CREATED:20251230T024919Z
LAST-MODIFIED:20251230T025346Z
UID:10007513-1768678200-1768687200@hartfordjazzsociety.com
SUMMARY:Zaccai Curtis Quintet - Cubop Lives! (livestream & in-person)
DESCRIPTION:Grammy Award–winning pianist Zaccai Curtis brings his celebrated Latin jazz quintet Cubop Lives! to the Vermont Jazz Center. Featuring piano\, bass\, and three master percussionists\, the ensemble blends Afro-Cuban rhythms with the harmonic language of bebop. Curtis performs with the same group that recorded the Grammy-winning album Cubop Lives!. Tickets are $25+ (sliding scale) and available at vtjazz.org or by phone at 802-254-9088 x1. \nZaccai Curtis: Piano\nLuques Curtis: Bass\nWillie Martinez: Timbales\nCamilo Molina: Congas/Pandero\nReinaldo De Jesus: Bongos/Percussion \nLIVESTREAMS: Showing Your Support From Home\nLivestreams of the in-person events can be found at www.vtjazz.org and Facebook Live. We ask that you make a tax-deductible donation in lieu of purchasing tickets. Your donation will go directly towards supporting the costs of providing world-class music and educational programs at the VJC. A ticket to the event is valued at $55-$60. \nIN-PERSON: Sliding Scale Policy and Description of Ticket Prices\nWe feel that good music should be available to all\, and that is why we have a sliding scale policy. The cost of production for a concert is from $55 to $60 a seat. In order to keep jazz accessible\, we start our ticket price at $25. We have kept our base ticket price at a subsidized level\, but are grateful to know that many listeners choose to purchase tickets at the actual cost of production. No matter what you choose\, we are grateful for your support and interest in live music. We look forward to seeing you at the next concert!
URL:https://hartfordjazzsociety.com/event/zaccai-curtis-quintet-cubop-lives-livestream-in-person/
LOCATION:Vermont Jazz Center\, 72 Cotton Mill Hill #222\, Brattleboro\, VT\, 05301
END:VEVENT
BEGIN:VEVENT
DTSTART;TZID=America/New_York:20260117T200000
DTEND;TZID=America/New_York:20260117T223000
DTSTAMP:20260424T042217
CREATED:20251229T160037Z
LAST-MODIFIED:20251229T160037Z
UID:10007508-1768680000-1768689000@hartfordjazzsociety.com
SUMMARY:Pat Bianchi Trio
DESCRIPTION:Pat Bianchi – Organ \nTroy Roberts – Saxophone \nColin Stranahan – Drums \nGrammy nominated organist Pat Bianchi has established himself as one of the premier organists on the international scene today. Bianchi is the winner of Downbeat Magazine’s 2016 rising star poll\, Hot House 2019 poll and nominee of the 2024 Jazz Journalists Association as Keyboardist of the year. Known for fearlessly taking the jazz organ into new and exciting directions\, Pat’s playing blends tradition with forward-thinking creativity\, drawing inspiration from legends like Dr. Lonnie Smith and Joey DeFrancesco. With a career that includes touring with Steely Dan\, performing alongside icons like Pat Martino and Lou Donaldson\, and leading his own acclaimed trio\, Pat’s artistry is unmatched! \nJoining Bianchi is three-time GRAMMY nominated saxophonist\, Troy Roberts who is quickly becoming one of the most widely recorded touring artists of his time. As a go-to first call saxophonist\, his name adorns several essential recordings ranging from the legendary Joey DeFrancesco\, to Van Morrison\, Jeff “Tain” Watts\, Kurt Elling and Veronica Swift as well as numerous others. Drummer Colin Stranahan was one of the winners of the 2012 Thelonious Monk Drum Competition. Colin is among the most sought-after drummers in the world having worked with such artist as Kurt Rosenwinkel\, Jonathan Kreisberg\, Dr. Lonnie Smith\, Fred Hersch\, Terence Blanchard\, Dave Kikoski\, Kevin Hays\, Herbie Hancock\, Wayne Shorter and many others. \nBianchi\, Roberts and Stranahan have defined their voices as individual artists and when they come together\, the musical result sets this group apart from most\, if not all of the organ trios on the scene today.
URL:https://hartfordjazzsociety.com/event/pat-bianchi-trio/
LOCATION:Side Door Jazz Club\, 85 Lyme Street\, Old Lyme\, CT\, United States
END:VEVENT
BEGIN:VEVENT
DTSTART;TZID=America/New_York:20260117T210000
DTEND;TZID=America/New_York:20260117T230000
DTSTAMP:20260424T042217
CREATED:20251130T204756Z
LAST-MODIFIED:20251130T204756Z
UID:10007354-1768683600-1768690800@hartfordjazzsociety.com
SUMMARY:Mark Kaplan Quartet
DESCRIPTION:The Mark Kaplan Quartet is an established luminary on the local and regional jazz scene. Mark Kaplan\, tenor saxophone; Martin Carter\, piano; Adam Anderson\, bass; and John Rispoli\, drums.
URL:https://hartfordjazzsociety.com/event/mark-kaplan-quartet/
LOCATION:Buttonwood Tree Performing Arts Center\, 605 Main Street\, Middletown\, CT\, United States
END:VEVENT
END:VCALENDAR