BEGIN:VCALENDAR
VERSION:2.0
PRODID:-//Hartford Jazz Society - ECPv6.15.20//NONSGML v1.0//EN
CALSCALE:GREGORIAN
METHOD:PUBLISH
X-WR-CALNAME:Hartford Jazz Society
X-ORIGINAL-URL:https://hartfordjazzsociety.com
X-WR-CALDESC:Events for Hartford Jazz Society
REFRESH-INTERVAL;VALUE=DURATION:PT1H
X-Robots-Tag:noindex
X-PUBLISHED-TTL:PT1H
BEGIN:VTIMEZONE
TZID:America/New_York
BEGIN:DAYLIGHT
TZOFFSETFROM:-0500
TZOFFSETTO:-0400
TZNAME:EDT
DTSTART:20250309T070000
END:DAYLIGHT
BEGIN:STANDARD
TZOFFSETFROM:-0400
TZOFFSETTO:-0500
TZNAME:EST
DTSTART:20251102T060000
END:STANDARD
BEGIN:DAYLIGHT
TZOFFSETFROM:-0500
TZOFFSETTO:-0400
TZNAME:EDT
DTSTART:20260308T070000
END:DAYLIGHT
BEGIN:STANDARD
TZOFFSETFROM:-0400
TZOFFSETTO:-0500
TZNAME:EST
DTSTART:20261101T060000
END:STANDARD
BEGIN:DAYLIGHT
TZOFFSETFROM:-0500
TZOFFSETTO:-0400
TZNAME:EDT
DTSTART:20270314T070000
END:DAYLIGHT
BEGIN:STANDARD
TZOFFSETFROM:-0400
TZOFFSETTO:-0500
TZNAME:EST
DTSTART:20271107T060000
END:STANDARD
END:VTIMEZONE
BEGIN:VEVENT
DTSTART;TZID=America/New_York:20260118T120000
DTEND;TZID=America/New_York:20260118T150000
DTSTAMP:20260424T042215
CREATED:20251030T031459Z
LAST-MODIFIED:20251030T031505Z
UID:10006981-1768737600-1768748400@hartfordjazzsociety.com
SUMMARY:Dr. G’s Jazz Brunch
DESCRIPTION:Dr. G’s Jazz Brunch held on the 1st\, 3rd & 5th Sundays from 12pm (noon) until 3pm at Quattro’s Italian Restaurant:\n\n\n\nAll events will also include jazz masters Jeff Fuller on bass and Barry Ries on drums &/or trumpet. “Dr. G” will provide guitar accompaniment.
URL:https://hartfordjazzsociety.com/event/dr-gs-jazz-brunch-2-2/2026-01-18/
LOCATION:Quattro’s Italian Restaurant & Wine Bar\, 14 Water Street\, Guilford\, CT
END:VEVENT
BEGIN:VEVENT
DTSTART;TZID=America/New_York:20260118T143000
DTEND;TZID=America/New_York:20260118T163000
DTSTAMP:20260424T042215
CREATED:20251202T203228Z
LAST-MODIFIED:20260108T020236Z
UID:10007355-1768746600-1768753800@hartfordjazzsociety.com
SUMMARY:Instantiations Monthly Music Series at Real Art Ways
DESCRIPTION:Instantiations\, formerly known as Improvisations Now\, is a monthly series of concerts conceived and programmed by Joe Morris (guitarist\, bassist\, improviser\, composer-wearer of many hats). Joe invites dynamic\, innovative musicians – important members of the global improvised music scene – and performs with them. The music is completely improvised. Every concert\, every instance is a unique experience. \nSunday\, 1/18\, 2:30 pm: Hidemi Akaiwa-piano; Hery Paz-tenor saxophone\, clarinet\, flute; Joe Morris-bass  \nSunday\, 2/15\, 2:30 pm: Adam Matlock-accordion; Diane Buettner-bass clarinet\, clarinet; Yoona Kim-Ajaeng; Joe Morris-guitar  \nSunday\, 3/15\, 2:30 pm: L. Mixashawn Rozie-tenor\, soprano saxophone\, mandolin\, voice; Michael Larocca-drums; Joe Morris-bass  \nSunday\, 4/12\, 2:30 pm: Melanie Dyer-viola; Solomon Caldwell-bass; Joe Morris-guitar  \nSunday\, 5/3\, 2:30 pm: Selendis Sebastian Alexander Johnson-vibraphone; Lemuel Marc-trumpet; Joe Morris-bass \nGeneral Admission $15 / Members $12 / Students $8 \nJoin us on Facebook and Instagram to get the latest!
URL:https://hartfordjazzsociety.com/event/instantiations-monthly-music-series-at-real-art-ways/
LOCATION:Real Art Ways\, 56 Arbor St\, Hartford\, CT
END:VEVENT
BEGIN:VEVENT
DTSTART;TZID=America/New_York:20260118T150000
DTEND;TZID=America/New_York:20260118T160000
DTSTAMP:20260424T042215
CREATED:20251212T043225Z
LAST-MODIFIED:20251212T043228Z
UID:10007419-1768748400-1768752000@hartfordjazzsociety.com
SUMMARY:Baby Grand Jazz at Hartford Public Library
DESCRIPTION:Concerts will be held at HPL’s Downtown Library on Sunday afternoons at 3:00 p.m. from January through April\, excluding Easter Sunday on April 5. Performances will take place in the Center for Contemporary Culture\, 500 Main Street\, Hartford. Doors open at 2:00 p.m.\, and each concert lasts about an hour. Shows will also be streamed on Hartford Public Library’s Facebook page and YouTube channel. \n2026 Lineup \n\nJanuary 4 – Iftah Kary Trio\nJanuary 11 – Lee Fish & Friends\nJanuary 18 – Koan\nJanuary 25 – Digba Ogunbiyi Quartet\n\n\nFebruary 1 – Matt Parker\nFebruary 8 – Meg Okura & The Pan Asian Chamber Jazz Ensemble\nFebruary 15 – Jen Allen and Heart Alchemy\nFebruary 22 – Jamile Trio\n\n\nMarch 1 – The Hartford Sound\nMarch 8 – Nigel Bello Band\nMarch 15 – Laszlo Gardony Trio\nMarch 22 – Rodney Jones\nMarch 29 – Ben Bilello Quartet\nApril 5 – No concert\nApril 12 – Japanese MicroJam\nApril 19 – Tyler Sherman and Friends\nApril 26 – Rene McLean: Music of the Spirit
URL:https://hartfordjazzsociety.com/event/baby-grand-jazz-at-hartford-public-library-2/2026-01-18/
LOCATION:Center for Contemporary Culture (Main Floor) – Hartford Public Library\, 500 Main Street\, Hartford\, CT
END:VEVENT
END:VCALENDAR