BEGIN:VCALENDAR
VERSION:2.0
PRODID:-//Hartford Jazz Society - ECPv6.15.20//NONSGML v1.0//EN
CALSCALE:GREGORIAN
METHOD:PUBLISH
X-ORIGINAL-URL:https://hartfordjazzsociety.com
X-WR-CALDESC:Events for Hartford Jazz Society
REFRESH-INTERVAL;VALUE=DURATION:PT1H
X-Robots-Tag:noindex
X-PUBLISHED-TTL:PT1H
BEGIN:VTIMEZONE
TZID:America/New_York
BEGIN:DAYLIGHT
TZOFFSETFROM:-0500
TZOFFSETTO:-0400
TZNAME:EDT
DTSTART:20250309T070000
END:DAYLIGHT
BEGIN:STANDARD
TZOFFSETFROM:-0400
TZOFFSETTO:-0500
TZNAME:EST
DTSTART:20251102T060000
END:STANDARD
BEGIN:DAYLIGHT
TZOFFSETFROM:-0500
TZOFFSETTO:-0400
TZNAME:EDT
DTSTART:20260308T070000
END:DAYLIGHT
BEGIN:STANDARD
TZOFFSETFROM:-0400
TZOFFSETTO:-0500
TZNAME:EST
DTSTART:20261101T060000
END:STANDARD
BEGIN:DAYLIGHT
TZOFFSETFROM:-0500
TZOFFSETTO:-0400
TZNAME:EDT
DTSTART:20270314T070000
END:DAYLIGHT
BEGIN:STANDARD
TZOFFSETFROM:-0400
TZOFFSETTO:-0500
TZNAME:EST
DTSTART:20271107T060000
END:STANDARD
END:VTIMEZONE
BEGIN:VEVENT
DTSTART;TZID=America/New_York:20260122T193000
DTEND;TZID=America/New_York:20260122T213000
DTSTAMP:20260424T041624
CREATED:20251225T045046Z
LAST-MODIFIED:20251225T045046Z
UID:10007499-1769110200-1769117400@hartfordjazzsociety.com
SUMMARY:Anna Webber Nonet
DESCRIPTION:Anna Webber (tenor sax\, flute)\, Yuma Uesaka (clarinets)\, Ingrid Laubrock (tenor and soprano sax)\, Ryan Easter (trumpet)\, DoYeon Kim (gayageum)\, Mary Halvorson (guitar)\, David Virelles (piano)\, Chris Tordini (bass)\, Ches Smith (drums) \nAnna Webber (b. 1984) is a flutist\, saxophonist\, and composer whose interests and work live in the aesthetic overlap between avant-garde jazz and new classical music. Her new album\, Shimmer Wince\, explores Just Intonation in a jazz setting\, and is a follow-up to her critically-acclaimed release Idiom. That album earned Webber the accolade of being named the top composer of the year by JazzTimes in 2021. Her music has been called called “visionary and captivating\,” (Wall Street Journal)\, and “heady music [that] appeals to the rest of the body” (NPR). Her album Clockwise was voted #6 Best Album of 2019 in the NPR Jazz Critics Poll\, and her 2020 release\, Both Are True (Greenleaf Music)\, coled with saxophonist/composer Angela Morris\, was named a top ten best release of 2020 by The New York Times.
URL:https://hartfordjazzsociety.com/event/anna-webber-nonet/
LOCATION:Iron Horse\, 18 Center Street\, Northampton\, MA
END:VEVENT
BEGIN:VEVENT
DTSTART;TZID=America/New_York:20260122T193000
DTEND;TZID=America/New_York:20260122T213000
DTSTAMP:20260424T041624
CREATED:20260119T123230Z
LAST-MODIFIED:20260119T123230Z
UID:10007574-1769110200-1769117400@hartfordjazzsociety.com
SUMMARY:Anna Webber Nonet
DESCRIPTION:Anna Webber (tenor sax\, flute)\, Yuma Uesaka (clarinets)\, Ingrid Laubrock (tenor and soprano sax)\, Ryan Easter (trumpet)\, DoYeon Kim (gayageum)\, Mary Halvorson (guitar)\, David Virelles (piano)\, Chris Tordini (bass)\, Ches Smith (drums) \n“The music Webber writes is dizzying and convoluted in the best ways\, a jagged slalom of meticulously notated\, interlocking patterns and riffs that demands pinpoint concentration on the part of the musicians and great focus and openness on the part of listeners. The pieces generate a hurtling tension\, flying downhill with inexorable motion\, but rarely in a direct line—the performances feel like a deftly choreographed simulacrum of a pinball game.” -Peter Margasak \nAnna Webber (b. 1984) is a flutist\, saxophonist\, and composer whose interests and work live in the aesthetic overlap between avant-garde jazz and new classical music. Her new album\, Shimmer Wince\, explores Just Intonation in a jazz setting\, and is a follow-up to her critically-acclaimed release Idiom. That album earned Webber the accolade of being named the top composer of the year by JazzTimes in 2021. Her music has been called called “visionary and captivating\,” (Wall Street Journal)\, and “heady music [that] appeals to the rest of the body” (NPR). Her album Clockwise was voted #6 Best Album of 2019 in the NPR Jazz Critics Poll\, and her 2020 release\, Both Are True (Greenleaf Music)\, coled with saxophonist/composer Angela Morris\, was named a top ten best release of 2020 by The New York Times. \nThe band featured on Shimmer Wince is a new group\, consisting of Adam O’Farrill on trumpet\, Mariel Roberts on cello\, Elias Stemeseder on synthesizer\, and Lesley Mok on drums. A prolific bandleader\, Webber also has been working with her Simple Trio\, featuring John Hollenbeck and Matt Mitchell\, for over a decade\, as well as leading many other groups\, such as a large ensemble\, a septet\, and the afore-mentioned big band. She has performed and/or recorded with projects led by artists such as Dan Weiss\, Roscoe Mitchell\, Ranja Swaminathan\, Jen Shyu\, Dave Douglas\, Matt Mitchell\, Ches Smith\, John Hollenbeck\, and Trevor Dunn\, among others. \nWebber is originally from British Columbia. She is co-director of Jazz Studies at the New England Conservatory of Music.
URL:https://hartfordjazzsociety.com/event/anna-webber-nonet-2/
LOCATION:Iron Horse\, 18 Center Street\, Northampton\, MA
END:VEVENT
END:VCALENDAR