BEGIN:VCALENDAR
VERSION:2.0
PRODID:-//Hartford Jazz Society - ECPv6.15.20//NONSGML v1.0//EN
CALSCALE:GREGORIAN
METHOD:PUBLISH
X-WR-CALNAME:Hartford Jazz Society
X-ORIGINAL-URL:https://hartfordjazzsociety.com
X-WR-CALDESC:Events for Hartford Jazz Society
REFRESH-INTERVAL;VALUE=DURATION:PT1H
X-Robots-Tag:noindex
X-PUBLISHED-TTL:PT1H
BEGIN:VTIMEZONE
TZID:America/New_York
BEGIN:DAYLIGHT
TZOFFSETFROM:-0500
TZOFFSETTO:-0400
TZNAME:EDT
DTSTART:20250309T070000
END:DAYLIGHT
BEGIN:STANDARD
TZOFFSETFROM:-0400
TZOFFSETTO:-0500
TZNAME:EST
DTSTART:20251102T060000
END:STANDARD
BEGIN:DAYLIGHT
TZOFFSETFROM:-0500
TZOFFSETTO:-0400
TZNAME:EDT
DTSTART:20260308T070000
END:DAYLIGHT
BEGIN:STANDARD
TZOFFSETFROM:-0400
TZOFFSETTO:-0500
TZNAME:EST
DTSTART:20261101T060000
END:STANDARD
BEGIN:DAYLIGHT
TZOFFSETFROM:-0500
TZOFFSETTO:-0400
TZNAME:EDT
DTSTART:20270314T070000
END:DAYLIGHT
BEGIN:STANDARD
TZOFFSETFROM:-0400
TZOFFSETTO:-0500
TZNAME:EST
DTSTART:20271107T060000
END:STANDARD
END:VTIMEZONE
BEGIN:VEVENT
DTSTART;TZID=America/New_York:20260124T160000
DTEND;TZID=America/New_York:20260124T190000
DTSTAMP:20260424T042216
CREATED:20251116T031948Z
LAST-MODIFIED:20251116T031948Z
UID:10007156-1769270400-1769281200@hartfordjazzsociety.com
SUMMARY:Jazz Jam at Cafe Nine
DESCRIPTION:Every Saturday\, 4-7
URL:https://hartfordjazzsociety.com/event/jazz-jam-at-cafe-nine-2/2026-01-24/
LOCATION:MA
END:VEVENT
BEGIN:VEVENT
DTSTART;TZID=America/New_York:20260124T173000
DTEND;TZID=America/New_York:20260124T213000
DTSTAMP:20260424T042216
CREATED:20260108T020859Z
LAST-MODIFIED:20260121T220110Z
UID:10007519-1769275800-1769290200@hartfordjazzsociety.com
SUMMARY:Warren Byrd’s Birthday Celebration
DESCRIPTION:Saskia Laroo – trumpet\, sax\, vocals\n\n\nWarren Byrd – keys\, vocals\, bongos\n\n\nDoug “Basszilla” Long – bass\n\n\nWillis Moore – drums\n\n\nWarren Byrd is a Hartford legend and an internationally touring artist\, composer\, and producer with a career spanning over 40 years. Together with his wife and musical partner Saskia Laroo\, he has performed around the world\, blending straight-ahead jazz with funk\, hip-hop\, and Latin grooves — always rooted in soul\, rhythm\, and deep musical connection.\n\nThis is a rare chance to see Warren up close and live\, sharing his creative improvisations\, impressive vocals\, and joyful musical spirit — while celebrating his life\, his music\, and ours together. Come enjoy great food\, drinks\, warm vibes\, and an unforgettable night of live music with friends old and new.\n\nLet’s celebrate — with groove\, love\, and community.
URL:https://hartfordjazzsociety.com/event/warren-byrds-birthday-celebration/
LOCATION:The Flying Monkey\, 2095 Berlin Turnpike\, Newington\, CT
END:VEVENT
BEGIN:VEVENT
DTSTART;TZID=America/New_York:20260124T200000
DTEND;TZID=America/New_York:20260124T223000
DTSTAMP:20260424T042216
CREATED:20251229T160612Z
LAST-MODIFIED:20251229T160612Z
UID:10007510-1769284800-1769293800@hartfordjazzsociety.com
SUMMARY:Tyreek McDole Quintet
DESCRIPTION:Tyreek McDole – Vocals & Keys \nDylan Band – Tenor & Soprano Saxophones \nJoe Block – Piano/Keys \nDan Finn – Bass \nGary Jones III – Drums \nTyreek McDole\, a 25-year-old Haitian-American vocalist from Florida\, is making waves on the New York and international music scenes. His artistry is rooted in the belief that music is the highest form of communication a powerful tool for healing\, reflection\, and collective dreaming. \nHe first gained attention at Jazz at Lincoln Centers 2018 Essentially Ellington Competition\, where he was awarded Outstanding Vocalist by Wynton Marsalis. Since then\, he’s performed alongside an impressive roster of artists including Rodney Whitaker\, Theo Croker\, Gary Bartz\, Maurice Brown\, Joey Alexander\, Terri Lyne Carrington\, Nicholas Payton\, and many others. \nTyreek has appeared at many of the world’s most hallowed stages such as Blue Note New York\, Salle Pleyel\, Nublu\, Dizzy’s Jazz Club\, Ronnie Scott’s\, Birdland Jazz Club\, Jazz at Lincoln Center\, Salle Wilfrid-Pelletier\, and major international festivals such as the Newport Jazz Festival\, Monterey Jazz Festival\, Jazz in Marciac\, and the Nice Jazz Festival. \nIn 2023\, he won the Sarah Vaughan International Jazz Vocal Competition\, joining the ranks of standout vocalists like Cyrille Aimee\, Lucia Gutierrez Rebolloso\, and Samara Joy. \nHis debut album\, Open Up Your Senses\, released in June 2025 on Artwork Records\, is #1 on Jazz Week\, received 4 stars in DownBeat Magazine\, and is being celebrated as one of the most thoughtful and spiritually resonant jazz debuts in years. He hopes you enjoy.
URL:https://hartfordjazzsociety.com/event/tyreek-mcdole-quintet-2/
LOCATION:Side Door Jazz Club\, 85 Lyme Street\, Old Lyme\, CT\, United States
END:VEVENT
END:VCALENDAR