BEGIN:VCALENDAR
VERSION:2.0
PRODID:-//Hartford Jazz Society - ECPv6.15.20//NONSGML v1.0//EN
CALSCALE:GREGORIAN
METHOD:PUBLISH
X-ORIGINAL-URL:https://hartfordjazzsociety.com
X-WR-CALDESC:Events for Hartford Jazz Society
REFRESH-INTERVAL;VALUE=DURATION:PT1H
X-Robots-Tag:noindex
X-PUBLISHED-TTL:PT1H
BEGIN:VTIMEZONE
TZID:America/New_York
BEGIN:DAYLIGHT
TZOFFSETFROM:-0500
TZOFFSETTO:-0400
TZNAME:EDT
DTSTART:20250309T070000
END:DAYLIGHT
BEGIN:STANDARD
TZOFFSETFROM:-0400
TZOFFSETTO:-0500
TZNAME:EST
DTSTART:20251102T060000
END:STANDARD
BEGIN:DAYLIGHT
TZOFFSETFROM:-0500
TZOFFSETTO:-0400
TZNAME:EDT
DTSTART:20260308T070000
END:DAYLIGHT
BEGIN:STANDARD
TZOFFSETFROM:-0400
TZOFFSETTO:-0500
TZNAME:EST
DTSTART:20261101T060000
END:STANDARD
BEGIN:DAYLIGHT
TZOFFSETFROM:-0500
TZOFFSETTO:-0400
TZNAME:EDT
DTSTART:20270314T070000
END:DAYLIGHT
BEGIN:STANDARD
TZOFFSETFROM:-0400
TZOFFSETTO:-0500
TZNAME:EST
DTSTART:20271107T060000
END:STANDARD
END:VTIMEZONE
BEGIN:VEVENT
DTSTART;TZID=America/New_York:20260215T100000
DTEND;TZID=America/New_York:20260215T120000
DTSTAMP:20260424T041623
CREATED:20260204T050822Z
LAST-MODIFIED:20260204T050822Z
UID:10007596-1771149600-1771156800@hartfordjazzsociety.com
SUMMARY:Jazz Brunch Sundays
DESCRIPTION:Bring your valentine for live jazz in Avery Courtyard with the Aidan Slate Trio and Bourassa’s extravagant brunch\, along with a complimentary Bloody Mary or Mimosa.\n\n$49; $39 members. Kids 12 and under $39/ $29 members. Includes museum admission. Tickets at thewadsworth.org.
URL:https://hartfordjazzsociety.com/event/jazz-brunch-sundays/
LOCATION:Wadsworth Atheneum Museum of Art\, 600 Main Street\, Hartford\, CT
END:VEVENT
BEGIN:VEVENT
DTSTART;TZID=America/New_York:20260215T143000
DTEND;TZID=America/New_York:20260215T163000
DTSTAMP:20260424T041623
CREATED:20260121T220455Z
LAST-MODIFIED:20260121T220455Z
UID:10007577-1771165800-1771173000@hartfordjazzsociety.com
SUMMARY:Instantiations Monthly Music Series at Real Art Ways
DESCRIPTION:Instantiations\, formerly known as Improvisations Now\, is a monthly series of concerts conceived and programmed by Joe Morris (guitarist\, bassist\, improviser\, composer-wearer of many hats). Joe invites dynamic\, innovative musicians – important members of the global improvised music scene – and performs with them. The music is completely improvised. Every concert\, every instance is a unique experience. \nSunday\, 2/15\, 2:30 pm: Adam Matlock-accordion; Diane Buettner-bass clarinet\, clarinet; Yoona Kim-Ajaeng; Joe Morris-guitar  \nSunday\, 3/15\, 2:30 pm: L. Mixashawn Rozie-tenor\, soprano saxophone\, mandolin\, voice; Michael Larocca-drums; Joe Morris-bass  \nSunday\, 4/12\, 2:30 pm: Melanie Dyer-viola; Solomon Caldwell-bass; Joe Morris-guitar  \nSunday\, 5/3\, 2:30 pm: Selendis Sebastian Alexander Johnson-vibraphone; Lemuel Marc-trumpet; Joe Morris-bass \nGeneral Admission $15 / Members $12 / Students $8 \nJoin us on Facebook and Instagram to get the latest!
URL:https://hartfordjazzsociety.com/event/instantiations-monthly-music-series-at-real-art-ways-2/
LOCATION:Real Art Ways\, 56 Arbor St\, Hartford\, CT
END:VEVENT
BEGIN:VEVENT
DTSTART;TZID=America/New_York:20260215T150000
DTEND;TZID=America/New_York:20260215T160000
DTSTAMP:20260424T041623
CREATED:20251212T043225Z
LAST-MODIFIED:20251212T043228Z
UID:10007423-1771167600-1771171200@hartfordjazzsociety.com
SUMMARY:Baby Grand Jazz at Hartford Public Library
DESCRIPTION:Concerts will be held at HPL’s Downtown Library on Sunday afternoons at 3:00 p.m. from January through April\, excluding Easter Sunday on April 5. Performances will take place in the Center for Contemporary Culture\, 500 Main Street\, Hartford. Doors open at 2:00 p.m.\, and each concert lasts about an hour. Shows will also be streamed on Hartford Public Library’s Facebook page and YouTube channel. \n2026 Lineup \n\nJanuary 4 – Iftah Kary Trio\nJanuary 11 – Lee Fish & Friends\nJanuary 18 – Koan\nJanuary 25 – Digba Ogunbiyi Quartet\n\n\nFebruary 1 – Matt Parker\nFebruary 8 – Meg Okura & The Pan Asian Chamber Jazz Ensemble\nFebruary 15 – Jen Allen and Heart Alchemy\nFebruary 22 – Jamile Trio\n\n\nMarch 1 – The Hartford Sound\nMarch 8 – Nigel Bello Band\nMarch 15 – Laszlo Gardony Trio\nMarch 22 – Rodney Jones\nMarch 29 – Ben Bilello Quartet\nApril 5 – No concert\nApril 12 – Japanese MicroJam\nApril 19 – Tyler Sherman and Friends\nApril 26 – Rene McLean: Music of the Spirit
URL:https://hartfordjazzsociety.com/event/baby-grand-jazz-at-hartford-public-library-2/2026-02-15/
LOCATION:Center for Contemporary Culture (Main Floor) – Hartford Public Library\, 500 Main Street\, Hartford\, CT
END:VEVENT
BEGIN:VEVENT
DTSTART;TZID=America/New_York:20260215T200000
DTEND;TZID=America/New_York:20260215T223000
DTSTAMP:20260424T041623
CREATED:20260125T191417Z
LAST-MODIFIED:20260125T191417Z
UID:10007582-1771185600-1771194600@hartfordjazzsociety.com
SUMMARY:Jimmy Greene Quartet
DESCRIPTION:Join us for a special night of jazz with Saxophonist Jimmy Greene and his Quartet! \n\n\n\n\nA native of Connecticut\, Jimmy Greene is one of the most respected saxophonists of his generation. His most recent recording\, As We Are Now\, was released on July 25\, 2025. His 2014 release\, Beautiful Life (Mack Avenue)\, garnered two Grammy® Award nominations: one for Best Jazz Instrumental Album and one for Best Arrangement\, Instruments and Vocals for Greene’s song “When I Come Home.” Greene has performed selections from the album on CBS This Morning\, NBC’s The Tonight Show starring Jimmy Fallon\, and the nationally syndicated Meredith Vieira Show. His other releases as a leader\, While Looking Up (Mack Avenue)\, Flowers: Beautiful Life\, Vol. 2 (Mack Avenue)\, Live at Smalls (SmallsLive)\, Mission Statement (RazDaz/Sunnyside)\, The Overcomers Suite (NuJazz)\, Gifts and Givers (Criss Cross)\, True Life Stories (Criss Cross)\, Forever(Criss Cross)\, Brand New World (RCA Victor)\, Live at Birdland (RCA Victor) and Introducing Jimmy Greene (Criss Cross) were also met with much critical acclaim. In fact\, Tony Hall of Jazzwise Magazine (UK) calls Greene “ . . .without doubt one of the most striking young tenors of recent years.” \nThe Jimmy Greene Quartet/Quintet performs in concert venues\, festivals and clubs worldwide\, including the Village Vanguard\, Smoke and Dizzy’s Club Coca Cola in New York\, the Alexanderplatz Jazz Club (Rome\, Italy)\, Sunside Jazz Club (Paris\, France)\, Newport Jazz Festival (USA)\, Detroit International Jazz Festival (USA)\, Mid-Atlantic Jazz Festival (USA)\, Red Sea Jazz Festival (Israel)\, Lapataia Jazz Festival (Uruguay) and Amazonas Jazz Festival (Brazil). In one such appearance\, Jim Macnie of the Village Voice said\, “[Greene] is good for a couple of body chills every time you see him. He’s got a big barrelhouse sound\, and a way of negotiating changes that make academic moves seem natural.” \nIn addition to his recordings and appearances as a leader\, Greene appears on over 100 albums as a sideman and is a member of legendary bassist Ron Carter’s Foursight Quartet. He has also toured and/or recorded in the bands of Horace Silver\, Tom Harrell\, Freddie Hubbard\, Harry Connick\, Jr.\, Avishai Cohen\, Kenny Barron\, Lewis Nash\, Steve Turre\, Dee Dee Bridgewater and the Carnegie Hall Jazz Band\, among many others. As a member of Harrell’s quintet\, Greene was featured on CBS’s benchmark news magazine\, 60 Minutes. As a member of Harry Connick Jr.’s Big Band\, Greene is a featured soloist on 2 DVD releases\, Harry for the Holidays\, and Only You. He was featured as a soloist on Connick’s 2003 holiday special aired on NBC\, in addition to NBC’s Today Show\, and BBC’s Parkinson Show. \nAs a composer\, Greene was awarded the prestigious 2005 ASCAP / IAJE Commission in honor of Ornette Coleman. Greene is the 2013 recipient of the State of Connecticut Governor’s Arts Award in Music as well as the 2012 recipient of the City of Hartford’s Innovator Award in Music. Greene was twice named a winner of Chamber Music America’s New Works: Creation and Presentation grant for jazz composition – in 2004 and again in 2023\, awarded a 2005 Artist Fellowship in Music Composition by the Connecticut Commission on Culture and Tourism\, and awarded a 2009 Individual Artist Grant by the Greater Hartford Arts Council. Seventy of Greene’s original compositions and arrangements have been recorded on the Mack Avenue\, RCA Victor\, SmallsLive\, Criss Cross\, NuJazz and RazDaz / Sunnyside labels. In addition\, Greene’s performance of his composition “Mr. McLean” was aired throughout the US and Canada on ABC-TV during a NASCAR pre-race broadcast in September 2007. \nDown Beat Magazine named Greene the Winner of the Rising Star – Soprano Saxophone category in its 66th Annual Critics’ Poll \nGreene is Professor of Music at Western Connecticut State University in Danbury\, CT.
URL:https://hartfordjazzsociety.com/event/jimmy-greene-quartet-3/
LOCATION:Side Door Jazz Club\, 85 Lyme Street\, Old Lyme\, CT\, United States
END:VEVENT
END:VCALENDAR