BEGIN:VCALENDAR
VERSION:2.0
PRODID:-//Hartford Jazz Society - ECPv6.15.20//NONSGML v1.0//EN
CALSCALE:GREGORIAN
METHOD:PUBLISH
X-ORIGINAL-URL:https://hartfordjazzsociety.com
X-WR-CALDESC:Events for Hartford Jazz Society
REFRESH-INTERVAL;VALUE=DURATION:PT1H
X-Robots-Tag:noindex
X-PUBLISHED-TTL:PT1H
BEGIN:VTIMEZONE
TZID:America/New_York
BEGIN:DAYLIGHT
TZOFFSETFROM:-0500
TZOFFSETTO:-0400
TZNAME:EDT
DTSTART:20250309T070000
END:DAYLIGHT
BEGIN:STANDARD
TZOFFSETFROM:-0400
TZOFFSETTO:-0500
TZNAME:EST
DTSTART:20251102T060000
END:STANDARD
BEGIN:DAYLIGHT
TZOFFSETFROM:-0500
TZOFFSETTO:-0400
TZNAME:EDT
DTSTART:20260308T070000
END:DAYLIGHT
BEGIN:STANDARD
TZOFFSETFROM:-0400
TZOFFSETTO:-0500
TZNAME:EST
DTSTART:20261101T060000
END:STANDARD
BEGIN:DAYLIGHT
TZOFFSETFROM:-0500
TZOFFSETTO:-0400
TZNAME:EDT
DTSTART:20270314T070000
END:DAYLIGHT
BEGIN:STANDARD
TZOFFSETFROM:-0400
TZOFFSETTO:-0500
TZNAME:EST
DTSTART:20271107T060000
END:STANDARD
END:VTIMEZONE
BEGIN:VEVENT
DTSTART;TZID=America/New_York:20260221T160000
DTEND;TZID=America/New_York:20260221T190000
DTSTAMP:20260424T021515
CREATED:20251116T031948Z
LAST-MODIFIED:20251116T031948Z
UID:10007160-1771689600-1771700400@hartfordjazzsociety.com
SUMMARY:Jazz Jam at Cafe Nine
DESCRIPTION:Every Saturday\, 4-7
URL:https://hartfordjazzsociety.com/event/jazz-jam-at-cafe-nine-2/2026-02-21/
LOCATION:MA
END:VEVENT
BEGIN:VEVENT
DTSTART;TZID=America/New_York:20260221T180000
DTEND;TZID=America/New_York:20260221T210000
DTSTAMP:20260424T021515
CREATED:20260114T010844Z
LAST-MODIFIED:20260114T012526Z
UID:10007523-1771696800-1771707600@hartfordjazzsociety.com
SUMMARY:Bob Ahern Quartet
DESCRIPTION:The Bob Ahern Quartet will be performing the last Saturday of each month at the legendary Lighthouse Inn from 6-9. The group features Lisa Marien on vocals and Bob Ahern on drums along with various Jazz artists each month.
URL:https://hartfordjazzsociety.com/event/bob-ahern-quartet/2026-02-21/
LOCATION:Lighthouse Inn\, 6 Guthrie Pl\, New London\, CT
END:VEVENT
BEGIN:VEVENT
DTSTART;TZID=America/New_York:20260221T193000
DTEND;TZID=America/New_York:20260221T213000
DTSTAMP:20260424T021515
CREATED:20260216T045013Z
LAST-MODIFIED:20260216T045013Z
UID:10007610-1771702200-1771709400@hartfordjazzsociety.com
SUMMARY:Nate Smith (livestream)
DESCRIPTION:Smith won two Grammy Awards\, including Best Alternative Jazz Album for LIVE ACTION and Best Arrangement\, Instruments and Vocals for the song “Big Fish” featuring säje \nLIVESTREAM ONLY at vtjazz.org\nJoin us on Saturday\, Feb 21\, to see five-time Grammy-nominated drummer Nate Smith\, one of the most dynamic and versatile voices in modern music. Born in Norfolk\, Virginia\, he began touring professionally after joining Betty Carter’s Jazz Ahead program at age 20. \nSmith’s most recent recording as a leader (LIVE ACTION) earned two Grammy nominations in 2025. His most recent recordings as a sideman are with Jon Batiste and Brittany Howard of Alabama Shakes. He is well known to crossover fans for his work with Fearless Flyers\, Vulfpeck\, Childish Gambino\, Michael Jackson and Norah Jones. He is well known in the jazz community for his work with Dave Holland\, Pat Metheny\, Chris Potter\, José James\, Gretchen Parlato\, Lionel Loueke\, Ravi Coltrane\, Nicholas Payton\, Regina Carter and others. \nSmith’s most recent release\, LIVE ACTION\, showcases his inventive approach to rhythm\, groove\, and production\, featuring an all-star lineup including Lalah Hathaway\, Michael League\, and Charlie Hunter. Known for his infectious pocket\, Smith continues to redefine the role of the drummer as bandleader\, producer\, and educator.
URL:https://hartfordjazzsociety.com/event/nate-smith-livestream/
LOCATION:MA
END:VEVENT
BEGIN:VEVENT
DTSTART;TZID=America/New_York:20260221T200000
DTEND;TZID=America/New_York:20260221T223000
DTSTAMP:20260424T021515
CREATED:20260125T191847Z
LAST-MODIFIED:20260125T191847Z
UID:10007584-1771704000-1771713000@hartfordjazzsociety.com
SUMMARY:Cyrus Chestnut Trio
DESCRIPTION:Join us for a special night of jazz with Pianist Cyrus Chestnut and his Trio! \n\n\n\n\nCyrus Chestnut is one of the most gifted and innovative jazz pianists of his generation. With a musical style that effortlessly combines the influences of gospel\, classical music\, and straight-ahead jazz\, Chestnut has garnered acclaim from critics and peers alike for his soulful\, virtuosic playing. His career spans decades of performances and recordings\, establishing him as a pivotal figure in contemporary jazz. \nRaised in the heart of Baltimore in a musical family\, Chestnut’s gospel roots have been a key influence on his musical development. His father\, a pianist\, and his mother\, a singer\, were both deeply involved in the church\, where Chestnut first encountered the powerful\, emotional connection between music and spirituality. This early exposure to gospel music provided him with a rich\, emotive foundation that continues to permeate his jazz performances\, infusing them with a soulful\, dynamic energy that resonates deeply with audiences. Chestnut has often described how the gospel tradition taught him not only how to play the piano but also how to connect with listeners on a deeper\, more emotional level. He has said\, “I want to spread some feel good… I want to be able to spread the feel good”—a sentiment that echoes the uplifting\, transformative nature of gospel music. \nChestnut’s talent is further showcased in his upcoming album\, Rhythm\, Melody\, and Harmony\, released on April 25\, 2025\, via HighNote Records. This piano quartet recording demonstrates his signature blend of rhythmic precision\, emotive expression\, and improvisational mastery. Joined by saxophonist Stacy Dillard\, bassist Gerald Cannon\, and drummer Chris Beck\, Chestnut continues to push boundaries with his original compositions\, which form the core of this album. The album adds to his already impressive discography\, which includes critically acclaimed works like Kaleidoscope and My Father’s Hands. \nIn addition to his recording career\, Chestnut has performed with a diverse array of artists and ensembles\, spanning the genres of jazz and classical music. He has recently graced the stage with classical groups such as the Cecilia Chorus of New York and the Baltimore Symphony Orchestra\, further showcasing his versatility as an artist and his ability to bridge genres. Whether performing in intimate jazz settings or collaborating with large orchestras\, Chestnut’s music continues to captivate audiences with its depth and complexity. \nAs a Steinway Artist\, Chestnut joins an esteemed group of musicians known for their artistry and technical skill\, further solidifying his reputation as a master of the piano. \nA graduate of the renowned Baltimore School for the Arts\, Chestnut’s early exposure to both jazz and classical music shaped his unique approach to the piano. His career as a sideman has included collaborations with jazz giants such as Wynton Marsalis\, Betty Carter\, and Donald Harrison\, while his leadership of the Cyrus Chestnut Trio has solidified his place as one of the foremost jazz pianists today. \nChestnut’s contributions to the jazz world have earned him widespread praise\, with JazzTimes describing his playing as “virtuosic” and Down Beat calling him “one of the finest jazz pianists of his generation.” His music remains a testament to the power of jazz as an expressive and transformative art form\, deeply rooted in the spiritual and emotional traditions of gospel\, while extending outward into new musical horizons
URL:https://hartfordjazzsociety.com/event/cyrus-chestnut-trio-2/
LOCATION:Side Door Jazz Club\, 85 Lyme Street\, Old Lyme\, CT\, United States
END:VEVENT
END:VCALENDAR