BEGIN:VCALENDAR
VERSION:2.0
PRODID:-//Hartford Jazz Society - ECPv6.15.20//NONSGML v1.0//EN
CALSCALE:GREGORIAN
METHOD:PUBLISH
X-WR-CALNAME:Hartford Jazz Society
X-ORIGINAL-URL:https://hartfordjazzsociety.com
X-WR-CALDESC:Events for Hartford Jazz Society
REFRESH-INTERVAL;VALUE=DURATION:PT1H
X-Robots-Tag:noindex
X-PUBLISHED-TTL:PT1H
BEGIN:VTIMEZONE
TZID:America/New_York
BEGIN:DAYLIGHT
TZOFFSETFROM:-0500
TZOFFSETTO:-0400
TZNAME:EDT
DTSTART:20250309T070000
END:DAYLIGHT
BEGIN:STANDARD
TZOFFSETFROM:-0400
TZOFFSETTO:-0500
TZNAME:EST
DTSTART:20251102T060000
END:STANDARD
BEGIN:DAYLIGHT
TZOFFSETFROM:-0500
TZOFFSETTO:-0400
TZNAME:EDT
DTSTART:20260308T070000
END:DAYLIGHT
BEGIN:STANDARD
TZOFFSETFROM:-0400
TZOFFSETTO:-0500
TZNAME:EST
DTSTART:20261101T060000
END:STANDARD
BEGIN:DAYLIGHT
TZOFFSETFROM:-0500
TZOFFSETTO:-0400
TZNAME:EDT
DTSTART:20270314T070000
END:DAYLIGHT
BEGIN:STANDARD
TZOFFSETFROM:-0400
TZOFFSETTO:-0500
TZNAME:EST
DTSTART:20271107T060000
END:STANDARD
END:VTIMEZONE
BEGIN:VEVENT
DTSTART;TZID=America/New_York:20260222T150000
DTEND;TZID=America/New_York:20260222T160000
DTSTAMP:20260424T041405
CREATED:20260222T153356Z
LAST-MODIFIED:20260222T153357Z
UID:10007424-1771772400-1771776000@hartfordjazzsociety.com
SUMMARY:Baby Grand Jazz at Hartford Public Library - CANCELLED
DESCRIPTION:Concerts will be held at HPL’s Downtown Library on Sunday afternoons at 3:00 p.m. from January through April\, excluding Easter Sunday on April 5. Performances will take place in the Center for Contemporary Culture\, 500 Main Street\, Hartford. Doors open at 2:00 p.m.\, and each concert lasts about an hour. Shows will also be streamed on Hartford Public Library’s Facebook page and YouTube channel. \n2026 Lineup \n\nJanuary 4 – Iftah Kary Trio\nJanuary 11 – Lee Fish & Friends\nJanuary 18 – Koan\nJanuary 25 – Digba Ogunbiyi Quartet\n\n\nFebruary 1 – Matt Parker\nFebruary 8 – Meg Okura & The Pan Asian Chamber Jazz Ensemble\nFebruary 15 – Jen Allen and Heart Alchemy\nFebruary 22 – Jamile Trio\n\n\nMarch 1 – The Hartford Sound\nMarch 8 – Nigel Bello Band\nMarch 15 – Laszlo Gardony Trio\nMarch 22 – Rodney Jones\nMarch 29 – Ben Bilello Quartet\nApril 5 – No concert\nApril 12 – Japanese MicroJam\nApril 19 – Tyler Sherman and Friends\nApril 26 – Rene McLean: Music of the Spirit
URL:https://hartfordjazzsociety.com/event/baby-grand-jazz-at-hartford-public-library-2-3/
LOCATION:Center for Contemporary Culture (Main Floor) – Hartford Public Library\, 500 Main Street\, Hartford\, CT
END:VEVENT
END:VCALENDAR