BEGIN:VCALENDAR
VERSION:2.0
PRODID:-//Hartford Jazz Society - ECPv6.15.20//NONSGML v1.0//EN
CALSCALE:GREGORIAN
METHOD:PUBLISH
X-ORIGINAL-URL:https://hartfordjazzsociety.com
X-WR-CALDESC:Events for Hartford Jazz Society
REFRESH-INTERVAL;VALUE=DURATION:PT1H
X-Robots-Tag:noindex
X-PUBLISHED-TTL:PT1H
BEGIN:VTIMEZONE
TZID:America/New_York
BEGIN:DAYLIGHT
TZOFFSETFROM:-0500
TZOFFSETTO:-0400
TZNAME:EDT
DTSTART:20250309T070000
END:DAYLIGHT
BEGIN:STANDARD
TZOFFSETFROM:-0400
TZOFFSETTO:-0500
TZNAME:EST
DTSTART:20251102T060000
END:STANDARD
BEGIN:DAYLIGHT
TZOFFSETFROM:-0500
TZOFFSETTO:-0400
TZNAME:EDT
DTSTART:20260308T070000
END:DAYLIGHT
BEGIN:STANDARD
TZOFFSETFROM:-0400
TZOFFSETTO:-0500
TZNAME:EST
DTSTART:20261101T060000
END:STANDARD
BEGIN:DAYLIGHT
TZOFFSETFROM:-0500
TZOFFSETTO:-0400
TZNAME:EDT
DTSTART:20270314T070000
END:DAYLIGHT
BEGIN:STANDARD
TZOFFSETFROM:-0400
TZOFFSETTO:-0500
TZNAME:EST
DTSTART:20271107T060000
END:STANDARD
END:VTIMEZONE
BEGIN:VEVENT
DTSTART;TZID=America/New_York:20260227T171500
DTEND;TZID=America/New_York:20260227T190000
DTSTAMP:20260424T021622
CREATED:20251210T225210Z
LAST-MODIFIED:20251210T225210Z
UID:10007375-1772212500-1772218800@hartfordjazzsociety.com
SUMMARY:Fridays with Frank
DESCRIPTION:Join renowned jazz historian and Jazz Haven Board member Frank Cochran for BYOB “Fridays with Frank.”  Happy Hour jazz listening sessions are held every Friday from 5:15 to 7:00 pm at the Institute Library in downtown New Haven.  Each Friday Frank selects iconic jazz LPs to play from the Library’s extensive collection.  Discussion follows.  BYOB and please give a modest donation towards the IL’s spiraling utilities. A $5.00 contribution is welcome.
URL:https://hartfordjazzsociety.com/event/fridays-with-frank/2026-02-27/
LOCATION:Institute Library\, 847 Chapel Street\, New Haven\, CT
END:VEVENT
BEGIN:VEVENT
DTSTART;TZID=America/New_York:20260227T193000
DTEND;TZID=America/New_York:20260227T213000
DTSTAMP:20260424T021622
CREATED:20251225T050226Z
LAST-MODIFIED:20251225T050226Z
UID:10007502-1772220600-1772227800@hartfordjazzsociety.com
SUMMARY:A World of Piano: Marta Sanchez
DESCRIPTION:Born and raised in Madrid\, Spain\, pianist and composer Marta Sánchez is actively working in the contemporary creative music scene in New York City and around the globe. Charting a significant path through her innovative and original music\, she has reached an international audience\, gaining significant global recognition. \nMarta’s main project\, her quintet\, was created soon after she moved to New York\, and since then has released four albums: “Partenika” (2015)\, “Danza Imposible” (2017)\, and “El Rayo de Luz” (2019) with the Spanish label Fresh Sound and SAAM (Spanish American Art Museum) with Whirlwind Recordings. All of the albums received high praise from American press. ”Partenika” received great reviews from The New York Times\, Downbeat\, All Music\, All About Jazz\,and many more. Not only that\, but the recording was selected by The New York Times as one of the 10 best albums of 2015\, including all genres\, and it was also included on the lists of the best recordings of the year from the Jazz Journalist Association\, Downbeat and All Music. The quintet’s next work\, “Danza Imposible” was reviewed and highly praised in the famous public radio program“Fresh Air”\, it got 4 stars from DownBeat\, an excellent review from The New York TImes\, on Nate Chinen’s program at WBGO\, and it was also included in some lists of the best of 2017. “El Rayo de Luz” was also included in the The New York Times list of the Best 10 jazz albums of 2019\, it was the editor’s pick of the December issue of Downbeat\, got a four stars review also in Downbeat from Giovanni Russonello\, it was featured on WBGO’s program “The Checkout” and a long etc. SAAM (Spanish American Art Museum) was reviewed at The New York Times\, Wall Street Journal\, Downbeat\, Jazzwise and a long etc. After “Danza Imposible”\, Marta’s music has been the subject of articles in publications including Jazziz and The New York Times. \nIn addition to her quintet\, Marta recently released a new record with her trio\, featuring Savannah Harris on drums and Chris Tordini on bass\, titled “Perpetual Void” on the Intakt label. The album has been widely praised\, including receiving 4.5 stars from Downbeat. \nMarta has toured the United States\, Europe\, South America\, and Central America\, performing as a leader or as a sideman at prestigious venues and prominent festivals such as the North Sea Jazz Festival in the Netherlands\, Jazzaldia in San Sebastian\, Inntone in Austria\, Eurojazz in Mexico City\, Eurojazz in Athens\, Jazz Festival Vitoria Gasteiz\, Winter Jazz Festival in New York\, and Madrid\, among many others. In the United States\, she has performed at some of the most prestigious clubs including the Carnegie Hall\, Blue Note\, Village Vanguard\, Birdland\, Roulette\, Dizzy’s Jazz\, The Jazz Gallery\, The 55 Bar\, Smalls\, Mezzrow among many others. \nFurthermore\, Marta has been actively collaborating with other artists\, playing and recording in David Murray’s Quartet\, Maria Grand’s duo\, and the Anna Weber and Angela Morris Big Band\, among others.. \nShe received prizes for the best soundtrack for short film in the festivals Alcalá de Henares\, Curtficcion in Barcelona and Palma de Mallorca. \nIn 2017 and 2021 she received the prestigious grant for a residency from the MacDowell Colony\, where Marta wrote prepared piano repertoire.
URL:https://hartfordjazzsociety.com/event/a-world-of-piano-marta-sanchez/
LOCATION:Northampton Center for the Arts\, 33 Hawley Street\, Northampton\, MA
END:VEVENT
BEGIN:VEVENT
DTSTART;TZID=America/New_York:20260227T200000
DTEND;TZID=America/New_York:20260227T223000
DTSTAMP:20260424T021622
CREATED:20260125T192045Z
LAST-MODIFIED:20260125T192045Z
UID:10007585-1772222400-1772231400@hartfordjazzsociety.com
SUMMARY:Olli Soikkeli Trio
DESCRIPTION:Join us for a special night of jazz with Guitarist Olli Soikkeli and his Trio! \n\n\n\n\nOlli Soikkeli – Guitar \nPaul Sikivie – Bass \nBen Zweig – Drums \nBorn in Nurmes\, Finland and based in NYC\, Soikkeli was introduced to the music of great Django Reinhardt and Gypsy Jazz\, which has been his primary focus since. Olli played in jazz clubs and festivals across Finland\, and toured Europe with Sinti Guitarist Paulus Schäfer. While still young\, he’s already played with notable artists such as Bucky Pizzarelli\, Stochelo Rosenberg\, Tommy Emmanuel\, Andreas Öberg\, Cyrille Aimee\, Antti Sarpila and Marian Petrescu. \nAfter move to New York City in 2014. Olli has played legendary venues such as Town Hall\, Herbst Theatre\, Birdland Jazz Club\, Blue Note\, Iridium and the Lincoln Center. \nOlli recorded his first album “Trois Générations” (2011) with Hot Club de Finlande and Vitali Imereli and recorded his second album “Kouvola Junction” (2012) with Paulus Schäfer and Arnoud van den Berg.
URL:https://hartfordjazzsociety.com/event/olli-soikkeli-trio/
LOCATION:Side Door Jazz Club\, 85 Lyme Street\, Old Lyme\, CT\, United States
END:VEVENT
END:VCALENDAR