BEGIN:VCALENDAR
VERSION:2.0
PRODID:-//Hartford Jazz Society - ECPv6.15.20//NONSGML v1.0//EN
CALSCALE:GREGORIAN
METHOD:PUBLISH
X-WR-CALNAME:Hartford Jazz Society
X-ORIGINAL-URL:https://hartfordjazzsociety.com
X-WR-CALDESC:Events for Hartford Jazz Society
REFRESH-INTERVAL;VALUE=DURATION:PT1H
X-Robots-Tag:noindex
X-PUBLISHED-TTL:PT1H
BEGIN:VTIMEZONE
TZID:America/New_York
BEGIN:DAYLIGHT
TZOFFSETFROM:-0500
TZOFFSETTO:-0400
TZNAME:EDT
DTSTART:20250309T070000
END:DAYLIGHT
BEGIN:STANDARD
TZOFFSETFROM:-0400
TZOFFSETTO:-0500
TZNAME:EST
DTSTART:20251102T060000
END:STANDARD
BEGIN:DAYLIGHT
TZOFFSETFROM:-0500
TZOFFSETTO:-0400
TZNAME:EDT
DTSTART:20260308T070000
END:DAYLIGHT
BEGIN:STANDARD
TZOFFSETFROM:-0400
TZOFFSETTO:-0500
TZNAME:EST
DTSTART:20261101T060000
END:STANDARD
BEGIN:DAYLIGHT
TZOFFSETFROM:-0500
TZOFFSETTO:-0400
TZNAME:EDT
DTSTART:20270314T070000
END:DAYLIGHT
BEGIN:STANDARD
TZOFFSETFROM:-0400
TZOFFSETTO:-0500
TZNAME:EST
DTSTART:20271107T060000
END:STANDARD
END:VTIMEZONE
BEGIN:VEVENT
DTSTART;TZID=America/New_York:20260404T160000
DTEND;TZID=America/New_York:20260404T190000
DTSTAMP:20260423T033240
CREATED:20251116T031948Z
LAST-MODIFIED:20251116T031948Z
UID:10007166-1775318400-1775329200@hartfordjazzsociety.com
SUMMARY:Jazz Jam at Cafe Nine
DESCRIPTION:Every Saturday\, 4-7
URL:https://hartfordjazzsociety.com/event/jazz-jam-at-cafe-nine-2/2026-04-04/
LOCATION:CT
END:VEVENT
BEGIN:VEVENT
DTSTART;TZID=America/New_York:20260404T180000
DTEND;TZID=America/New_York:20260404T210000
DTSTAMP:20260423T033240
CREATED:20260114T010844Z
LAST-MODIFIED:20260114T012526Z
UID:10007529-1775325600-1775336400@hartfordjazzsociety.com
SUMMARY:Bob Ahern Quartet
DESCRIPTION:The Bob Ahern Quartet will be performing the last Saturday of each month at the legendary Lighthouse Inn from 6-9. The group features Lisa Marien on vocals and Bob Ahern on drums along with various Jazz artists each month.
URL:https://hartfordjazzsociety.com/event/bob-ahern-quartet/2026-04-04/
LOCATION:Lighthouse Inn\, 6 Guthrie Pl\, New London\, CT
END:VEVENT
BEGIN:VEVENT
DTSTART;TZID=America/New_York:20260404T190000
DTEND;TZID=America/New_York:20260404T210000
DTSTAMP:20260423T033240
CREATED:20260402T160437Z
LAST-MODIFIED:20260402T160628Z
UID:10007686-1775329200-1775336400@hartfordjazzsociety.com
SUMMARY:Blue Lion Trio
DESCRIPTION:Every Saturday \nHost & drummer Richard Sylvester has launched a remarkable jazz series (every Saturday!) at this cozy venue
URL:https://hartfordjazzsociety.com/event/blue-lion-trio-4/2026-04-04/
LOCATION:Open Door Tea\, 3552 Main Street\, Stratford\, CT
END:VEVENT
BEGIN:VEVENT
DTSTART;TZID=America/New_York:20260404T200000
DTEND;TZID=America/New_York:20260404T223000
DTSTAMP:20260423T033240
CREATED:20260325T025737Z
LAST-MODIFIED:20260325T025737Z
UID:10007665-1775332800-1775341800@hartfordjazzsociety.com
SUMMARY:Michelle Walker Quartet
DESCRIPTION:Join us for a special night of jazz with Vocalist Michelle Walker and her Quartet! \n\n\n\n\nArmed with a provocative\, whiskey-soaked tone\, jazz vocalist Michelle Walker is a charismatic singer that uses an artful blend of blues\, bebop\, swing and soul with playful rhythmic expressiveness. Based in New York City\, she bends the lines and pushes the boundaries of jazz vocal art. With rich colors and adventurous flexibility\, she moves easily from a dark\, deep tone to a mid-range\, swinging lilt. Michelle is very versatile and blessed with a beautifully distinctive voice. Her artful arrangements are garnishing her critical praise. In her upcoming release\, Love Misery\, Michelle brings together a collection of jazz standards\, original songs and her arrangements of pop tunes that thematically chronicles a love affair. This latest recording project features Joel Frahm on sax\, Ron Affif on guitar\, Toru Dodo on piano\, Michael O’Brien on bass and Willard Dyson on drums. Additional highlights of her career include multiple tours in Europe\, performing in the Lincoln Center Women in Jazz Festival\, touring with jazz vocal legend Mark Murphy and performing at the White House for the lighting of the National Christmas Tree. Dave Nathan at AllAboutJazz.com says\, “Walker demonstrates an extraordinary degree of musicality…” Michelle is often compared to Cassandra Wilson\, Nina Simone and Betty Carter in style and tone but has develop her own unique sound and singular voice. \nIt is easy to see why this is looking to become a breakout year for Walker. In early 2016\, she performed at the JAVA JAZZ FESTIVAL in Jakarta\, Indonesia headlining the festival with Kurt Elling\, Monty Alexander\, Patti Austin\, Chris Botti\, Sting\, Robin Thicke and more. She then went on to tour in Asia which included performing debut concerts in Kazakhstan and Thailand. Michelle has also headlined the Belarus International Jazz Festival in the city of Minsk on the same bill as Vocal group TAKE 6\, The Silver Spring Jazz Festival with Wynton Marsalis and Spyro Gyro\, The Lincoln Center Women in Jazz Festival and the Rehoboth Beach Jazz Festival which featured George Benson. Throughout 2015 & 2016\, she completed a 30 city extraordinary tour in Russia performing at many Philharmonic Concert Halls around the country. The uniqueness of Walker is found her shifting\, rhythmic\, lyrical phrasing and her revived\, unexpected arrangements of standard songs. Mike Joyce of the Washington Post says\, “[Walker]…has a soul-comforting allure.” Michelle has performed in concert with noted jazz musicians Joel Frahm\, Ron Affif\, Dan Tepfer\, Robert Rodriguez\, Benito Gonzales\, Matt Wilson\, Klaus Mueller\, Boris Kozlov\, E.J. Strickland\, Helen Sung\, Ben Monder and Yotam Silberstein. \nMichelle studied classical voice at the University of Maryland and also studied at the Amsterdam Music Conservatory in Holland and the Stanford Jazz in Palo Alto\, CA. Michelle was the first vocalist asked to perform at the “Hot Jazz” Concert Series which featured jazz veterans Kenny Werner\, Eric Alexander\, Peter Bernstein\, David Hazeltine and Jimmy Greene. Walker has performed throughout US\, Canada\, Russia\, Israel England\, Holland and most recently at Blues Alley and The Black Rock Performing Arts Center outside Washington\, DC where she helped kick off the jazz concert season which has featured Russell Malone\, Cyrus Chestnut and Ravi Coltrane. \nHer debut recording\, Slow Down\, was released with critical acclaim. The recording received a Washington Area Musician Association (WAMA) Award nomination for Best Jazz and Debut Album of the year and also a national nomination for Best Independent Jazz Vocal album of the year. Walker spent the first years of her career working as a full-time vocalist in the Washington\, DC area before she moved to New York City\, where she currently resides and performs. While living in the DC area\, the Washington Post placed her several times on its Top Ten Area Performers to see perform live. Michelle served on the 2003-2005 Executive Board for the DC Chapter of the International Association of Jazz Educators (IAJE).
URL:https://hartfordjazzsociety.com/event/michelle-walker-quartet/
LOCATION:Side Door Jazz Club\, 85 Lyme Street\, Old Lyme\, CT\, United States
END:VEVENT
END:VCALENDAR