BEGIN:VCALENDAR
VERSION:2.0
PRODID:-//Hartford Jazz Society - ECPv6.15.20//NONSGML v1.0//EN
CALSCALE:GREGORIAN
METHOD:PUBLISH
X-ORIGINAL-URL:https://hartfordjazzsociety.com
X-WR-CALDESC:Events for Hartford Jazz Society
REFRESH-INTERVAL;VALUE=DURATION:PT1H
X-Robots-Tag:noindex
X-PUBLISHED-TTL:PT1H
BEGIN:VTIMEZONE
TZID:America/New_York
BEGIN:DAYLIGHT
TZOFFSETFROM:-0500
TZOFFSETTO:-0400
TZNAME:EDT
DTSTART:20250309T070000
END:DAYLIGHT
BEGIN:STANDARD
TZOFFSETFROM:-0400
TZOFFSETTO:-0500
TZNAME:EST
DTSTART:20251102T060000
END:STANDARD
BEGIN:DAYLIGHT
TZOFFSETFROM:-0500
TZOFFSETTO:-0400
TZNAME:EDT
DTSTART:20260308T070000
END:DAYLIGHT
BEGIN:STANDARD
TZOFFSETFROM:-0400
TZOFFSETTO:-0500
TZNAME:EST
DTSTART:20261101T060000
END:STANDARD
BEGIN:DAYLIGHT
TZOFFSETFROM:-0500
TZOFFSETTO:-0400
TZNAME:EDT
DTSTART:20270314T070000
END:DAYLIGHT
BEGIN:STANDARD
TZOFFSETFROM:-0400
TZOFFSETTO:-0500
TZNAME:EST
DTSTART:20271107T060000
END:STANDARD
END:VTIMEZONE
BEGIN:VEVENT
DTSTART;TZID=America/New_York:20260408T190000
DTEND;TZID=America/New_York:20260408T220000
DTSTAMP:20260423T033356
CREATED:20260401T031704Z
LAST-MODIFIED:20260407T041424Z
UID:10007032-1775674800-1775685600@hartfordjazzsociety.com
SUMMARY:Black Eyed Sally’s Jazz Jam - Hall High School Combo 1 & Second Sphere under the direction of Nathan Edwards
DESCRIPTION:Located in downtown Hartford\, for the aficionado\, musician\, or the curious first-timer\, Black Eyed Sally’s Jazz Jams are the best taste of live jazz in Hartford. Set in the southern juke joint atmosphere of Black-eyed Sally’s\, these jam sessions will strike a chord as you hear what our local talent has to offer\, with regular special appearances by big city jazz names. Experience the cool original music of the jam session while you enjoy the hot fierce cookin’ of Hartford’s favorite BBQ joint. \nAfter a long hiatus due to the pandemic\, regularly scheduled jazz jams have returned to Black Eyed Sally’s every Wednesday. There will be a featured jazz ensemble followed by an open jam session. Bring your axe and be ready to jam! \nThe music begins at 7:00 PM\, jam session begins after 1st set. No cover charge most nights\, under 21’s welcome. \nPresented by the Hartford Jazz Society and Neefjazz Entertainment
URL:https://hartfordjazzsociety.com/event/black-eyed-sallys-jazz-jam-10-9-17/
LOCATION:Black-eyed Sally’s Southern Kitchen & Bar\, 350 Asylum St.\, Hartford\, CT\, 06103
END:VEVENT
END:VCALENDAR