BEGIN:VCALENDAR
VERSION:2.0
PRODID:-//Hartford Jazz Society - ECPv6.15.20//NONSGML v1.0//EN
CALSCALE:GREGORIAN
METHOD:PUBLISH
X-WR-CALNAME:Hartford Jazz Society
X-ORIGINAL-URL:https://hartfordjazzsociety.com
X-WR-CALDESC:Events for Hartford Jazz Society
REFRESH-INTERVAL;VALUE=DURATION:PT1H
X-Robots-Tag:noindex
X-PUBLISHED-TTL:PT1H
BEGIN:VTIMEZONE
TZID:America/New_York
BEGIN:DAYLIGHT
TZOFFSETFROM:-0500
TZOFFSETTO:-0400
TZNAME:EDT
DTSTART:20250309T070000
END:DAYLIGHT
BEGIN:STANDARD
TZOFFSETFROM:-0400
TZOFFSETTO:-0500
TZNAME:EST
DTSTART:20251102T060000
END:STANDARD
BEGIN:DAYLIGHT
TZOFFSETFROM:-0500
TZOFFSETTO:-0400
TZNAME:EDT
DTSTART:20260308T070000
END:DAYLIGHT
BEGIN:STANDARD
TZOFFSETFROM:-0400
TZOFFSETTO:-0500
TZNAME:EST
DTSTART:20261101T060000
END:STANDARD
BEGIN:DAYLIGHT
TZOFFSETFROM:-0500
TZOFFSETTO:-0400
TZNAME:EDT
DTSTART:20270314T070000
END:DAYLIGHT
BEGIN:STANDARD
TZOFFSETFROM:-0400
TZOFFSETTO:-0500
TZNAME:EST
DTSTART:20271107T060000
END:STANDARD
END:VTIMEZONE
BEGIN:VEVENT
DTSTART;TZID=America/New_York:20260416T193000
DTEND;TZID=America/New_York:20260416T213000
DTSTAMP:20260423T033236
CREATED:20260412T122207Z
LAST-MODIFIED:20260412T122207Z
UID:10007741-1776367800-1776375000@hartfordjazzsociety.com
SUMMARY:Jane Monheit
DESCRIPTION:Jane Monheit is a jazz and adult contemporary vocalist with a deep passion for the Great American Songbook. With many highly acclaimed solo albums\, countless awards and accolades\, and over two decades of international touring experience\, Jane has not only been an extremely successful bandleader\, but has had the privilege of making music with some of the greatest musicians\, arrangers\, and producers in jazz. \nDuring her childhood\, Jane studied woodwinds and piano\, spent a decade performing in award winning choirs\, and participated in community theater on Long Island. Throughout all of this\, her focus remained on jazz\, especially interpretation of the Songbook. At the age of 20\, during her senior year at the prestigious Manhattan School Of Music\, Jane placed second in the Thelonious Monk Competition\, now known as the Hancock Competition. This led to an incredible career trajectory\, catapulting Jane into the jazz stratosphere nearly overnight. \nBy 22\, Jane was working with legends such as Tommy Flanagan\, Ron Carter\, and Kenny Barron\, recording her first albums\, and touring the planet. This led to collaborations with jazz luminaries such as Terence Blanchard\, Ivan Lins\, Tom Harrell\, John Pizzarelli\, Christian McBride\, Vince Mendoza\, Jorge Calandrelli\, and many more. Countless television appearances followed\, including David Letterman\, Conan O’Brien\, CBS Sunday Morning\, Good Morning America\, The Tonight Show\, The View\, and many popular international talk shows. Several successful film soundtracks have also included Jane’s music\, including Sky Captain And The World Of Tomorrow and Never Let Me Go. \nAfter more than twenty years\, twelve studio albums and countless recorded guest appearances\, Jane has continued to tour the world nearly nonstop\, including playing iconic venues such as Carnegie Hall\, The Hollywood Bowl\, and headlining at nearly every legendary jazz club on the planet\, most notably NY stalwarts such as the Village Vanguard and Birdland. In addition to touring\, she also writes English lyrics for Ivan Lins\, and uses the knowledge and experience she has gained both at Manhattan School Of Music and on the legendary bandstands of the world to educate and uplift students worldwide. Jane resides in Los Angeles with her husband of over twenty years\, drummer Rick Montalbano\, and their son.
URL:https://hartfordjazzsociety.com/event/jane-monheit-2/
LOCATION:Katherine Hepburn Cultural Arts Center\, 300 Main Street\, Old Saybrook\, CT
END:VEVENT
END:VCALENDAR