BEGIN:VCALENDAR
VERSION:2.0
PRODID:-//Hartford Jazz Society - ECPv6.15.20//NONSGML v1.0//EN
CALSCALE:GREGORIAN
METHOD:PUBLISH
X-WR-CALNAME:Hartford Jazz Society
X-ORIGINAL-URL:https://hartfordjazzsociety.com
X-WR-CALDESC:Events for Hartford Jazz Society
REFRESH-INTERVAL;VALUE=DURATION:PT1H
X-Robots-Tag:noindex
X-PUBLISHED-TTL:PT1H
BEGIN:VTIMEZONE
TZID:America/New_York
BEGIN:DAYLIGHT
TZOFFSETFROM:-0500
TZOFFSETTO:-0400
TZNAME:EDT
DTSTART:20250309T070000
END:DAYLIGHT
BEGIN:STANDARD
TZOFFSETFROM:-0400
TZOFFSETTO:-0500
TZNAME:EST
DTSTART:20251102T060000
END:STANDARD
BEGIN:DAYLIGHT
TZOFFSETFROM:-0500
TZOFFSETTO:-0400
TZNAME:EDT
DTSTART:20260308T070000
END:DAYLIGHT
BEGIN:STANDARD
TZOFFSETFROM:-0400
TZOFFSETTO:-0500
TZNAME:EST
DTSTART:20261101T060000
END:STANDARD
BEGIN:DAYLIGHT
TZOFFSETFROM:-0500
TZOFFSETTO:-0400
TZNAME:EDT
DTSTART:20270314T070000
END:DAYLIGHT
BEGIN:STANDARD
TZOFFSETFROM:-0400
TZOFFSETTO:-0500
TZNAME:EST
DTSTART:20271107T060000
END:STANDARD
END:VTIMEZONE
BEGIN:VEVENT
DTSTART;TZID=America/New_York:20260428T190000
DTEND;TZID=America/New_York:20260428T210000
DTSTAMP:20260423T033237
CREATED:20251116T023901Z
LAST-MODIFIED:20251116T023902Z
UID:10007114-1777402800-1777410000@hartfordjazzsociety.com
SUMMARY:Jazz at Cafe Nine
DESCRIPTION:Presented by New Haven Jazz Underground on the 2nd & 4th Tuesday every month. \n 
URL:https://hartfordjazzsociety.com/event/jazz-at-cafe-nine-3/2026-04-28/
LOCATION:Cafe Nine\, 250 State Street\, New Haven\, CT\, 06510
END:VEVENT
BEGIN:VEVENT
DTSTART;TZID=America/New_York:20260428T200000
DTEND;TZID=America/New_York:20260428T220000
DTSTAMP:20260423T033237
CREATED:20251116T034317Z
LAST-MODIFIED:20251116T034317Z
UID:10007293-1777406400-1777413600@hartfordjazzsociety.com
SUMMARY:Michael Palin's Other Orchestra
DESCRIPTION:It’s a funky Big Band thang\, a large jazz ensemble that rocks the house. Playing music from Tower of Power\, Frank Zappa\, The Brecker Brothers\, Jaco Pastorious\, Steely Dan\, The Yellow Jackets\, Bob Berg…..You’ll want to see them again and again! \nhttps://www.facebook.com/OtherOrchestra/
URL:https://hartfordjazzsociety.com/event/michael-palins-other-orchestra/2026-04-28/
LOCATION:The Hungry Tiger\, 120 Charter Oak Street\, Manchester\, CT
END:VEVENT
END:VCALENDAR