BEGIN:VCALENDAR
VERSION:2.0
PRODID:-//Hartford Jazz Society - ECPv6.15.20//NONSGML v1.0//EN
CALSCALE:GREGORIAN
METHOD:PUBLISH
X-ORIGINAL-URL:https://hartfordjazzsociety.com
X-WR-CALDESC:Events for Hartford Jazz Society
REFRESH-INTERVAL;VALUE=DURATION:PT1H
X-Robots-Tag:noindex
X-PUBLISHED-TTL:PT1H
BEGIN:VTIMEZONE
TZID:America/New_York
BEGIN:DAYLIGHT
TZOFFSETFROM:-0500
TZOFFSETTO:-0400
TZNAME:EDT
DTSTART:20250309T070000
END:DAYLIGHT
BEGIN:STANDARD
TZOFFSETFROM:-0400
TZOFFSETTO:-0500
TZNAME:EST
DTSTART:20251102T060000
END:STANDARD
BEGIN:DAYLIGHT
TZOFFSETFROM:-0500
TZOFFSETTO:-0400
TZNAME:EDT
DTSTART:20260308T070000
END:DAYLIGHT
BEGIN:STANDARD
TZOFFSETFROM:-0400
TZOFFSETTO:-0500
TZNAME:EST
DTSTART:20261101T060000
END:STANDARD
BEGIN:DAYLIGHT
TZOFFSETFROM:-0500
TZOFFSETTO:-0400
TZNAME:EDT
DTSTART:20270314T070000
END:DAYLIGHT
BEGIN:STANDARD
TZOFFSETFROM:-0400
TZOFFSETTO:-0500
TZNAME:EST
DTSTART:20271107T060000
END:STANDARD
END:VTIMEZONE
BEGIN:VEVENT
DTSTART;TZID=America/New_York:20260501T171500
DTEND;TZID=America/New_York:20260501T190000
DTSTAMP:20260423T033514
CREATED:20251210T225210Z
LAST-MODIFIED:20251210T225210Z
UID:10007384-1777655700-1777662000@hartfordjazzsociety.com
SUMMARY:Fridays with Frank
DESCRIPTION:Join renowned jazz historian and Jazz Haven Board member Frank Cochran for BYOB “Fridays with Frank.”  Happy Hour jazz listening sessions are held every Friday from 5:15 to 7:00 pm at the Institute Library in downtown New Haven.  Each Friday Frank selects iconic jazz LPs to play from the Library’s extensive collection.  Discussion follows.  BYOB and please give a modest donation towards the IL’s spiraling utilities. A $5.00 contribution is welcome.
URL:https://hartfordjazzsociety.com/event/fridays-with-frank/2026-05-01/
LOCATION:Institute Library\, 847 Chapel Street\, New Haven\, CT
END:VEVENT
BEGIN:VEVENT
DTSTART;TZID=America/New_York:20260501T180000
DTEND;TZID=America/New_York:20260501T210000
DTSTAMP:20260423T033514
CREATED:20250809T210305Z
LAST-MODIFIED:20251116T031646Z
UID:10006756-1777658400-1777669200@hartfordjazzsociety.com
SUMMARY:Jazz at Three Sheets
DESCRIPTION:New England Jazz Underground presents jazz on the 1st and 3rd Friday every month.
URL:https://hartfordjazzsociety.com/event/jazz-at-three-sheets-3/2026-05-01/
LOCATION:Three Sheets\, 372 Elm Street\, New Haven\, CT
END:VEVENT
BEGIN:VEVENT
DTSTART;TZID=America/New_York:20260501T203000
DTEND;TZID=America/New_York:20260501T233000
DTSTAMP:20260423T033514
CREATED:20260316T035547Z
LAST-MODIFIED:20260316T035629Z
UID:10007648-1777667400-1777678200@hartfordjazzsociety.com
SUMMARY:Firehouse 12 Spring Jazz Series
DESCRIPTION:Performances are on Friday nights at 8:30pm and 10:00pm.  Tickets for each performance can be purchased individually\, with prices at $20 for our early shows and $15 for our late shows.  Our Season Pass is available for $225\, which provides 1 ticket to all sets of the 13 performances. \nThe complete season calendar can be viewed here. \nMarch 20: GEORGE\nMarch 27: Dave Fiuczynski’s KiF\nApril 3: Sun of Goldfinger\nApril 10: Amanda Monaco’s Deathblow\nApril 17: Caroline Davis\, Solo\nApril 24: David Berkman Quartet\nMay 1: Mary Halvorson: Canis Major\nMay 8: Anna Badkhen Dezron Douglas Duo\nMay 15: Jerome Sabbagh Quartet\nMay 22: Allison\, Cardenas & Nash\nMay 29: Marta Sanchez (Solo Piano)\nJune 5: Max Johnson Sextet\nJune 12: Curtis Hasselbring’s The Curhachestra \nAll 13 shows are on sale now at firehouse12.com. Tickets are $20 for the 8:30pm performance and $15 for 10:00pm. The complete Season Pass is $225. All tickets can be purchased online or\, subject to availability\, at the box office on the night of the show.
URL:https://hartfordjazzsociety.com/event/firehouse-12-spring-jazz-series-2/2026-05-01/
LOCATION:Firehouse 12\, 45 Crown Street\, New Haven\, CT
END:VEVENT
END:VCALENDAR