BEGIN:VCALENDAR
VERSION:2.0
PRODID:-//Hartford Jazz Society - ECPv6.15.20//NONSGML v1.0//EN
CALSCALE:GREGORIAN
METHOD:PUBLISH
X-ORIGINAL-URL:https://hartfordjazzsociety.com
X-WR-CALDESC:Events for Hartford Jazz Society
REFRESH-INTERVAL;VALUE=DURATION:PT1H
X-Robots-Tag:noindex
X-PUBLISHED-TTL:PT1H
BEGIN:VTIMEZONE
TZID:America/New_York
BEGIN:DAYLIGHT
TZOFFSETFROM:-0500
TZOFFSETTO:-0400
TZNAME:EDT
DTSTART:20250309T070000
END:DAYLIGHT
BEGIN:STANDARD
TZOFFSETFROM:-0400
TZOFFSETTO:-0500
TZNAME:EST
DTSTART:20251102T060000
END:STANDARD
BEGIN:DAYLIGHT
TZOFFSETFROM:-0500
TZOFFSETTO:-0400
TZNAME:EDT
DTSTART:20260308T070000
END:DAYLIGHT
BEGIN:STANDARD
TZOFFSETFROM:-0400
TZOFFSETTO:-0500
TZNAME:EST
DTSTART:20261101T060000
END:STANDARD
BEGIN:DAYLIGHT
TZOFFSETFROM:-0500
TZOFFSETTO:-0400
TZNAME:EDT
DTSTART:20270314T070000
END:DAYLIGHT
BEGIN:STANDARD
TZOFFSETFROM:-0400
TZOFFSETTO:-0500
TZNAME:EST
DTSTART:20271107T060000
END:STANDARD
END:VTIMEZONE
BEGIN:VEVENT
DTSTART;TZID=America/New_York:20260616T193000
DTEND;TZID=America/New_York:20260616T213000
DTSTAMP:20260425T080928
CREATED:20260412T123936Z
LAST-MODIFIED:20260412T123936Z
UID:10007747-1781638200-1781645400@hartfordjazzsociety.com
SUMMARY:The Bad Plus
DESCRIPTION:The Bad Plus has been a band for 26 years. That’s quite a long time! As we enter into year 27 – after a great deal of soul searching and consideration – we have decided to bring this chapter to a close. 2026 will be the final year of The Bad Plus. We share this news with heavy hearts\, but also with great pride in what we have accomplished. It has been a privilege to share our music with the world and we leave behind a body of work that we could not be more proud of. – With love and gratitude\, Reid and Dave \nThe Bad Plus are the ultimate originals. A democratic unit with a clear vision and a refusal to conform to convention. For the past two decades they have played with spirit and adventure\, made their own rules and done so with a bold sense of creativity and intent. Avoiding easy categorization\, The Bad Plus has won critical acclaim and a legion of fans worldwide with their unique sound and flair for live performance. The Bad Plus continues to push boundaries as founding members Reid Anderson (bass) and Dave King (drums) embark on a new piano-less incarnation of the band with Ben Monder (guitar) and Chris Speed (tenor saxophone) – instigating a new wave of excitement and anticipation within the band that is re-energizing their sound and inspiration. The Bad Plus have constantly searched to bridge genres and techniques while exploring the infinite possibilities of exceptional musicians working in perfect sync. The Bad Plus is set to release their 18th album via Mack Avenue Records on Friday\, November 8th. “Evolution is necessary for life and creativity\,” say Dave King and Reid Anderson. “We’ve evolved\, but we’re still The Bad Plus.”
URL:https://hartfordjazzsociety.com/event/the-bad-plus/
LOCATION:Katherine Hepburn Cultural Arts Center\, 300 Main Street\, Old Saybrook\, CT
END:VEVENT
BEGIN:VEVENT
DTSTART;TZID=America/New_York:20260616T200000
DTEND;TZID=America/New_York:20260616T220000
DTSTAMP:20260425T080928
CREATED:20251116T034317Z
LAST-MODIFIED:20251116T034317Z
UID:10007300-1781640000-1781647200@hartfordjazzsociety.com
SUMMARY:Michael Palin's Other Orchestra
DESCRIPTION:It’s a funky Big Band thang\, a large jazz ensemble that rocks the house. Playing music from Tower of Power\, Frank Zappa\, The Brecker Brothers\, Jaco Pastorious\, Steely Dan\, The Yellow Jackets\, Bob Berg…..You’ll want to see them again and again! \nhttps://www.facebook.com/OtherOrchestra/
URL:https://hartfordjazzsociety.com/event/michael-palins-other-orchestra/2026-06-16/
LOCATION:The Hungry Tiger\, 120 Charter Oak Street\, Manchester\, CT
END:VEVENT
END:VCALENDAR