BEGIN:VCALENDAR
VERSION:2.0
PRODID:-//Hartford Jazz Society - ECPv6.15.20//NONSGML v1.0//EN
CALSCALE:GREGORIAN
METHOD:PUBLISH
X-WR-CALNAME:Hartford Jazz Society
X-ORIGINAL-URL:https://hartfordjazzsociety.com
X-WR-CALDESC:Events for Hartford Jazz Society
REFRESH-INTERVAL;VALUE=DURATION:PT1H
X-Robots-Tag:noindex
X-PUBLISHED-TTL:PT1H
BEGIN:VTIMEZONE
TZID:America/New_York
BEGIN:DAYLIGHT
TZOFFSETFROM:-0500
TZOFFSETTO:-0400
TZNAME:EDT
DTSTART:20250309T070000
END:DAYLIGHT
BEGIN:STANDARD
TZOFFSETFROM:-0400
TZOFFSETTO:-0500
TZNAME:EST
DTSTART:20251102T060000
END:STANDARD
BEGIN:DAYLIGHT
TZOFFSETFROM:-0500
TZOFFSETTO:-0400
TZNAME:EDT
DTSTART:20260308T070000
END:DAYLIGHT
BEGIN:STANDARD
TZOFFSETFROM:-0400
TZOFFSETTO:-0500
TZNAME:EST
DTSTART:20261101T060000
END:STANDARD
BEGIN:DAYLIGHT
TZOFFSETFROM:-0500
TZOFFSETTO:-0400
TZNAME:EDT
DTSTART:20270314T070000
END:DAYLIGHT
BEGIN:STANDARD
TZOFFSETFROM:-0400
TZOFFSETTO:-0500
TZNAME:EST
DTSTART:20271107T060000
END:STANDARD
END:VTIMEZONE
BEGIN:VEVENT
DTSTART;VALUE=DATE:20260625
DTEND;VALUE=DATE:20260629
DTSTAMP:20260425T080914
CREATED:20260121T020925Z
LAST-MODIFIED:20260121T043917Z
UID:10007576-1782345600-1782691199@hartfordjazzsociety.com
SUMMARY:Montreal Jazz Weekend
DESCRIPTION:Montreal Jazz Weekend – June 25-28\, 2026 \nRecognized by Guinness World Records as the largest jazz festival on the planet\, the Festival has been synonymous with musical passion and memorable moments for over 40 years. It’s where living legends rub shoulders with the finest up-and-coming artists\, and jazz explodes at the crossroads of genres and influences. Located in the heart of downtown Montreal\, closed to traffic and opened each evening until midnight\, the Festival site becomes the meeting place for jazz lovers worldwide for ten days. Together\, they enjoy close to 150 indoor concerts and the famous outdoor component\, consisting of more than 350 free\, open-air shows\, presented on the Place des Festivals\, which has been specially redesigned and set up for the event. This festival impresses with its numbers: there are over 2 million visitors\, 3\,000 musicians\, and 600 concerts. Every year at the end of June to the beginning of July\, Montréal becomes the epicentre of the jazz world. Long live jazz!!!!!! \nSpace is Limited!  Book Now! Contact: \nTonya Knight\n860-922-7220\ntonanite@gmail.com \nPackage Includes: \nRound Trip Motorcoach Transportation \n\n3 Nights Quality Accommodations at the Holiday Inn Select Montreal Centre-Ville \n235 rooms\nHealth & Fitness Center\nIndoor Heated Swimming Pool\, Sauna\, Whirlpool\nSpa Facilities\nFull Buffet Breakfast each morning\n\nTransportation to the Casino de Montreal – Friday evening\nHotel taxes and Gratuities \nDISCOUNT PRICE PER PERSON\n$1\,100 per person based on 1 per room\n$   695 per person based on 2 per room\n$   600 per person based on 3 per room\n$   550 per person based on 4 per room \nPassports are required   \nBus Departs: 8:00AM\nFrom:  Poquonock Commuter Lot\, Windsor CT (91N Exit 38) \nMake checks or money orders payable to:  Tonya Knight \nMail payments to:\nTonya Knight\nP.O. Box 94\nPoquonock\, CT  06064 \nOther Payment Options: CashApp $Tonanite; Venmo @Tonya1514 or Zelle 860-922-7220 \nPayment schedule per person: January 31st $100\, February 28th $100\, March 31st $200\, April 30th $200\, any remaining balances must be paid by May 31st.  \nDeposits are non-refundable unless trip is cancelled
URL:https://hartfordjazzsociety.com/event/montreal-jazz-weekend/
LOCATION:MA
END:VEVENT
BEGIN:VEVENT
DTSTART;TZID=America/New_York:20260625T193000
DTEND;TZID=America/New_York:20260625T210000
DTSTAMP:20260425T080914
CREATED:20260402T154136Z
LAST-MODIFIED:20260402T154136Z
UID:10007682-1782415800-1782421200@hartfordjazzsociety.com
SUMMARY:Somi
DESCRIPTION:Vocalist\, composer\, actor\, and playwright Somi Kakoma is the daughter of immigrants from Uganda and Rwanda. A true renaissance woman\, she is known in the jazz world simply as ‘Somi’. Her fifth studio album\, Zenzile: The Reimagination of Miriam Makeba\, is a companion project to the critically acclaimed original musical “Dreaming Zenzile” that Somi also wrote and starred in Off-Broadway as a tribute to the great South African singer and activist. Prior to Zenzile and at the height of the 2020 global lockdown\, Somi released an unplanned live album called Holy Room featuring the Frankfurt Radio Big Band that ultimately earned her a 2021 Grammy® nomination for Best Jazz Vocal Album and made her the first African woman ever nominated in any of the Grammy® jazz categories. \nSomi is a recipient of the 2023 Doris Duke Artist Award\, two NAACP Image Awards for Best Vocal Jazz Album\, and the inaugural Jazz Music Award for Best Vocal Performance. She is also a Soros Equality Fellow\, a United States Artist Fellow\, a TED Senior Fellow\, a Sundance Theatre Fellow\, and the founder of Salon Africana – a boutique cultural agency and record label. Recently\, Somi made her Broadway debut in the title role of the critically acclaimed new play “Jaja’s African Hair Braiding” by Joceyln Bioh. \nSomi holds degrees in Cultural Anthropology and African Studies from University of Illinois at Urbana-Champaign\, a Master’s degree in Performance Studies from Tisch School of the Arts at NYU\, and is currently working on her PhD at Harvard University’s Department of Music. In her heart of hearts\, she is an East African Midwestern girl who loves family\, poetry\, and freedom.
URL:https://hartfordjazzsociety.com/event/somi/
LOCATION:University Theatre\, 222 York Street\, New Haven
END:VEVENT
END:VCALENDAR