BEGIN:VCALENDAR
VERSION:2.0
PRODID:-//Hartford Jazz Society - ECPv6.15.20//NONSGML v1.0//EN
CALSCALE:GREGORIAN
METHOD:PUBLISH
X-WR-CALNAME:Hartford Jazz Society
X-ORIGINAL-URL:https://hartfordjazzsociety.com
X-WR-CALDESC:Events for Hartford Jazz Society
REFRESH-INTERVAL;VALUE=DURATION:PT1H
X-Robots-Tag:noindex
X-PUBLISHED-TTL:PT1H
BEGIN:VTIMEZONE
TZID:America/New_York
BEGIN:DAYLIGHT
TZOFFSETFROM:-0500
TZOFFSETTO:-0400
TZNAME:EDT
DTSTART:20250309T070000
END:DAYLIGHT
BEGIN:STANDARD
TZOFFSETFROM:-0400
TZOFFSETTO:-0500
TZNAME:EST
DTSTART:20251102T060000
END:STANDARD
BEGIN:DAYLIGHT
TZOFFSETFROM:-0500
TZOFFSETTO:-0400
TZNAME:EDT
DTSTART:20260308T070000
END:DAYLIGHT
BEGIN:STANDARD
TZOFFSETFROM:-0400
TZOFFSETTO:-0500
TZNAME:EST
DTSTART:20261101T060000
END:STANDARD
BEGIN:DAYLIGHT
TZOFFSETFROM:-0500
TZOFFSETTO:-0400
TZNAME:EDT
DTSTART:20270314T070000
END:DAYLIGHT
BEGIN:STANDARD
TZOFFSETFROM:-0400
TZOFFSETTO:-0500
TZNAME:EST
DTSTART:20271107T060000
END:STANDARD
END:VTIMEZONE
BEGIN:VEVENT
DTSTART;TZID=America/New_York:20260725T190000
DTEND;TZID=America/New_York:20260725T210000
DTSTAMP:20260424T115415
CREATED:20260402T160437Z
LAST-MODIFIED:20260402T160628Z
UID:10007702-1785006000-1785013200@hartfordjazzsociety.com
SUMMARY:Blue Lion Trio
DESCRIPTION:Every Saturday \nHost & drummer Richard Sylvester has launched a remarkable jazz series (every Saturday!) at this cozy venue
URL:https://hartfordjazzsociety.com/event/blue-lion-trio-4/2026-07-25/
LOCATION:Open Door Tea\, 3552 Main Street\, Stratford\, CT
END:VEVENT
BEGIN:VEVENT
DTSTART;TZID=America/New_York:20260725T180000
DTEND;TZID=America/New_York:20260725T210000
DTSTAMP:20260424T115415
CREATED:20260114T010844Z
LAST-MODIFIED:20260114T012526Z
UID:10007545-1785002400-1785013200@hartfordjazzsociety.com
SUMMARY:Bob Ahern Quartet
DESCRIPTION:The Bob Ahern Quartet will be performing the last Saturday of each month at the legendary Lighthouse Inn from 6-9. The group features Lisa Marien on vocals and Bob Ahern on drums along with various Jazz artists each month.
URL:https://hartfordjazzsociety.com/event/bob-ahern-quartet/2026-07-25/
LOCATION:Lighthouse Inn\, 6 Guthrie Pl\, New London\, CT
END:VEVENT
BEGIN:VEVENT
DTSTART;TZID=America/New_York:20260725T160000
DTEND;TZID=America/New_York:20260725T190000
DTSTAMP:20260424T115415
CREATED:20251116T031948Z
LAST-MODIFIED:20251116T031948Z
UID:10007182-1784995200-1785006000@hartfordjazzsociety.com
SUMMARY:Jazz Jam at Cafe Nine
DESCRIPTION:Every Saturday\, 4-7
URL:https://hartfordjazzsociety.com/event/jazz-jam-at-cafe-nine-2/2026-07-25/
LOCATION:MA
END:VEVENT
BEGIN:VEVENT
DTSTART;TZID=America/New_York:20260724T171500
DTEND;TZID=America/New_York:20260724T190000
DTSTAMP:20260424T115415
CREATED:20251210T225210Z
LAST-MODIFIED:20251210T225210Z
UID:10007396-1784913300-1784919600@hartfordjazzsociety.com
SUMMARY:Fridays with Frank
DESCRIPTION:Join renowned jazz historian and Jazz Haven Board member Frank Cochran for BYOB “Fridays with Frank.”  Happy Hour jazz listening sessions are held every Friday from 5:15 to 7:00 pm at the Institute Library in downtown New Haven.  Each Friday Frank selects iconic jazz LPs to play from the Library’s extensive collection.  Discussion follows.  BYOB and please give a modest donation towards the IL’s spiraling utilities. A $5.00 contribution is welcome.
URL:https://hartfordjazzsociety.com/event/fridays-with-frank/2026-07-24/
LOCATION:Institute Library\, 847 Chapel Street\, New Haven\, CT
END:VEVENT
BEGIN:VEVENT
DTSTART;TZID=America/New_York:20260722T190000
DTEND;TZID=America/New_York:20260722T220000
DTSTAMP:20260424T115415
CREATED:20251103T042112Z
LAST-MODIFIED:20251103T042117Z
UID:10007047-1784746800-1784757600@hartfordjazzsociety.com
SUMMARY:Black Eyed Sally’s Jazz Jam
DESCRIPTION:Located in downtown Hartford\, for the aficionado\, musician\, or the curious first-timer\, Black Eyed Sally’s Jazz Jams are the best taste of live jazz in Hartford. Set in the southern juke joint atmosphere of Black-eyed Sally’s\, these jam sessions will strike a chord as you hear what our local talent has to offer\, with regular special appearances by big city jazz names. Experience the cool original music of the jam session while you enjoy the hot fierce cookin’ of Hartford’s favorite BBQ joint. \nAfter a long hiatus due to the pandemic\, regularly scheduled jazz jams have returned to Black Eyed Sally’s every Wednesday. There will be a featured jazz ensemble followed by an open jam session. Bring your axe and be ready to jam! \nThe music begins at 7:00 PM\, jam session begins after 1st set. No cover charge most nights\, under 21’s welcome. \nPresented by the Hartford Jazz Society and Neefjazz Entertainment
URL:https://hartfordjazzsociety.com/event/black-eyed-sallys-jazz-jam-10-9/2026-07-22/
LOCATION:Black-eyed Sally’s Southern Kitchen & Bar\, 350 Asylum St.\, Hartford\, CT\, 06103
END:VEVENT
BEGIN:VEVENT
DTSTART;TZID=America/New_York:20260721T200000
DTEND;TZID=America/New_York:20260721T220000
DTSTAMP:20260424T115415
CREATED:20251116T034317Z
LAST-MODIFIED:20251116T034317Z
UID:10007305-1784664000-1784671200@hartfordjazzsociety.com
SUMMARY:Michael Palin's Other Orchestra
DESCRIPTION:It’s a funky Big Band thang\, a large jazz ensemble that rocks the house. Playing music from Tower of Power\, Frank Zappa\, The Brecker Brothers\, Jaco Pastorious\, Steely Dan\, The Yellow Jackets\, Bob Berg…..You’ll want to see them again and again! \nhttps://www.facebook.com/OtherOrchestra/
URL:https://hartfordjazzsociety.com/event/michael-palins-other-orchestra/2026-07-21/
LOCATION:The Hungry Tiger\, 120 Charter Oak Street\, Manchester\, CT
END:VEVENT
BEGIN:VEVENT
DTSTART;TZID=America/New_York:20260720T193000
DTEND;TZID=America/New_York:20260720T213000
DTSTAMP:20260424T115415
CREATED:20251217T142857Z
LAST-MODIFIED:20251217T142857Z
UID:10007473-1784575800-1784583000@hartfordjazzsociety.com
SUMMARY:Hartford Jazz Orchestra
DESCRIPTION:Every Monday at Elicit Brewery in Manchester CT. No cover.
URL:https://hartfordjazzsociety.com/event/hartford-jazz-orchestra/2026-07-20/
LOCATION:Elicit Brewery\, 165 Adams Street\, Manchester\, CT
END:VEVENT
BEGIN:VEVENT
DTSTART;TZID=America/New_York:20260720T190000
DTEND;TZID=America/New_York:20260720T203000
DTSTAMP:20260424T115415
CREATED:20251116T032622Z
LAST-MODIFIED:20251116T032844Z
UID:10007243-1784574000-1784579400@hartfordjazzsociety.com
SUMMARY:Tuxedo Junction
DESCRIPTION:For over 24 years\, hosting public rehearsals every Monday night\, now at Guilford VFW Post 7666. \nTuxedo Junction was started in 1989 by Pete Jacobs (trumpet) and Will Tayler (drums)\, WWII veterans who set up an 8-piece Dixieland jazz band in the basement of the senior citizens center in Madison\, CT. Pat soon joined on piano. \nThe band quickly grew into a full swing band as Pete added big band arrangements and people joined: everyone from high school students to retired music teachers started to fill out the sections. Tuxedo Junction moved its practice home to the Westbrook Elks briefly\, and in 1997 Paul James suggested that Bill’s Seafood restaurant in Westbrook would be a great place to share the sounds of swing. After more than 20 years of Monday nights at Bill’s\, originally outnumbering the customers and staff before turning it into the most happening place on the Shoreline for a Monday night\, we moved outside to Town Greens\, Overlook Farm in Killingworth\, and the Guilford VFW. \nTuxedo Junction plays original big band arrangements from the 30’s through the present\, including charts from Count Basie\, Duke Ellington\, Glenn Miller\, Sy Zentner\, Buddy Rich\, Frank Sinatra\, Ella Fitzgerald\, and more. We focus on danceable tunes from swing to waltz\, foxtrot to two-step\, Latin and even some rock. The band has weekly open rehearsals at local venues on the Eastern Connecticut shoreline. The public is invited to dance and listen in at no charge. We are also available for hire at public and private events throughout Connecticut. \nAfter more than 1\,001 performances\, Tuxedo Junction has become a musical success story. We are now eighteen passionate musicians\, men and women of all ages\, following the great jazz tradition and warmly welcoming visiting jazz musicians to sit in.
URL:https://hartfordjazzsociety.com/event/tuxedo-junction/2026-07-20/
LOCATION:Guilford VFW Post 9666\, 104 Mill Road\, Guilford\, CT
END:VEVENT
BEGIN:VEVENT
DTSTART;TZID=America/New_York:20260718T190000
DTEND;TZID=America/New_York:20260718T210000
DTSTAMP:20260424T115415
CREATED:20260402T160437Z
LAST-MODIFIED:20260402T160628Z
UID:10007701-1784401200-1784408400@hartfordjazzsociety.com
SUMMARY:Blue Lion Trio
DESCRIPTION:Every Saturday \nHost & drummer Richard Sylvester has launched a remarkable jazz series (every Saturday!) at this cozy venue
URL:https://hartfordjazzsociety.com/event/blue-lion-trio-4/2026-07-18/
LOCATION:Open Door Tea\, 3552 Main Street\, Stratford\, CT
END:VEVENT
BEGIN:VEVENT
DTSTART;TZID=America/New_York:20260718T180000
DTEND;TZID=America/New_York:20260718T210000
DTSTAMP:20260424T115415
CREATED:20260114T010844Z
LAST-MODIFIED:20260114T012526Z
UID:10007544-1784397600-1784408400@hartfordjazzsociety.com
SUMMARY:Bob Ahern Quartet
DESCRIPTION:The Bob Ahern Quartet will be performing the last Saturday of each month at the legendary Lighthouse Inn from 6-9. The group features Lisa Marien on vocals and Bob Ahern on drums along with various Jazz artists each month.
URL:https://hartfordjazzsociety.com/event/bob-ahern-quartet/2026-07-18/
LOCATION:Lighthouse Inn\, 6 Guthrie Pl\, New London\, CT
END:VEVENT
BEGIN:VEVENT
DTSTART;TZID=America/New_York:20260718T160000
DTEND;TZID=America/New_York:20260718T190000
DTSTAMP:20260424T115415
CREATED:20251116T031948Z
LAST-MODIFIED:20251116T031948Z
UID:10007181-1784390400-1784401200@hartfordjazzsociety.com
SUMMARY:Jazz Jam at Cafe Nine
DESCRIPTION:Every Saturday\, 4-7
URL:https://hartfordjazzsociety.com/event/jazz-jam-at-cafe-nine-2/2026-07-18/
LOCATION:MA
END:VEVENT
BEGIN:VEVENT
DTSTART;TZID=America/New_York:20260717T180000
DTEND;TZID=America/New_York:20260717T210000
DTSTAMP:20260424T115415
CREATED:20251116T031536Z
LAST-MODIFIED:20251116T031537Z
UID:10006735-1784311200-1784322000@hartfordjazzsociety.com
SUMMARY:Jazz at Three Sheets
DESCRIPTION:New England Jazz Underground presents jazz on the 1st and 3rd Friday every month.
URL:https://hartfordjazzsociety.com/event/jazz-at-three-sheets-2-2/2026-07-17/
LOCATION:Three Sheets\, 372 Elm Street\, New Haven\, CT
END:VEVENT
BEGIN:VEVENT
DTSTART;TZID=America/New_York:20260717T171500
DTEND;TZID=America/New_York:20260717T190000
DTSTAMP:20260424T115415
CREATED:20251210T225210Z
LAST-MODIFIED:20251210T225210Z
UID:10007395-1784308500-1784314800@hartfordjazzsociety.com
SUMMARY:Fridays with Frank
DESCRIPTION:Join renowned jazz historian and Jazz Haven Board member Frank Cochran for BYOB “Fridays with Frank.”  Happy Hour jazz listening sessions are held every Friday from 5:15 to 7:00 pm at the Institute Library in downtown New Haven.  Each Friday Frank selects iconic jazz LPs to play from the Library’s extensive collection.  Discussion follows.  BYOB and please give a modest donation towards the IL’s spiraling utilities. A $5.00 contribution is welcome.
URL:https://hartfordjazzsociety.com/event/fridays-with-frank/2026-07-17/
LOCATION:Institute Library\, 847 Chapel Street\, New Haven\, CT
END:VEVENT
BEGIN:VEVENT
DTSTART;TZID=America/New_York:20260715T190000
DTEND;TZID=America/New_York:20260715T220000
DTSTAMP:20260424T115415
CREATED:20251103T042112Z
LAST-MODIFIED:20251103T042117Z
UID:10007046-1784142000-1784152800@hartfordjazzsociety.com
SUMMARY:Black Eyed Sally’s Jazz Jam
DESCRIPTION:Located in downtown Hartford\, for the aficionado\, musician\, or the curious first-timer\, Black Eyed Sally’s Jazz Jams are the best taste of live jazz in Hartford. Set in the southern juke joint atmosphere of Black-eyed Sally’s\, these jam sessions will strike a chord as you hear what our local talent has to offer\, with regular special appearances by big city jazz names. Experience the cool original music of the jam session while you enjoy the hot fierce cookin’ of Hartford’s favorite BBQ joint. \nAfter a long hiatus due to the pandemic\, regularly scheduled jazz jams have returned to Black Eyed Sally’s every Wednesday. There will be a featured jazz ensemble followed by an open jam session. Bring your axe and be ready to jam! \nThe music begins at 7:00 PM\, jam session begins after 1st set. No cover charge most nights\, under 21’s welcome. \nPresented by the Hartford Jazz Society and Neefjazz Entertainment
URL:https://hartfordjazzsociety.com/event/black-eyed-sallys-jazz-jam-10-9/2026-07-15/
LOCATION:Black-eyed Sally’s Southern Kitchen & Bar\, 350 Asylum St.\, Hartford\, CT\, 06103
END:VEVENT
BEGIN:VEVENT
DTSTART;TZID=America/New_York:20260714T200000
DTEND;TZID=America/New_York:20260714T220000
DTSTAMP:20260424T115415
CREATED:20251116T034317Z
LAST-MODIFIED:20251116T034317Z
UID:10007304-1784059200-1784066400@hartfordjazzsociety.com
SUMMARY:Michael Palin's Other Orchestra
DESCRIPTION:It’s a funky Big Band thang\, a large jazz ensemble that rocks the house. Playing music from Tower of Power\, Frank Zappa\, The Brecker Brothers\, Jaco Pastorious\, Steely Dan\, The Yellow Jackets\, Bob Berg…..You’ll want to see them again and again! \nhttps://www.facebook.com/OtherOrchestra/
URL:https://hartfordjazzsociety.com/event/michael-palins-other-orchestra/2026-07-14/
LOCATION:The Hungry Tiger\, 120 Charter Oak Street\, Manchester\, CT
END:VEVENT
BEGIN:VEVENT
DTSTART;TZID=America/New_York:20260714T190000
DTEND;TZID=America/New_York:20260714T210000
DTSTAMP:20260424T115415
CREATED:20251116T024008Z
LAST-MODIFIED:20251116T024009Z
UID:10007129-1784055600-1784062800@hartfordjazzsociety.com
SUMMARY:Jazz at Cafe Nine
DESCRIPTION:Presented by New Haven Jazz Underground on the 2nd & 4th Tuesday every month. \n 
URL:https://hartfordjazzsociety.com/event/jazz-at-cafe-nine-2-2/2026-07-14/
LOCATION:Cafe Nine\, 250 State Street\, New Haven\, CT\, 06510
END:VEVENT
BEGIN:VEVENT
DTSTART;TZID=America/New_York:20260713T193000
DTEND;TZID=America/New_York:20260713T213000
DTSTAMP:20260424T115415
CREATED:20251217T142857Z
LAST-MODIFIED:20251217T142857Z
UID:10007472-1783971000-1783978200@hartfordjazzsociety.com
SUMMARY:Hartford Jazz Orchestra
DESCRIPTION:Every Monday at Elicit Brewery in Manchester CT. No cover.
URL:https://hartfordjazzsociety.com/event/hartford-jazz-orchestra/2026-07-13/
LOCATION:Elicit Brewery\, 165 Adams Street\, Manchester\, CT
END:VEVENT
BEGIN:VEVENT
DTSTART;TZID=America/New_York:20260713T190000
DTEND;TZID=America/New_York:20260713T203000
DTSTAMP:20260424T115415
CREATED:20251116T032622Z
LAST-MODIFIED:20251116T032844Z
UID:10007242-1783969200-1783974600@hartfordjazzsociety.com
SUMMARY:Tuxedo Junction
DESCRIPTION:For over 24 years\, hosting public rehearsals every Monday night\, now at Guilford VFW Post 7666. \nTuxedo Junction was started in 1989 by Pete Jacobs (trumpet) and Will Tayler (drums)\, WWII veterans who set up an 8-piece Dixieland jazz band in the basement of the senior citizens center in Madison\, CT. Pat soon joined on piano. \nThe band quickly grew into a full swing band as Pete added big band arrangements and people joined: everyone from high school students to retired music teachers started to fill out the sections. Tuxedo Junction moved its practice home to the Westbrook Elks briefly\, and in 1997 Paul James suggested that Bill’s Seafood restaurant in Westbrook would be a great place to share the sounds of swing. After more than 20 years of Monday nights at Bill’s\, originally outnumbering the customers and staff before turning it into the most happening place on the Shoreline for a Monday night\, we moved outside to Town Greens\, Overlook Farm in Killingworth\, and the Guilford VFW. \nTuxedo Junction plays original big band arrangements from the 30’s through the present\, including charts from Count Basie\, Duke Ellington\, Glenn Miller\, Sy Zentner\, Buddy Rich\, Frank Sinatra\, Ella Fitzgerald\, and more. We focus on danceable tunes from swing to waltz\, foxtrot to two-step\, Latin and even some rock. The band has weekly open rehearsals at local venues on the Eastern Connecticut shoreline. The public is invited to dance and listen in at no charge. We are also available for hire at public and private events throughout Connecticut. \nAfter more than 1\,001 performances\, Tuxedo Junction has become a musical success story. We are now eighteen passionate musicians\, men and women of all ages\, following the great jazz tradition and warmly welcoming visiting jazz musicians to sit in.
URL:https://hartfordjazzsociety.com/event/tuxedo-junction/2026-07-13/
LOCATION:Guilford VFW Post 9666\, 104 Mill Road\, Guilford\, CT
END:VEVENT
BEGIN:VEVENT
DTSTART;TZID=America/New_York:20260711T190000
DTEND;TZID=America/New_York:20260711T210000
DTSTAMP:20260424T115415
CREATED:20260402T160437Z
LAST-MODIFIED:20260402T160628Z
UID:10007700-1783796400-1783803600@hartfordjazzsociety.com
SUMMARY:Blue Lion Trio
DESCRIPTION:Every Saturday \nHost & drummer Richard Sylvester has launched a remarkable jazz series (every Saturday!) at this cozy venue
URL:https://hartfordjazzsociety.com/event/blue-lion-trio-4/2026-07-11/
LOCATION:Open Door Tea\, 3552 Main Street\, Stratford\, CT
END:VEVENT
BEGIN:VEVENT
DTSTART;TZID=America/New_York:20260711T180000
DTEND;TZID=America/New_York:20260711T210000
DTSTAMP:20260424T115415
CREATED:20260114T010844Z
LAST-MODIFIED:20260114T012526Z
UID:10007543-1783792800-1783803600@hartfordjazzsociety.com
SUMMARY:Bob Ahern Quartet
DESCRIPTION:The Bob Ahern Quartet will be performing the last Saturday of each month at the legendary Lighthouse Inn from 6-9. The group features Lisa Marien on vocals and Bob Ahern on drums along with various Jazz artists each month.
URL:https://hartfordjazzsociety.com/event/bob-ahern-quartet/2026-07-11/
LOCATION:Lighthouse Inn\, 6 Guthrie Pl\, New London\, CT
END:VEVENT
BEGIN:VEVENT
DTSTART;TZID=America/New_York:20260711T160000
DTEND;TZID=America/New_York:20260711T190000
DTSTAMP:20260424T115415
CREATED:20251116T031948Z
LAST-MODIFIED:20251116T031948Z
UID:10007180-1783785600-1783796400@hartfordjazzsociety.com
SUMMARY:Jazz Jam at Cafe Nine
DESCRIPTION:Every Saturday\, 4-7
URL:https://hartfordjazzsociety.com/event/jazz-jam-at-cafe-nine-2/2026-07-11/
LOCATION:MA
END:VEVENT
BEGIN:VEVENT
DTSTART;TZID=America/New_York:20260710T171500
DTEND;TZID=America/New_York:20260710T190000
DTSTAMP:20260424T115415
CREATED:20251210T225210Z
LAST-MODIFIED:20251210T225210Z
UID:10007394-1783703700-1783710000@hartfordjazzsociety.com
SUMMARY:Fridays with Frank
DESCRIPTION:Join renowned jazz historian and Jazz Haven Board member Frank Cochran for BYOB “Fridays with Frank.”  Happy Hour jazz listening sessions are held every Friday from 5:15 to 7:00 pm at the Institute Library in downtown New Haven.  Each Friday Frank selects iconic jazz LPs to play from the Library’s extensive collection.  Discussion follows.  BYOB and please give a modest donation towards the IL’s spiraling utilities. A $5.00 contribution is welcome.
URL:https://hartfordjazzsociety.com/event/fridays-with-frank/2026-07-10/
LOCATION:Institute Library\, 847 Chapel Street\, New Haven\, CT
END:VEVENT
BEGIN:VEVENT
DTSTART;TZID=America/New_York:20260708T190000
DTEND;TZID=America/New_York:20260708T220000
DTSTAMP:20260424T115415
CREATED:20251103T042112Z
LAST-MODIFIED:20251103T042117Z
UID:10007045-1783537200-1783548000@hartfordjazzsociety.com
SUMMARY:Black Eyed Sally’s Jazz Jam
DESCRIPTION:Located in downtown Hartford\, for the aficionado\, musician\, or the curious first-timer\, Black Eyed Sally’s Jazz Jams are the best taste of live jazz in Hartford. Set in the southern juke joint atmosphere of Black-eyed Sally’s\, these jam sessions will strike a chord as you hear what our local talent has to offer\, with regular special appearances by big city jazz names. Experience the cool original music of the jam session while you enjoy the hot fierce cookin’ of Hartford’s favorite BBQ joint. \nAfter a long hiatus due to the pandemic\, regularly scheduled jazz jams have returned to Black Eyed Sally’s every Wednesday. There will be a featured jazz ensemble followed by an open jam session. Bring your axe and be ready to jam! \nThe music begins at 7:00 PM\, jam session begins after 1st set. No cover charge most nights\, under 21’s welcome. \nPresented by the Hartford Jazz Society and Neefjazz Entertainment
URL:https://hartfordjazzsociety.com/event/black-eyed-sallys-jazz-jam-10-9/2026-07-08/
LOCATION:Black-eyed Sally’s Southern Kitchen & Bar\, 350 Asylum St.\, Hartford\, CT\, 06103
END:VEVENT
BEGIN:VEVENT
DTSTART;TZID=America/New_York:20260707T200000
DTEND;TZID=America/New_York:20260707T220000
DTSTAMP:20260424T115415
CREATED:20251116T034317Z
LAST-MODIFIED:20251116T034317Z
UID:10007303-1783454400-1783461600@hartfordjazzsociety.com
SUMMARY:Michael Palin's Other Orchestra
DESCRIPTION:It’s a funky Big Band thang\, a large jazz ensemble that rocks the house. Playing music from Tower of Power\, Frank Zappa\, The Brecker Brothers\, Jaco Pastorious\, Steely Dan\, The Yellow Jackets\, Bob Berg…..You’ll want to see them again and again! \nhttps://www.facebook.com/OtherOrchestra/
URL:https://hartfordjazzsociety.com/event/michael-palins-other-orchestra/2026-07-07/
LOCATION:The Hungry Tiger\, 120 Charter Oak Street\, Manchester\, CT
END:VEVENT
BEGIN:VEVENT
DTSTART;TZID=America/New_York:20260706T193000
DTEND;TZID=America/New_York:20260706T213000
DTSTAMP:20260424T115415
CREATED:20251217T142857Z
LAST-MODIFIED:20251217T142857Z
UID:10007471-1783366200-1783373400@hartfordjazzsociety.com
SUMMARY:Hartford Jazz Orchestra
DESCRIPTION:Every Monday at Elicit Brewery in Manchester CT. No cover.
URL:https://hartfordjazzsociety.com/event/hartford-jazz-orchestra/2026-07-06/
LOCATION:Elicit Brewery\, 165 Adams Street\, Manchester\, CT
END:VEVENT
BEGIN:VEVENT
DTSTART;TZID=America/New_York:20260706T190000
DTEND;TZID=America/New_York:20260706T203000
DTSTAMP:20260424T115415
CREATED:20251116T032622Z
LAST-MODIFIED:20251116T032844Z
UID:10007241-1783364400-1783369800@hartfordjazzsociety.com
SUMMARY:Tuxedo Junction
DESCRIPTION:For over 24 years\, hosting public rehearsals every Monday night\, now at Guilford VFW Post 7666. \nTuxedo Junction was started in 1989 by Pete Jacobs (trumpet) and Will Tayler (drums)\, WWII veterans who set up an 8-piece Dixieland jazz band in the basement of the senior citizens center in Madison\, CT. Pat soon joined on piano. \nThe band quickly grew into a full swing band as Pete added big band arrangements and people joined: everyone from high school students to retired music teachers started to fill out the sections. Tuxedo Junction moved its practice home to the Westbrook Elks briefly\, and in 1997 Paul James suggested that Bill’s Seafood restaurant in Westbrook would be a great place to share the sounds of swing. After more than 20 years of Monday nights at Bill’s\, originally outnumbering the customers and staff before turning it into the most happening place on the Shoreline for a Monday night\, we moved outside to Town Greens\, Overlook Farm in Killingworth\, and the Guilford VFW. \nTuxedo Junction plays original big band arrangements from the 30’s through the present\, including charts from Count Basie\, Duke Ellington\, Glenn Miller\, Sy Zentner\, Buddy Rich\, Frank Sinatra\, Ella Fitzgerald\, and more. We focus on danceable tunes from swing to waltz\, foxtrot to two-step\, Latin and even some rock. The band has weekly open rehearsals at local venues on the Eastern Connecticut shoreline. The public is invited to dance and listen in at no charge. We are also available for hire at public and private events throughout Connecticut. \nAfter more than 1\,001 performances\, Tuxedo Junction has become a musical success story. We are now eighteen passionate musicians\, men and women of all ages\, following the great jazz tradition and warmly welcoming visiting jazz musicians to sit in.
URL:https://hartfordjazzsociety.com/event/tuxedo-junction/2026-07-06/
LOCATION:Guilford VFW Post 9666\, 104 Mill Road\, Guilford\, CT
END:VEVENT
BEGIN:VEVENT
DTSTART;TZID=America/New_York:20260705T120000
DTEND;TZID=America/New_York:20260705T150000
DTSTAMP:20260424T115415
CREATED:20251116T021850Z
LAST-MODIFIED:20251116T021852Z
UID:10007091-1783252800-1783263600@hartfordjazzsociety.com
SUMMARY:Dr. G’s Jazz Brunch
DESCRIPTION:Dr. G’s Jazz Brunch held on the 1st\, 3rd & 5th Sundays from 12pm (noon) until 3pm at Quattro’s Italian Restaurant:\n\n\n\nAll events will also include jazz masters Jeff Fuller on bass and Barry Ries on drums &/or trumpet. “Dr. G” will provide guitar accompaniment.
URL:https://hartfordjazzsociety.com/event/dr-gs-jazz-brunch-3-2/2026-07-05/
LOCATION:Quattro’s Italian Restaurant & Wine Bar\, 14 Water Street\, Guilford\, CT
END:VEVENT
BEGIN:VEVENT
DTSTART;TZID=America/New_York:20260704T190000
DTEND;TZID=America/New_York:20260704T210000
DTSTAMP:20260424T115415
CREATED:20260402T160437Z
LAST-MODIFIED:20260402T160628Z
UID:10007699-1783191600-1783198800@hartfordjazzsociety.com
SUMMARY:Blue Lion Trio
DESCRIPTION:Every Saturday \nHost & drummer Richard Sylvester has launched a remarkable jazz series (every Saturday!) at this cozy venue
URL:https://hartfordjazzsociety.com/event/blue-lion-trio-4/2026-07-04/
LOCATION:Open Door Tea\, 3552 Main Street\, Stratford\, CT
END:VEVENT
BEGIN:VEVENT
DTSTART;TZID=America/New_York:20260704T180000
DTEND;TZID=America/New_York:20260704T210000
DTSTAMP:20260424T115415
CREATED:20260114T010844Z
LAST-MODIFIED:20260114T012526Z
UID:10007542-1783188000-1783198800@hartfordjazzsociety.com
SUMMARY:Bob Ahern Quartet
DESCRIPTION:The Bob Ahern Quartet will be performing the last Saturday of each month at the legendary Lighthouse Inn from 6-9. The group features Lisa Marien on vocals and Bob Ahern on drums along with various Jazz artists each month.
URL:https://hartfordjazzsociety.com/event/bob-ahern-quartet/2026-07-04/
LOCATION:Lighthouse Inn\, 6 Guthrie Pl\, New London\, CT
END:VEVENT
BEGIN:VEVENT
DTSTART;TZID=America/New_York:20260704T160000
DTEND;TZID=America/New_York:20260704T190000
DTSTAMP:20260424T115415
CREATED:20251116T031948Z
LAST-MODIFIED:20251116T031948Z
UID:10007179-1783180800-1783191600@hartfordjazzsociety.com
SUMMARY:Jazz Jam at Cafe Nine
DESCRIPTION:Every Saturday\, 4-7
URL:https://hartfordjazzsociety.com/event/jazz-jam-at-cafe-nine-2/2026-07-04/
LOCATION:MA
END:VEVENT
END:VCALENDAR