BEGIN:VCALENDAR
VERSION:2.0
PRODID:-//Hartford Jazz Society - ECPv6.15.20//NONSGML v1.0//EN
CALSCALE:GREGORIAN
METHOD:PUBLISH
X-WR-CALNAME:Hartford Jazz Society
X-ORIGINAL-URL:https://hartfordjazzsociety.com
X-WR-CALDESC:Events for Hartford Jazz Society
REFRESH-INTERVAL;VALUE=DURATION:PT1H
X-Robots-Tag:noindex
X-PUBLISHED-TTL:PT1H
BEGIN:VTIMEZONE
TZID:America/New_York
BEGIN:DAYLIGHT
TZOFFSETFROM:-0500
TZOFFSETTO:-0400
TZNAME:EDT
DTSTART:20250309T070000
END:DAYLIGHT
BEGIN:STANDARD
TZOFFSETFROM:-0400
TZOFFSETTO:-0500
TZNAME:EST
DTSTART:20251102T060000
END:STANDARD
BEGIN:DAYLIGHT
TZOFFSETFROM:-0500
TZOFFSETTO:-0400
TZNAME:EDT
DTSTART:20260308T070000
END:DAYLIGHT
BEGIN:STANDARD
TZOFFSETFROM:-0400
TZOFFSETTO:-0500
TZNAME:EST
DTSTART:20261101T060000
END:STANDARD
BEGIN:DAYLIGHT
TZOFFSETFROM:-0500
TZOFFSETTO:-0400
TZNAME:EDT
DTSTART:20270314T070000
END:DAYLIGHT
BEGIN:STANDARD
TZOFFSETFROM:-0400
TZOFFSETTO:-0500
TZNAME:EST
DTSTART:20271107T060000
END:STANDARD
END:VTIMEZONE
BEGIN:VEVENT
DTSTART;TZID=America/New_York:20261010T160000
DTEND;TZID=America/New_York:20261010T190000
DTSTAMP:20260424T120926
CREATED:20251116T031948Z
LAST-MODIFIED:20251116T031948Z
UID:10007193-1791648000-1791658800@hartfordjazzsociety.com
SUMMARY:Jazz Jam at Cafe Nine
DESCRIPTION:Every Saturday\, 4-7
URL:https://hartfordjazzsociety.com/event/jazz-jam-at-cafe-nine-2/2026-10-10/
LOCATION:CT
END:VEVENT
BEGIN:VEVENT
DTSTART;TZID=America/New_York:20261010T180000
DTEND;TZID=America/New_York:20261010T210000
DTSTAMP:20260424T120926
CREATED:20260114T010844Z
LAST-MODIFIED:20260114T012526Z
UID:10007556-1791655200-1791666000@hartfordjazzsociety.com
SUMMARY:Bob Ahern Quartet
DESCRIPTION:The Bob Ahern Quartet will be performing the last Saturday of each month at the legendary Lighthouse Inn from 6-9. The group features Lisa Marien on vocals and Bob Ahern on drums along with various Jazz artists each month.
URL:https://hartfordjazzsociety.com/event/bob-ahern-quartet/2026-10-10/
LOCATION:Lighthouse Inn\, 6 Guthrie Pl\, New London\, CT
END:VEVENT
BEGIN:VEVENT
DTSTART;TZID=America/New_York:20261010T190000
DTEND;TZID=America/New_York:20261010T210000
DTSTAMP:20260424T120926
CREATED:20260402T160437Z
LAST-MODIFIED:20260402T160628Z
UID:10007713-1791658800-1791666000@hartfordjazzsociety.com
SUMMARY:Blue Lion Trio
DESCRIPTION:Every Saturday \nHost & drummer Richard Sylvester has launched a remarkable jazz series (every Saturday!) at this cozy venue
URL:https://hartfordjazzsociety.com/event/blue-lion-trio-4/2026-10-10/
LOCATION:Open Door Tea\, 3552 Main Street\, Stratford\, CT
END:VEVENT
BEGIN:VEVENT
DTSTART;TZID=America/New_York:20261012T190000
DTEND;TZID=America/New_York:20261012T203000
DTSTAMP:20260424T120926
CREATED:20251116T032622Z
LAST-MODIFIED:20251116T032844Z
UID:10007255-1791831600-1791837000@hartfordjazzsociety.com
SUMMARY:Tuxedo Junction
DESCRIPTION:For over 24 years\, hosting public rehearsals every Monday night\, now at Guilford VFW Post 7666. \nTuxedo Junction was started in 1989 by Pete Jacobs (trumpet) and Will Tayler (drums)\, WWII veterans who set up an 8-piece Dixieland jazz band in the basement of the senior citizens center in Madison\, CT. Pat soon joined on piano. \nThe band quickly grew into a full swing band as Pete added big band arrangements and people joined: everyone from high school students to retired music teachers started to fill out the sections. Tuxedo Junction moved its practice home to the Westbrook Elks briefly\, and in 1997 Paul James suggested that Bill’s Seafood restaurant in Westbrook would be a great place to share the sounds of swing. After more than 20 years of Monday nights at Bill’s\, originally outnumbering the customers and staff before turning it into the most happening place on the Shoreline for a Monday night\, we moved outside to Town Greens\, Overlook Farm in Killingworth\, and the Guilford VFW. \nTuxedo Junction plays original big band arrangements from the 30’s through the present\, including charts from Count Basie\, Duke Ellington\, Glenn Miller\, Sy Zentner\, Buddy Rich\, Frank Sinatra\, Ella Fitzgerald\, and more. We focus on danceable tunes from swing to waltz\, foxtrot to two-step\, Latin and even some rock. The band has weekly open rehearsals at local venues on the Eastern Connecticut shoreline. The public is invited to dance and listen in at no charge. We are also available for hire at public and private events throughout Connecticut. \nAfter more than 1\,001 performances\, Tuxedo Junction has become a musical success story. We are now eighteen passionate musicians\, men and women of all ages\, following the great jazz tradition and warmly welcoming visiting jazz musicians to sit in.
URL:https://hartfordjazzsociety.com/event/tuxedo-junction/2026-10-12/
LOCATION:Guilford VFW Post 9666\, 104 Mill Road\, Guilford\, CT
END:VEVENT
BEGIN:VEVENT
DTSTART;TZID=America/New_York:20261012T193000
DTEND;TZID=America/New_York:20261012T213000
DTSTAMP:20260424T120926
CREATED:20251217T142857Z
LAST-MODIFIED:20251217T142857Z
UID:10007485-1791833400-1791840600@hartfordjazzsociety.com
SUMMARY:Hartford Jazz Orchestra
DESCRIPTION:Every Monday at Elicit Brewery in Manchester CT. No cover.
URL:https://hartfordjazzsociety.com/event/hartford-jazz-orchestra/2026-10-12/
LOCATION:Elicit Brewery\, 165 Adams Street\, Manchester\, CT
END:VEVENT
BEGIN:VEVENT
DTSTART;TZID=America/New_York:20261013T190000
DTEND;TZID=America/New_York:20261013T210000
DTSTAMP:20260424T120926
CREATED:20251116T024008Z
LAST-MODIFIED:20251116T024009Z
UID:10007132-1791918000-1791925200@hartfordjazzsociety.com
SUMMARY:Jazz at Cafe Nine
DESCRIPTION:Presented by New Haven Jazz Underground on the 2nd & 4th Tuesday every month. \n 
URL:https://hartfordjazzsociety.com/event/jazz-at-cafe-nine-2-2/2026-10-13/
LOCATION:Cafe Nine\, 250 State Street\, New Haven\, CT\, 06510
END:VEVENT
BEGIN:VEVENT
DTSTART;TZID=America/New_York:20261013T200000
DTEND;TZID=America/New_York:20261013T220000
DTSTAMP:20260424T120926
CREATED:20251116T034317Z
LAST-MODIFIED:20251116T034317Z
UID:10007317-1791921600-1791928800@hartfordjazzsociety.com
SUMMARY:Michael Palin's Other Orchestra
DESCRIPTION:It’s a funky Big Band thang\, a large jazz ensemble that rocks the house. Playing music from Tower of Power\, Frank Zappa\, The Brecker Brothers\, Jaco Pastorious\, Steely Dan\, The Yellow Jackets\, Bob Berg…..You’ll want to see them again and again! \nhttps://www.facebook.com/OtherOrchestra/
URL:https://hartfordjazzsociety.com/event/michael-palins-other-orchestra/2026-10-13/
LOCATION:The Hungry Tiger\, 120 Charter Oak Street\, Manchester\, CT
END:VEVENT
BEGIN:VEVENT
DTSTART;TZID=America/New_York:20261014T190000
DTEND;TZID=America/New_York:20261014T220000
DTSTAMP:20260424T120926
CREATED:20251103T042112Z
LAST-MODIFIED:20251103T042117Z
UID:10007059-1792004400-1792015200@hartfordjazzsociety.com
SUMMARY:Black Eyed Sally’s Jazz Jam
DESCRIPTION:Located in downtown Hartford\, for the aficionado\, musician\, or the curious first-timer\, Black Eyed Sally’s Jazz Jams are the best taste of live jazz in Hartford. Set in the southern juke joint atmosphere of Black-eyed Sally’s\, these jam sessions will strike a chord as you hear what our local talent has to offer\, with regular special appearances by big city jazz names. Experience the cool original music of the jam session while you enjoy the hot fierce cookin’ of Hartford’s favorite BBQ joint. \nAfter a long hiatus due to the pandemic\, regularly scheduled jazz jams have returned to Black Eyed Sally’s every Wednesday. There will be a featured jazz ensemble followed by an open jam session. Bring your axe and be ready to jam! \nThe music begins at 7:00 PM\, jam session begins after 1st set. No cover charge most nights\, under 21’s welcome. \nPresented by the Hartford Jazz Society and Neefjazz Entertainment
URL:https://hartfordjazzsociety.com/event/black-eyed-sallys-jazz-jam-10-9/2026-10-14/
LOCATION:Black-eyed Sally’s Southern Kitchen & Bar\, 350 Asylum St.\, Hartford\, CT\, 06103
END:VEVENT
BEGIN:VEVENT
DTSTART;TZID=America/New_York:20261016T171500
DTEND;TZID=America/New_York:20261016T190000
DTSTAMP:20260424T120926
CREATED:20251210T225210Z
LAST-MODIFIED:20251210T225210Z
UID:10007408-1792170900-1792177200@hartfordjazzsociety.com
SUMMARY:Fridays with Frank
DESCRIPTION:Join renowned jazz historian and Jazz Haven Board member Frank Cochran for BYOB “Fridays with Frank.”  Happy Hour jazz listening sessions are held every Friday from 5:15 to 7:00 pm at the Institute Library in downtown New Haven.  Each Friday Frank selects iconic jazz LPs to play from the Library’s extensive collection.  Discussion follows.  BYOB and please give a modest donation towards the IL’s spiraling utilities. A $5.00 contribution is welcome.
URL:https://hartfordjazzsociety.com/event/fridays-with-frank/2026-10-16/
LOCATION:Institute Library\, 847 Chapel Street\, New Haven\, CT
END:VEVENT
BEGIN:VEVENT
DTSTART;TZID=America/New_York:20261016T180000
DTEND;TZID=America/New_York:20261016T210000
DTSTAMP:20260424T120926
CREATED:20251116T031536Z
LAST-MODIFIED:20251116T031537Z
UID:10007138-1792173600-1792184400@hartfordjazzsociety.com
SUMMARY:Jazz at Three Sheets
DESCRIPTION:New England Jazz Underground presents jazz on the 1st and 3rd Friday every month.
URL:https://hartfordjazzsociety.com/event/jazz-at-three-sheets-2-2/2026-10-16/
LOCATION:Three Sheets\, 372 Elm Street\, New Haven\, CT
END:VEVENT
BEGIN:VEVENT
DTSTART;TZID=America/New_York:20261017T160000
DTEND;TZID=America/New_York:20261017T190000
DTSTAMP:20260424T120926
CREATED:20251116T031948Z
LAST-MODIFIED:20251116T031948Z
UID:10007194-1792252800-1792263600@hartfordjazzsociety.com
SUMMARY:Jazz Jam at Cafe Nine
DESCRIPTION:Every Saturday\, 4-7
URL:https://hartfordjazzsociety.com/event/jazz-jam-at-cafe-nine-2/2026-10-17/
LOCATION:CT
END:VEVENT
BEGIN:VEVENT
DTSTART;TZID=America/New_York:20261017T180000
DTEND;TZID=America/New_York:20261017T210000
DTSTAMP:20260424T120926
CREATED:20260114T010844Z
LAST-MODIFIED:20260114T012526Z
UID:10007557-1792260000-1792270800@hartfordjazzsociety.com
SUMMARY:Bob Ahern Quartet
DESCRIPTION:The Bob Ahern Quartet will be performing the last Saturday of each month at the legendary Lighthouse Inn from 6-9. The group features Lisa Marien on vocals and Bob Ahern on drums along with various Jazz artists each month.
URL:https://hartfordjazzsociety.com/event/bob-ahern-quartet/2026-10-17/
LOCATION:Lighthouse Inn\, 6 Guthrie Pl\, New London\, CT
END:VEVENT
BEGIN:VEVENT
DTSTART;TZID=America/New_York:20261017T190000
DTEND;TZID=America/New_York:20261017T210000
DTSTAMP:20260424T120926
CREATED:20260402T160437Z
LAST-MODIFIED:20260402T160628Z
UID:10007714-1792263600-1792270800@hartfordjazzsociety.com
SUMMARY:Blue Lion Trio
DESCRIPTION:Every Saturday \nHost & drummer Richard Sylvester has launched a remarkable jazz series (every Saturday!) at this cozy venue
URL:https://hartfordjazzsociety.com/event/blue-lion-trio-4/2026-10-17/
LOCATION:Open Door Tea\, 3552 Main Street\, Stratford\, CT
END:VEVENT
BEGIN:VEVENT
DTSTART;TZID=America/New_York:20261019T190000
DTEND;TZID=America/New_York:20261019T203000
DTSTAMP:20260424T120926
CREATED:20251116T032622Z
LAST-MODIFIED:20251116T032844Z
UID:10007256-1792436400-1792441800@hartfordjazzsociety.com
SUMMARY:Tuxedo Junction
DESCRIPTION:For over 24 years\, hosting public rehearsals every Monday night\, now at Guilford VFW Post 7666. \nTuxedo Junction was started in 1989 by Pete Jacobs (trumpet) and Will Tayler (drums)\, WWII veterans who set up an 8-piece Dixieland jazz band in the basement of the senior citizens center in Madison\, CT. Pat soon joined on piano. \nThe band quickly grew into a full swing band as Pete added big band arrangements and people joined: everyone from high school students to retired music teachers started to fill out the sections. Tuxedo Junction moved its practice home to the Westbrook Elks briefly\, and in 1997 Paul James suggested that Bill’s Seafood restaurant in Westbrook would be a great place to share the sounds of swing. After more than 20 years of Monday nights at Bill’s\, originally outnumbering the customers and staff before turning it into the most happening place on the Shoreline for a Monday night\, we moved outside to Town Greens\, Overlook Farm in Killingworth\, and the Guilford VFW. \nTuxedo Junction plays original big band arrangements from the 30’s through the present\, including charts from Count Basie\, Duke Ellington\, Glenn Miller\, Sy Zentner\, Buddy Rich\, Frank Sinatra\, Ella Fitzgerald\, and more. We focus on danceable tunes from swing to waltz\, foxtrot to two-step\, Latin and even some rock. The band has weekly open rehearsals at local venues on the Eastern Connecticut shoreline. The public is invited to dance and listen in at no charge. We are also available for hire at public and private events throughout Connecticut. \nAfter more than 1\,001 performances\, Tuxedo Junction has become a musical success story. We are now eighteen passionate musicians\, men and women of all ages\, following the great jazz tradition and warmly welcoming visiting jazz musicians to sit in.
URL:https://hartfordjazzsociety.com/event/tuxedo-junction/2026-10-19/
LOCATION:Guilford VFW Post 9666\, 104 Mill Road\, Guilford\, CT
END:VEVENT
BEGIN:VEVENT
DTSTART;TZID=America/New_York:20261019T193000
DTEND;TZID=America/New_York:20261019T213000
DTSTAMP:20260424T120926
CREATED:20251217T142857Z
LAST-MODIFIED:20251217T142857Z
UID:10007486-1792438200-1792445400@hartfordjazzsociety.com
SUMMARY:Hartford Jazz Orchestra
DESCRIPTION:Every Monday at Elicit Brewery in Manchester CT. No cover.
URL:https://hartfordjazzsociety.com/event/hartford-jazz-orchestra/2026-10-19/
LOCATION:Elicit Brewery\, 165 Adams Street\, Manchester\, CT
END:VEVENT
BEGIN:VEVENT
DTSTART;TZID=America/New_York:20261020T200000
DTEND;TZID=America/New_York:20261020T220000
DTSTAMP:20260424T120926
CREATED:20251116T034317Z
LAST-MODIFIED:20251116T034317Z
UID:10007318-1792526400-1792533600@hartfordjazzsociety.com
SUMMARY:Michael Palin's Other Orchestra
DESCRIPTION:It’s a funky Big Band thang\, a large jazz ensemble that rocks the house. Playing music from Tower of Power\, Frank Zappa\, The Brecker Brothers\, Jaco Pastorious\, Steely Dan\, The Yellow Jackets\, Bob Berg…..You’ll want to see them again and again! \nhttps://www.facebook.com/OtherOrchestra/
URL:https://hartfordjazzsociety.com/event/michael-palins-other-orchestra/2026-10-20/
LOCATION:The Hungry Tiger\, 120 Charter Oak Street\, Manchester\, CT
END:VEVENT
BEGIN:VEVENT
DTSTART;TZID=America/New_York:20261021T190000
DTEND;TZID=America/New_York:20261021T220000
DTSTAMP:20260424T120926
CREATED:20251103T042112Z
LAST-MODIFIED:20251103T042117Z
UID:10007060-1792609200-1792620000@hartfordjazzsociety.com
SUMMARY:Black Eyed Sally’s Jazz Jam
DESCRIPTION:Located in downtown Hartford\, for the aficionado\, musician\, or the curious first-timer\, Black Eyed Sally’s Jazz Jams are the best taste of live jazz in Hartford. Set in the southern juke joint atmosphere of Black-eyed Sally’s\, these jam sessions will strike a chord as you hear what our local talent has to offer\, with regular special appearances by big city jazz names. Experience the cool original music of the jam session while you enjoy the hot fierce cookin’ of Hartford’s favorite BBQ joint. \nAfter a long hiatus due to the pandemic\, regularly scheduled jazz jams have returned to Black Eyed Sally’s every Wednesday. There will be a featured jazz ensemble followed by an open jam session. Bring your axe and be ready to jam! \nThe music begins at 7:00 PM\, jam session begins after 1st set. No cover charge most nights\, under 21’s welcome. \nPresented by the Hartford Jazz Society and Neefjazz Entertainment
URL:https://hartfordjazzsociety.com/event/black-eyed-sallys-jazz-jam-10-9/2026-10-21/
LOCATION:Black-eyed Sally’s Southern Kitchen & Bar\, 350 Asylum St.\, Hartford\, CT\, 06103
END:VEVENT
BEGIN:VEVENT
DTSTART;TZID=America/New_York:20261023T171500
DTEND;TZID=America/New_York:20261023T190000
DTSTAMP:20260424T120926
CREATED:20251210T225210Z
LAST-MODIFIED:20251210T225210Z
UID:10007409-1792775700-1792782000@hartfordjazzsociety.com
SUMMARY:Fridays with Frank
DESCRIPTION:Join renowned jazz historian and Jazz Haven Board member Frank Cochran for BYOB “Fridays with Frank.”  Happy Hour jazz listening sessions are held every Friday from 5:15 to 7:00 pm at the Institute Library in downtown New Haven.  Each Friday Frank selects iconic jazz LPs to play from the Library’s extensive collection.  Discussion follows.  BYOB and please give a modest donation towards the IL’s spiraling utilities. A $5.00 contribution is welcome.
URL:https://hartfordjazzsociety.com/event/fridays-with-frank/2026-10-23/
LOCATION:Institute Library\, 847 Chapel Street\, New Haven\, CT
END:VEVENT
BEGIN:VEVENT
DTSTART;TZID=America/New_York:20261024T160000
DTEND;TZID=America/New_York:20261024T190000
DTSTAMP:20260424T120926
CREATED:20251116T031948Z
LAST-MODIFIED:20251116T031948Z
UID:10007195-1792857600-1792868400@hartfordjazzsociety.com
SUMMARY:Jazz Jam at Cafe Nine
DESCRIPTION:Every Saturday\, 4-7
URL:https://hartfordjazzsociety.com/event/jazz-jam-at-cafe-nine-2/2026-10-24/
LOCATION:CT
END:VEVENT
BEGIN:VEVENT
DTSTART;TZID=America/New_York:20261024T180000
DTEND;TZID=America/New_York:20261024T210000
DTSTAMP:20260424T120926
CREATED:20260114T010844Z
LAST-MODIFIED:20260114T012526Z
UID:10007558-1792864800-1792875600@hartfordjazzsociety.com
SUMMARY:Bob Ahern Quartet
DESCRIPTION:The Bob Ahern Quartet will be performing the last Saturday of each month at the legendary Lighthouse Inn from 6-9. The group features Lisa Marien on vocals and Bob Ahern on drums along with various Jazz artists each month.
URL:https://hartfordjazzsociety.com/event/bob-ahern-quartet/2026-10-24/
LOCATION:Lighthouse Inn\, 6 Guthrie Pl\, New London\, CT
END:VEVENT
BEGIN:VEVENT
DTSTART;TZID=America/New_York:20261024T190000
DTEND;TZID=America/New_York:20261024T210000
DTSTAMP:20260424T120926
CREATED:20260402T160437Z
LAST-MODIFIED:20260402T160628Z
UID:10007715-1792868400-1792875600@hartfordjazzsociety.com
SUMMARY:Blue Lion Trio
DESCRIPTION:Every Saturday \nHost & drummer Richard Sylvester has launched a remarkable jazz series (every Saturday!) at this cozy venue
URL:https://hartfordjazzsociety.com/event/blue-lion-trio-4/2026-10-24/
LOCATION:Open Door Tea\, 3552 Main Street\, Stratford\, CT
END:VEVENT
BEGIN:VEVENT
DTSTART;TZID=America/New_York:20261026T190000
DTEND;TZID=America/New_York:20261026T203000
DTSTAMP:20260424T120926
CREATED:20251116T032622Z
LAST-MODIFIED:20251116T032844Z
UID:10007257-1793041200-1793046600@hartfordjazzsociety.com
SUMMARY:Tuxedo Junction
DESCRIPTION:For over 24 years\, hosting public rehearsals every Monday night\, now at Guilford VFW Post 7666. \nTuxedo Junction was started in 1989 by Pete Jacobs (trumpet) and Will Tayler (drums)\, WWII veterans who set up an 8-piece Dixieland jazz band in the basement of the senior citizens center in Madison\, CT. Pat soon joined on piano. \nThe band quickly grew into a full swing band as Pete added big band arrangements and people joined: everyone from high school students to retired music teachers started to fill out the sections. Tuxedo Junction moved its practice home to the Westbrook Elks briefly\, and in 1997 Paul James suggested that Bill’s Seafood restaurant in Westbrook would be a great place to share the sounds of swing. After more than 20 years of Monday nights at Bill’s\, originally outnumbering the customers and staff before turning it into the most happening place on the Shoreline for a Monday night\, we moved outside to Town Greens\, Overlook Farm in Killingworth\, and the Guilford VFW. \nTuxedo Junction plays original big band arrangements from the 30’s through the present\, including charts from Count Basie\, Duke Ellington\, Glenn Miller\, Sy Zentner\, Buddy Rich\, Frank Sinatra\, Ella Fitzgerald\, and more. We focus on danceable tunes from swing to waltz\, foxtrot to two-step\, Latin and even some rock. The band has weekly open rehearsals at local venues on the Eastern Connecticut shoreline. The public is invited to dance and listen in at no charge. We are also available for hire at public and private events throughout Connecticut. \nAfter more than 1\,001 performances\, Tuxedo Junction has become a musical success story. We are now eighteen passionate musicians\, men and women of all ages\, following the great jazz tradition and warmly welcoming visiting jazz musicians to sit in.
URL:https://hartfordjazzsociety.com/event/tuxedo-junction/2026-10-26/
LOCATION:Guilford VFW Post 9666\, 104 Mill Road\, Guilford\, CT
END:VEVENT
BEGIN:VEVENT
DTSTART;TZID=America/New_York:20261026T193000
DTEND;TZID=America/New_York:20261026T213000
DTSTAMP:20260424T120926
CREATED:20251217T142857Z
LAST-MODIFIED:20251217T142857Z
UID:10007487-1793043000-1793050200@hartfordjazzsociety.com
SUMMARY:Hartford Jazz Orchestra
DESCRIPTION:Every Monday at Elicit Brewery in Manchester CT. No cover.
URL:https://hartfordjazzsociety.com/event/hartford-jazz-orchestra/2026-10-26/
LOCATION:Elicit Brewery\, 165 Adams Street\, Manchester\, CT
END:VEVENT
BEGIN:VEVENT
DTSTART;TZID=America/New_York:20261027T190000
DTEND;TZID=America/New_York:20261027T210000
DTSTAMP:20260424T120926
CREATED:20251116T023901Z
LAST-MODIFIED:20251116T023902Z
UID:10007120-1793127600-1793134800@hartfordjazzsociety.com
SUMMARY:Jazz at Cafe Nine
DESCRIPTION:Presented by New Haven Jazz Underground on the 2nd & 4th Tuesday every month. \n 
URL:https://hartfordjazzsociety.com/event/jazz-at-cafe-nine-3/2026-10-27/
LOCATION:Cafe Nine\, 250 State Street\, New Haven\, CT\, 06510
END:VEVENT
BEGIN:VEVENT
DTSTART;TZID=America/New_York:20261027T200000
DTEND;TZID=America/New_York:20261027T220000
DTSTAMP:20260424T120926
CREATED:20251116T034317Z
LAST-MODIFIED:20251116T034317Z
UID:10007319-1793131200-1793138400@hartfordjazzsociety.com
SUMMARY:Michael Palin's Other Orchestra
DESCRIPTION:It’s a funky Big Band thang\, a large jazz ensemble that rocks the house. Playing music from Tower of Power\, Frank Zappa\, The Brecker Brothers\, Jaco Pastorious\, Steely Dan\, The Yellow Jackets\, Bob Berg…..You’ll want to see them again and again! \nhttps://www.facebook.com/OtherOrchestra/
URL:https://hartfordjazzsociety.com/event/michael-palins-other-orchestra/2026-10-27/
LOCATION:The Hungry Tiger\, 120 Charter Oak Street\, Manchester\, CT
END:VEVENT
BEGIN:VEVENT
DTSTART;TZID=America/New_York:20261028T190000
DTEND;TZID=America/New_York:20261028T220000
DTSTAMP:20260424T120926
CREATED:20251103T042112Z
LAST-MODIFIED:20251103T042117Z
UID:10007061-1793214000-1793224800@hartfordjazzsociety.com
SUMMARY:Black Eyed Sally’s Jazz Jam
DESCRIPTION:Located in downtown Hartford\, for the aficionado\, musician\, or the curious first-timer\, Black Eyed Sally’s Jazz Jams are the best taste of live jazz in Hartford. Set in the southern juke joint atmosphere of Black-eyed Sally’s\, these jam sessions will strike a chord as you hear what our local talent has to offer\, with regular special appearances by big city jazz names. Experience the cool original music of the jam session while you enjoy the hot fierce cookin’ of Hartford’s favorite BBQ joint. \nAfter a long hiatus due to the pandemic\, regularly scheduled jazz jams have returned to Black Eyed Sally’s every Wednesday. There will be a featured jazz ensemble followed by an open jam session. Bring your axe and be ready to jam! \nThe music begins at 7:00 PM\, jam session begins after 1st set. No cover charge most nights\, under 21’s welcome. \nPresented by the Hartford Jazz Society and Neefjazz Entertainment
URL:https://hartfordjazzsociety.com/event/black-eyed-sallys-jazz-jam-10-9/2026-10-28/
LOCATION:Black-eyed Sally’s Southern Kitchen & Bar\, 350 Asylum St.\, Hartford\, CT\, 06103
END:VEVENT
BEGIN:VEVENT
DTSTART;TZID=America/New_York:20261030T171500
DTEND;TZID=America/New_York:20261030T190000
DTSTAMP:20260424T120926
CREATED:20251210T225210Z
LAST-MODIFIED:20251210T225210Z
UID:10007410-1793380500-1793386800@hartfordjazzsociety.com
SUMMARY:Fridays with Frank
DESCRIPTION:Join renowned jazz historian and Jazz Haven Board member Frank Cochran for BYOB “Fridays with Frank.”  Happy Hour jazz listening sessions are held every Friday from 5:15 to 7:00 pm at the Institute Library in downtown New Haven.  Each Friday Frank selects iconic jazz LPs to play from the Library’s extensive collection.  Discussion follows.  BYOB and please give a modest donation towards the IL’s spiraling utilities. A $5.00 contribution is welcome.
URL:https://hartfordjazzsociety.com/event/fridays-with-frank/2026-10-30/
LOCATION:Institute Library\, 847 Chapel Street\, New Haven\, CT
END:VEVENT
BEGIN:VEVENT
DTSTART;TZID=America/New_York:20261031T160000
DTEND;TZID=America/New_York:20261031T190000
DTSTAMP:20260424T120926
CREATED:20251116T031948Z
LAST-MODIFIED:20251116T031948Z
UID:10007196-1793462400-1793473200@hartfordjazzsociety.com
SUMMARY:Jazz Jam at Cafe Nine
DESCRIPTION:Every Saturday\, 4-7
URL:https://hartfordjazzsociety.com/event/jazz-jam-at-cafe-nine-2/2026-10-31/
LOCATION:CT
END:VEVENT
BEGIN:VEVENT
DTSTART;TZID=America/New_York:20261031T180000
DTEND;TZID=America/New_York:20261031T210000
DTSTAMP:20260424T120926
CREATED:20260114T010844Z
LAST-MODIFIED:20260114T012526Z
UID:10007559-1793469600-1793480400@hartfordjazzsociety.com
SUMMARY:Bob Ahern Quartet
DESCRIPTION:The Bob Ahern Quartet will be performing the last Saturday of each month at the legendary Lighthouse Inn from 6-9. The group features Lisa Marien on vocals and Bob Ahern on drums along with various Jazz artists each month.
URL:https://hartfordjazzsociety.com/event/bob-ahern-quartet/2026-10-31/
LOCATION:Lighthouse Inn\, 6 Guthrie Pl\, New London\, CT
END:VEVENT
BEGIN:VEVENT
DTSTART;TZID=America/New_York:20261031T190000
DTEND;TZID=America/New_York:20261031T210000
DTSTAMP:20260424T120927
CREATED:20260402T160437Z
LAST-MODIFIED:20260402T160628Z
UID:10007716-1793473200-1793480400@hartfordjazzsociety.com
SUMMARY:Blue Lion Trio
DESCRIPTION:Every Saturday \nHost & drummer Richard Sylvester has launched a remarkable jazz series (every Saturday!) at this cozy venue
URL:https://hartfordjazzsociety.com/event/blue-lion-trio-4/2026-10-31/
LOCATION:Open Door Tea\, 3552 Main Street\, Stratford\, CT
END:VEVENT
END:VCALENDAR