BEGIN:VCALENDAR
VERSION:2.0
PRODID:-//Hartford Jazz Society - ECPv6.15.20//NONSGML v1.0//EN
CALSCALE:GREGORIAN
METHOD:PUBLISH
X-WR-CALNAME:Hartford Jazz Society
X-ORIGINAL-URL:https://hartfordjazzsociety.com
X-WR-CALDESC:Events for Hartford Jazz Society
REFRESH-INTERVAL;VALUE=DURATION:PT1H
X-Robots-Tag:noindex
X-PUBLISHED-TTL:PT1H
BEGIN:VTIMEZONE
TZID:America/New_York
BEGIN:DAYLIGHT
TZOFFSETFROM:-0500
TZOFFSETTO:-0400
TZNAME:EDT
DTSTART:20260308T070000
END:DAYLIGHT
BEGIN:STANDARD
TZOFFSETFROM:-0400
TZOFFSETTO:-0500
TZNAME:EST
DTSTART:20261101T060000
END:STANDARD
BEGIN:DAYLIGHT
TZOFFSETFROM:-0500
TZOFFSETTO:-0400
TZNAME:EDT
DTSTART:20270314T070000
END:DAYLIGHT
BEGIN:STANDARD
TZOFFSETFROM:-0400
TZOFFSETTO:-0500
TZNAME:EST
DTSTART:20271107T060000
END:STANDARD
BEGIN:DAYLIGHT
TZOFFSETFROM:-0500
TZOFFSETTO:-0400
TZNAME:EDT
DTSTART:20280312T070000
END:DAYLIGHT
BEGIN:STANDARD
TZOFFSETFROM:-0400
TZOFFSETTO:-0500
TZNAME:EST
DTSTART:20281105T060000
END:STANDARD
END:VTIMEZONE
BEGIN:VEVENT
DTSTART;TZID=America/New_York:20270127T190000
DTEND;TZID=America/New_York:20270127T220000
DTSTAMP:20260425T095357
CREATED:20251103T042112Z
LAST-MODIFIED:20251103T042117Z
UID:10007074-1801076400-1801087200@hartfordjazzsociety.com
SUMMARY:Black Eyed Sally’s Jazz Jam
DESCRIPTION:Located in downtown Hartford\, for the aficionado\, musician\, or the curious first-timer\, Black Eyed Sally’s Jazz Jams are the best taste of live jazz in Hartford. Set in the southern juke joint atmosphere of Black-eyed Sally’s\, these jam sessions will strike a chord as you hear what our local talent has to offer\, with regular special appearances by big city jazz names. Experience the cool original music of the jam session while you enjoy the hot fierce cookin’ of Hartford’s favorite BBQ joint. \nAfter a long hiatus due to the pandemic\, regularly scheduled jazz jams have returned to Black Eyed Sally’s every Wednesday. There will be a featured jazz ensemble followed by an open jam session. Bring your axe and be ready to jam! \nThe music begins at 7:00 PM\, jam session begins after 1st set. No cover charge most nights\, under 21’s welcome. \nPresented by the Hartford Jazz Society and Neefjazz Entertainment
URL:https://hartfordjazzsociety.com/event/black-eyed-sallys-jazz-jam-10-9/2027-01-27/
LOCATION:Black-eyed Sally’s Southern Kitchen & Bar\, 350 Asylum St.\, Hartford\, CT\, 06103
END:VEVENT
BEGIN:VEVENT
DTSTART;TZID=America/New_York:20270130T180000
DTEND;TZID=America/New_York:20270130T210000
DTSTAMP:20260425T095357
CREATED:20260114T010844Z
LAST-MODIFIED:20260114T012526Z
UID:10007572-1801332000-1801342800@hartfordjazzsociety.com
SUMMARY:Bob Ahern Quartet
DESCRIPTION:The Bob Ahern Quartet will be performing the last Saturday of each month at the legendary Lighthouse Inn from 6-9. The group features Lisa Marien on vocals and Bob Ahern on drums along with various Jazz artists each month.
URL:https://hartfordjazzsociety.com/event/bob-ahern-quartet/2027-01-30/
LOCATION:Lighthouse Inn\, 6 Guthrie Pl\, New London\, CT
END:VEVENT
BEGIN:VEVENT
DTSTART;TZID=America/New_York:20270130T190000
DTEND;TZID=America/New_York:20270130T210000
DTSTAMP:20260425T095357
CREATED:20260402T160437Z
LAST-MODIFIED:20260402T160628Z
UID:10007729-1801335600-1801342800@hartfordjazzsociety.com
SUMMARY:Blue Lion Trio
DESCRIPTION:Every Saturday \nHost & drummer Richard Sylvester has launched a remarkable jazz series (every Saturday!) at this cozy venue
URL:https://hartfordjazzsociety.com/event/blue-lion-trio-4/2027-01-30/
LOCATION:Open Door Tea\, 3552 Main Street\, Stratford\, CT
END:VEVENT
BEGIN:VEVENT
DTSTART;TZID=America/New_York:20270206T190000
DTEND;TZID=America/New_York:20270206T210000
DTSTAMP:20260425T095357
CREATED:20260402T160437Z
LAST-MODIFIED:20260402T160628Z
UID:10007730-1801940400-1801947600@hartfordjazzsociety.com
SUMMARY:Blue Lion Trio
DESCRIPTION:Every Saturday \nHost & drummer Richard Sylvester has launched a remarkable jazz series (every Saturday!) at this cozy venue
URL:https://hartfordjazzsociety.com/event/blue-lion-trio-4/2027-02-06/
LOCATION:Open Door Tea\, 3552 Main Street\, Stratford\, CT
END:VEVENT
BEGIN:VEVENT
DTSTART;TZID=America/New_York:20270213T190000
DTEND;TZID=America/New_York:20270213T210000
DTSTAMP:20260425T095357
CREATED:20260402T160437Z
LAST-MODIFIED:20260402T160628Z
UID:10007731-1802545200-1802552400@hartfordjazzsociety.com
SUMMARY:Blue Lion Trio
DESCRIPTION:Every Saturday \nHost & drummer Richard Sylvester has launched a remarkable jazz series (every Saturday!) at this cozy venue
URL:https://hartfordjazzsociety.com/event/blue-lion-trio-4/2027-02-13/
LOCATION:Open Door Tea\, 3552 Main Street\, Stratford\, CT
END:VEVENT
BEGIN:VEVENT
DTSTART;TZID=America/New_York:20270220T190000
DTEND;TZID=America/New_York:20270220T210000
DTSTAMP:20260425T095357
CREATED:20260402T160437Z
LAST-MODIFIED:20260402T160628Z
UID:10007732-1803150000-1803157200@hartfordjazzsociety.com
SUMMARY:Blue Lion Trio
DESCRIPTION:Every Saturday \nHost & drummer Richard Sylvester has launched a remarkable jazz series (every Saturday!) at this cozy venue
URL:https://hartfordjazzsociety.com/event/blue-lion-trio-4/2027-02-20/
LOCATION:Open Door Tea\, 3552 Main Street\, Stratford\, CT
END:VEVENT
BEGIN:VEVENT
DTSTART;TZID=America/New_York:20270227T190000
DTEND;TZID=America/New_York:20270227T210000
DTSTAMP:20260425T095357
CREATED:20260402T160437Z
LAST-MODIFIED:20260402T160628Z
UID:10007733-1803754800-1803762000@hartfordjazzsociety.com
SUMMARY:Blue Lion Trio
DESCRIPTION:Every Saturday \nHost & drummer Richard Sylvester has launched a remarkable jazz series (every Saturday!) at this cozy venue
URL:https://hartfordjazzsociety.com/event/blue-lion-trio-4/2027-02-27/
LOCATION:Open Door Tea\, 3552 Main Street\, Stratford\, CT
END:VEVENT
BEGIN:VEVENT
DTSTART;TZID=America/New_York:20270306T190000
DTEND;TZID=America/New_York:20270306T210000
DTSTAMP:20260425T095357
CREATED:20260402T160437Z
LAST-MODIFIED:20260402T160628Z
UID:10007734-1804359600-1804366800@hartfordjazzsociety.com
SUMMARY:Blue Lion Trio
DESCRIPTION:Every Saturday \nHost & drummer Richard Sylvester has launched a remarkable jazz series (every Saturday!) at this cozy venue
URL:https://hartfordjazzsociety.com/event/blue-lion-trio-4/2027-03-06/
LOCATION:Open Door Tea\, 3552 Main Street\, Stratford\, CT
END:VEVENT
BEGIN:VEVENT
DTSTART;TZID=America/New_York:20270313T190000
DTEND;TZID=America/New_York:20270313T210000
DTSTAMP:20260425T095357
CREATED:20260402T160437Z
LAST-MODIFIED:20260402T160628Z
UID:10007735-1804964400-1804971600@hartfordjazzsociety.com
SUMMARY:Blue Lion Trio
DESCRIPTION:Every Saturday \nHost & drummer Richard Sylvester has launched a remarkable jazz series (every Saturday!) at this cozy venue
URL:https://hartfordjazzsociety.com/event/blue-lion-trio-4/2027-03-13/
LOCATION:Open Door Tea\, 3552 Main Street\, Stratford\, CT
END:VEVENT
BEGIN:VEVENT
DTSTART;TZID=America/New_York:20270320T190000
DTEND;TZID=America/New_York:20270320T210000
DTSTAMP:20260425T095357
CREATED:20260402T160437Z
LAST-MODIFIED:20260402T160628Z
UID:10007736-1805569200-1805576400@hartfordjazzsociety.com
SUMMARY:Blue Lion Trio
DESCRIPTION:Every Saturday \nHost & drummer Richard Sylvester has launched a remarkable jazz series (every Saturday!) at this cozy venue
URL:https://hartfordjazzsociety.com/event/blue-lion-trio-4/2027-03-20/
LOCATION:Open Door Tea\, 3552 Main Street\, Stratford\, CT
END:VEVENT
BEGIN:VEVENT
DTSTART;TZID=America/New_York:20270327T190000
DTEND;TZID=America/New_York:20270327T210000
DTSTAMP:20260425T095357
CREATED:20260402T160437Z
LAST-MODIFIED:20260402T160628Z
UID:10007737-1806174000-1806181200@hartfordjazzsociety.com
SUMMARY:Blue Lion Trio
DESCRIPTION:Every Saturday \nHost & drummer Richard Sylvester has launched a remarkable jazz series (every Saturday!) at this cozy venue
URL:https://hartfordjazzsociety.com/event/blue-lion-trio-4/2027-03-27/
LOCATION:Open Door Tea\, 3552 Main Street\, Stratford\, CT
END:VEVENT
BEGIN:VEVENT
DTSTART;TZID=America/New_York:20270403T190000
DTEND;TZID=America/New_York:20270403T210000
DTSTAMP:20260425T095357
CREATED:20260402T160437Z
LAST-MODIFIED:20260402T160628Z
UID:10007738-1806778800-1806786000@hartfordjazzsociety.com
SUMMARY:Blue Lion Trio
DESCRIPTION:Every Saturday \nHost & drummer Richard Sylvester has launched a remarkable jazz series (every Saturday!) at this cozy venue
URL:https://hartfordjazzsociety.com/event/blue-lion-trio-4/2027-04-03/
LOCATION:Open Door Tea\, 3552 Main Street\, Stratford\, CT
END:VEVENT
END:VCALENDAR