BEGIN:VCALENDAR
VERSION:2.0
PRODID:-//Hartford Jazz Society - ECPv6.15.20//NONSGML v1.0//EN
CALSCALE:GREGORIAN
METHOD:PUBLISH
X-WR-CALNAME:Hartford Jazz Society
X-ORIGINAL-URL:https://hartfordjazzsociety.com
X-WR-CALDESC:Events for Hartford Jazz Society
REFRESH-INTERVAL;VALUE=DURATION:PT1H
X-Robots-Tag:noindex
X-PUBLISHED-TTL:PT1H
BEGIN:VTIMEZONE
TZID:America/New_York
BEGIN:DAYLIGHT
TZOFFSETFROM:-0500
TZOFFSETTO:-0400
TZNAME:EDT
DTSTART:20250309T070000
END:DAYLIGHT
BEGIN:STANDARD
TZOFFSETFROM:-0400
TZOFFSETTO:-0500
TZNAME:EST
DTSTART:20251102T060000
END:STANDARD
BEGIN:DAYLIGHT
TZOFFSETFROM:-0500
TZOFFSETTO:-0400
TZNAME:EDT
DTSTART:20260308T070000
END:DAYLIGHT
BEGIN:STANDARD
TZOFFSETFROM:-0400
TZOFFSETTO:-0500
TZNAME:EST
DTSTART:20261101T060000
END:STANDARD
BEGIN:DAYLIGHT
TZOFFSETFROM:-0500
TZOFFSETTO:-0400
TZNAME:EDT
DTSTART:20270314T070000
END:DAYLIGHT
BEGIN:STANDARD
TZOFFSETFROM:-0400
TZOFFSETTO:-0500
TZNAME:EST
DTSTART:20271107T060000
END:STANDARD
END:VTIMEZONE
BEGIN:VEVENT
DTSTART;TZID=America/New_York:20260427T193000
DTEND;TZID=America/New_York:20260427T213000
DTSTAMP:20260423T033341
CREATED:20251217T142857Z
LAST-MODIFIED:20251217T142857Z
UID:10007461-1777318200-1777325400@hartfordjazzsociety.com
SUMMARY:Hartford Jazz Orchestra
DESCRIPTION:Every Monday at Elicit Brewery in Manchester CT. No cover.
URL:https://hartfordjazzsociety.com/event/hartford-jazz-orchestra/2026-04-27/
LOCATION:Elicit Brewery\, 165 Adams Street\, Manchester\, CT
END:VEVENT
BEGIN:VEVENT
DTSTART;TZID=America/New_York:20260504T193000
DTEND;TZID=America/New_York:20260504T213000
DTSTAMP:20260423T033341
CREATED:20251217T142857Z
LAST-MODIFIED:20251217T142857Z
UID:10007462-1777923000-1777930200@hartfordjazzsociety.com
SUMMARY:Hartford Jazz Orchestra
DESCRIPTION:Every Monday at Elicit Brewery in Manchester CT. No cover.
URL:https://hartfordjazzsociety.com/event/hartford-jazz-orchestra/2026-05-04/
LOCATION:Elicit Brewery\, 165 Adams Street\, Manchester\, CT
END:VEVENT
BEGIN:VEVENT
DTSTART;TZID=America/New_York:20260511T193000
DTEND;TZID=America/New_York:20260511T213000
DTSTAMP:20260423T033341
CREATED:20251217T142857Z
LAST-MODIFIED:20251217T142857Z
UID:10007463-1778527800-1778535000@hartfordjazzsociety.com
SUMMARY:Hartford Jazz Orchestra
DESCRIPTION:Every Monday at Elicit Brewery in Manchester CT. No cover.
URL:https://hartfordjazzsociety.com/event/hartford-jazz-orchestra/2026-05-11/
LOCATION:Elicit Brewery\, 165 Adams Street\, Manchester\, CT
END:VEVENT
BEGIN:VEVENT
DTSTART;TZID=America/New_York:20260518T193000
DTEND;TZID=America/New_York:20260518T213000
DTSTAMP:20260423T033341
CREATED:20251217T142857Z
LAST-MODIFIED:20251217T142857Z
UID:10007464-1779132600-1779139800@hartfordjazzsociety.com
SUMMARY:Hartford Jazz Orchestra
DESCRIPTION:Every Monday at Elicit Brewery in Manchester CT. No cover.
URL:https://hartfordjazzsociety.com/event/hartford-jazz-orchestra/2026-05-18/
LOCATION:Elicit Brewery\, 165 Adams Street\, Manchester\, CT
END:VEVENT
BEGIN:VEVENT
DTSTART;TZID=America/New_York:20260525T193000
DTEND;TZID=America/New_York:20260525T213000
DTSTAMP:20260423T033341
CREATED:20251217T142857Z
LAST-MODIFIED:20251217T142857Z
UID:10007465-1779737400-1779744600@hartfordjazzsociety.com
SUMMARY:Hartford Jazz Orchestra
DESCRIPTION:Every Monday at Elicit Brewery in Manchester CT. No cover.
URL:https://hartfordjazzsociety.com/event/hartford-jazz-orchestra/2026-05-25/
LOCATION:Elicit Brewery\, 165 Adams Street\, Manchester\, CT
END:VEVENT
BEGIN:VEVENT
DTSTART;TZID=America/New_York:20260601T193000
DTEND;TZID=America/New_York:20260601T213000
DTSTAMP:20260423T033341
CREATED:20251217T142857Z
LAST-MODIFIED:20251217T142857Z
UID:10007466-1780342200-1780349400@hartfordjazzsociety.com
SUMMARY:Hartford Jazz Orchestra
DESCRIPTION:Every Monday at Elicit Brewery in Manchester CT. No cover.
URL:https://hartfordjazzsociety.com/event/hartford-jazz-orchestra/2026-06-01/
LOCATION:Elicit Brewery\, 165 Adams Street\, Manchester\, CT
END:VEVENT
BEGIN:VEVENT
DTSTART;TZID=America/New_York:20260608T193000
DTEND;TZID=America/New_York:20260608T213000
DTSTAMP:20260423T033341
CREATED:20251217T142857Z
LAST-MODIFIED:20251217T142857Z
UID:10007467-1780947000-1780954200@hartfordjazzsociety.com
SUMMARY:Hartford Jazz Orchestra
DESCRIPTION:Every Monday at Elicit Brewery in Manchester CT. No cover.
URL:https://hartfordjazzsociety.com/event/hartford-jazz-orchestra/2026-06-08/
LOCATION:Elicit Brewery\, 165 Adams Street\, Manchester\, CT
END:VEVENT
BEGIN:VEVENT
DTSTART;TZID=America/New_York:20260615T193000
DTEND;TZID=America/New_York:20260615T213000
DTSTAMP:20260423T033341
CREATED:20251217T142857Z
LAST-MODIFIED:20251217T142857Z
UID:10007468-1781551800-1781559000@hartfordjazzsociety.com
SUMMARY:Hartford Jazz Orchestra
DESCRIPTION:Every Monday at Elicit Brewery in Manchester CT. No cover.
URL:https://hartfordjazzsociety.com/event/hartford-jazz-orchestra/2026-06-15/
LOCATION:Elicit Brewery\, 165 Adams Street\, Manchester\, CT
END:VEVENT
BEGIN:VEVENT
DTSTART;TZID=America/New_York:20260622T193000
DTEND;TZID=America/New_York:20260622T213000
DTSTAMP:20260423T033341
CREATED:20251217T142857Z
LAST-MODIFIED:20251217T142857Z
UID:10007469-1782156600-1782163800@hartfordjazzsociety.com
SUMMARY:Hartford Jazz Orchestra
DESCRIPTION:Every Monday at Elicit Brewery in Manchester CT. No cover.
URL:https://hartfordjazzsociety.com/event/hartford-jazz-orchestra/2026-06-22/
LOCATION:Elicit Brewery\, 165 Adams Street\, Manchester\, CT
END:VEVENT
BEGIN:VEVENT
DTSTART;TZID=America/New_York:20260629T193000
DTEND;TZID=America/New_York:20260629T213000
DTSTAMP:20260423T033341
CREATED:20251217T142857Z
LAST-MODIFIED:20251217T142857Z
UID:10007470-1782761400-1782768600@hartfordjazzsociety.com
SUMMARY:Hartford Jazz Orchestra
DESCRIPTION:Every Monday at Elicit Brewery in Manchester CT. No cover.
URL:https://hartfordjazzsociety.com/event/hartford-jazz-orchestra/2026-06-29/
LOCATION:Elicit Brewery\, 165 Adams Street\, Manchester\, CT
END:VEVENT
BEGIN:VEVENT
DTSTART;TZID=America/New_York:20260706T193000
DTEND;TZID=America/New_York:20260706T213000
DTSTAMP:20260423T033341
CREATED:20251217T142857Z
LAST-MODIFIED:20251217T142857Z
UID:10007471-1783366200-1783373400@hartfordjazzsociety.com
SUMMARY:Hartford Jazz Orchestra
DESCRIPTION:Every Monday at Elicit Brewery in Manchester CT. No cover.
URL:https://hartfordjazzsociety.com/event/hartford-jazz-orchestra/2026-07-06/
LOCATION:Elicit Brewery\, 165 Adams Street\, Manchester\, CT
END:VEVENT
BEGIN:VEVENT
DTSTART;TZID=America/New_York:20260713T193000
DTEND;TZID=America/New_York:20260713T213000
DTSTAMP:20260423T033341
CREATED:20251217T142857Z
LAST-MODIFIED:20251217T142857Z
UID:10007472-1783971000-1783978200@hartfordjazzsociety.com
SUMMARY:Hartford Jazz Orchestra
DESCRIPTION:Every Monday at Elicit Brewery in Manchester CT. No cover.
URL:https://hartfordjazzsociety.com/event/hartford-jazz-orchestra/2026-07-13/
LOCATION:Elicit Brewery\, 165 Adams Street\, Manchester\, CT
END:VEVENT
BEGIN:VEVENT
DTSTART;TZID=America/New_York:20260720T193000
DTEND;TZID=America/New_York:20260720T213000
DTSTAMP:20260423T033341
CREATED:20251217T142857Z
LAST-MODIFIED:20251217T142857Z
UID:10007473-1784575800-1784583000@hartfordjazzsociety.com
SUMMARY:Hartford Jazz Orchestra
DESCRIPTION:Every Monday at Elicit Brewery in Manchester CT. No cover.
URL:https://hartfordjazzsociety.com/event/hartford-jazz-orchestra/2026-07-20/
LOCATION:Elicit Brewery\, 165 Adams Street\, Manchester\, CT
END:VEVENT
BEGIN:VEVENT
DTSTART;TZID=America/New_York:20260727T193000
DTEND;TZID=America/New_York:20260727T213000
DTSTAMP:20260423T033341
CREATED:20251217T142857Z
LAST-MODIFIED:20251217T142857Z
UID:10007474-1785180600-1785187800@hartfordjazzsociety.com
SUMMARY:Hartford Jazz Orchestra
DESCRIPTION:Every Monday at Elicit Brewery in Manchester CT. No cover.
URL:https://hartfordjazzsociety.com/event/hartford-jazz-orchestra/2026-07-27/
LOCATION:Elicit Brewery\, 165 Adams Street\, Manchester\, CT
END:VEVENT
BEGIN:VEVENT
DTSTART;TZID=America/New_York:20260803T193000
DTEND;TZID=America/New_York:20260803T213000
DTSTAMP:20260423T033341
CREATED:20251217T142857Z
LAST-MODIFIED:20251217T142857Z
UID:10007475-1785785400-1785792600@hartfordjazzsociety.com
SUMMARY:Hartford Jazz Orchestra
DESCRIPTION:Every Monday at Elicit Brewery in Manchester CT. No cover.
URL:https://hartfordjazzsociety.com/event/hartford-jazz-orchestra/2026-08-03/
LOCATION:Elicit Brewery\, 165 Adams Street\, Manchester\, CT
END:VEVENT
BEGIN:VEVENT
DTSTART;TZID=America/New_York:20260810T193000
DTEND;TZID=America/New_York:20260810T213000
DTSTAMP:20260423T033341
CREATED:20251217T142857Z
LAST-MODIFIED:20251217T142857Z
UID:10007476-1786390200-1786397400@hartfordjazzsociety.com
SUMMARY:Hartford Jazz Orchestra
DESCRIPTION:Every Monday at Elicit Brewery in Manchester CT. No cover.
URL:https://hartfordjazzsociety.com/event/hartford-jazz-orchestra/2026-08-10/
LOCATION:Elicit Brewery\, 165 Adams Street\, Manchester\, CT
END:VEVENT
BEGIN:VEVENT
DTSTART;TZID=America/New_York:20260817T193000
DTEND;TZID=America/New_York:20260817T213000
DTSTAMP:20260423T033341
CREATED:20251217T142857Z
LAST-MODIFIED:20251217T142857Z
UID:10007477-1786995000-1787002200@hartfordjazzsociety.com
SUMMARY:Hartford Jazz Orchestra
DESCRIPTION:Every Monday at Elicit Brewery in Manchester CT. No cover.
URL:https://hartfordjazzsociety.com/event/hartford-jazz-orchestra/2026-08-17/
LOCATION:Elicit Brewery\, 165 Adams Street\, Manchester\, CT
END:VEVENT
BEGIN:VEVENT
DTSTART;TZID=America/New_York:20260824T193000
DTEND;TZID=America/New_York:20260824T213000
DTSTAMP:20260423T033341
CREATED:20251217T142857Z
LAST-MODIFIED:20251217T142857Z
UID:10007478-1787599800-1787607000@hartfordjazzsociety.com
SUMMARY:Hartford Jazz Orchestra
DESCRIPTION:Every Monday at Elicit Brewery in Manchester CT. No cover.
URL:https://hartfordjazzsociety.com/event/hartford-jazz-orchestra/2026-08-24/
LOCATION:Elicit Brewery\, 165 Adams Street\, Manchester\, CT
END:VEVENT
BEGIN:VEVENT
DTSTART;TZID=America/New_York:20260831T193000
DTEND;TZID=America/New_York:20260831T213000
DTSTAMP:20260423T033341
CREATED:20251217T142857Z
LAST-MODIFIED:20251217T142857Z
UID:10007479-1788204600-1788211800@hartfordjazzsociety.com
SUMMARY:Hartford Jazz Orchestra
DESCRIPTION:Every Monday at Elicit Brewery in Manchester CT. No cover.
URL:https://hartfordjazzsociety.com/event/hartford-jazz-orchestra/2026-08-31/
LOCATION:Elicit Brewery\, 165 Adams Street\, Manchester\, CT
END:VEVENT
BEGIN:VEVENT
DTSTART;TZID=America/New_York:20260907T193000
DTEND;TZID=America/New_York:20260907T213000
DTSTAMP:20260423T033341
CREATED:20251217T142857Z
LAST-MODIFIED:20251217T142857Z
UID:10007480-1788809400-1788816600@hartfordjazzsociety.com
SUMMARY:Hartford Jazz Orchestra
DESCRIPTION:Every Monday at Elicit Brewery in Manchester CT. No cover.
URL:https://hartfordjazzsociety.com/event/hartford-jazz-orchestra/2026-09-07/
LOCATION:Elicit Brewery\, 165 Adams Street\, Manchester\, CT
END:VEVENT
BEGIN:VEVENT
DTSTART;TZID=America/New_York:20260914T193000
DTEND;TZID=America/New_York:20260914T213000
DTSTAMP:20260423T033341
CREATED:20251217T142857Z
LAST-MODIFIED:20251217T142857Z
UID:10007481-1789414200-1789421400@hartfordjazzsociety.com
SUMMARY:Hartford Jazz Orchestra
DESCRIPTION:Every Monday at Elicit Brewery in Manchester CT. No cover.
URL:https://hartfordjazzsociety.com/event/hartford-jazz-orchestra/2026-09-14/
LOCATION:Elicit Brewery\, 165 Adams Street\, Manchester\, CT
END:VEVENT
BEGIN:VEVENT
DTSTART;TZID=America/New_York:20260921T193000
DTEND;TZID=America/New_York:20260921T213000
DTSTAMP:20260423T033341
CREATED:20251217T142857Z
LAST-MODIFIED:20251217T142857Z
UID:10007482-1790019000-1790026200@hartfordjazzsociety.com
SUMMARY:Hartford Jazz Orchestra
DESCRIPTION:Every Monday at Elicit Brewery in Manchester CT. No cover.
URL:https://hartfordjazzsociety.com/event/hartford-jazz-orchestra/2026-09-21/
LOCATION:Elicit Brewery\, 165 Adams Street\, Manchester\, CT
END:VEVENT
BEGIN:VEVENT
DTSTART;TZID=America/New_York:20260928T193000
DTEND;TZID=America/New_York:20260928T213000
DTSTAMP:20260423T033341
CREATED:20251217T142857Z
LAST-MODIFIED:20251217T142857Z
UID:10007483-1790623800-1790631000@hartfordjazzsociety.com
SUMMARY:Hartford Jazz Orchestra
DESCRIPTION:Every Monday at Elicit Brewery in Manchester CT. No cover.
URL:https://hartfordjazzsociety.com/event/hartford-jazz-orchestra/2026-09-28/
LOCATION:Elicit Brewery\, 165 Adams Street\, Manchester\, CT
END:VEVENT
BEGIN:VEVENT
DTSTART;TZID=America/New_York:20261005T193000
DTEND;TZID=America/New_York:20261005T213000
DTSTAMP:20260423T033341
CREATED:20251217T142857Z
LAST-MODIFIED:20251217T142857Z
UID:10007484-1791228600-1791235800@hartfordjazzsociety.com
SUMMARY:Hartford Jazz Orchestra
DESCRIPTION:Every Monday at Elicit Brewery in Manchester CT. No cover.
URL:https://hartfordjazzsociety.com/event/hartford-jazz-orchestra/2026-10-05/
LOCATION:Elicit Brewery\, 165 Adams Street\, Manchester\, CT
END:VEVENT
BEGIN:VEVENT
DTSTART;TZID=America/New_York:20261012T193000
DTEND;TZID=America/New_York:20261012T213000
DTSTAMP:20260423T033341
CREATED:20251217T142857Z
LAST-MODIFIED:20251217T142857Z
UID:10007485-1791833400-1791840600@hartfordjazzsociety.com
SUMMARY:Hartford Jazz Orchestra
DESCRIPTION:Every Monday at Elicit Brewery in Manchester CT. No cover.
URL:https://hartfordjazzsociety.com/event/hartford-jazz-orchestra/2026-10-12/
LOCATION:Elicit Brewery\, 165 Adams Street\, Manchester\, CT
END:VEVENT
BEGIN:VEVENT
DTSTART;TZID=America/New_York:20261019T193000
DTEND;TZID=America/New_York:20261019T213000
DTSTAMP:20260423T033341
CREATED:20251217T142857Z
LAST-MODIFIED:20251217T142857Z
UID:10007486-1792438200-1792445400@hartfordjazzsociety.com
SUMMARY:Hartford Jazz Orchestra
DESCRIPTION:Every Monday at Elicit Brewery in Manchester CT. No cover.
URL:https://hartfordjazzsociety.com/event/hartford-jazz-orchestra/2026-10-19/
LOCATION:Elicit Brewery\, 165 Adams Street\, Manchester\, CT
END:VEVENT
BEGIN:VEVENT
DTSTART;TZID=America/New_York:20261026T193000
DTEND;TZID=America/New_York:20261026T213000
DTSTAMP:20260423T033341
CREATED:20251217T142857Z
LAST-MODIFIED:20251217T142857Z
UID:10007487-1793043000-1793050200@hartfordjazzsociety.com
SUMMARY:Hartford Jazz Orchestra
DESCRIPTION:Every Monday at Elicit Brewery in Manchester CT. No cover.
URL:https://hartfordjazzsociety.com/event/hartford-jazz-orchestra/2026-10-26/
LOCATION:Elicit Brewery\, 165 Adams Street\, Manchester\, CT
END:VEVENT
BEGIN:VEVENT
DTSTART;TZID=America/New_York:20261102T193000
DTEND;TZID=America/New_York:20261102T213000
DTSTAMP:20260423T033341
CREATED:20251217T142857Z
LAST-MODIFIED:20251217T142857Z
UID:10007488-1793647800-1793655000@hartfordjazzsociety.com
SUMMARY:Hartford Jazz Orchestra
DESCRIPTION:Every Monday at Elicit Brewery in Manchester CT. No cover.
URL:https://hartfordjazzsociety.com/event/hartford-jazz-orchestra/2026-11-02/
LOCATION:Elicit Brewery\, 165 Adams Street\, Manchester\, CT
END:VEVENT
BEGIN:VEVENT
DTSTART;TZID=America/New_York:20261109T193000
DTEND;TZID=America/New_York:20261109T213000
DTSTAMP:20260423T033341
CREATED:20251217T142857Z
LAST-MODIFIED:20251217T142857Z
UID:10007489-1794252600-1794259800@hartfordjazzsociety.com
SUMMARY:Hartford Jazz Orchestra
DESCRIPTION:Every Monday at Elicit Brewery in Manchester CT. No cover.
URL:https://hartfordjazzsociety.com/event/hartford-jazz-orchestra/2026-11-09/
LOCATION:Elicit Brewery\, 165 Adams Street\, Manchester\, CT
END:VEVENT
BEGIN:VEVENT
DTSTART;TZID=America/New_York:20261116T193000
DTEND;TZID=America/New_York:20261116T213000
DTSTAMP:20260423T033341
CREATED:20251217T142857Z
LAST-MODIFIED:20251217T142857Z
UID:10007490-1794857400-1794864600@hartfordjazzsociety.com
SUMMARY:Hartford Jazz Orchestra
DESCRIPTION:Every Monday at Elicit Brewery in Manchester CT. No cover.
URL:https://hartfordjazzsociety.com/event/hartford-jazz-orchestra/2026-11-16/
LOCATION:Elicit Brewery\, 165 Adams Street\, Manchester\, CT
END:VEVENT
END:VCALENDAR