BEGIN:VCALENDAR
VERSION:2.0
PRODID:-//Hartford Jazz Society - ECPv6.15.20//NONSGML v1.0//EN
CALSCALE:GREGORIAN
METHOD:PUBLISH
X-WR-CALNAME:Hartford Jazz Society
X-ORIGINAL-URL:https://hartfordjazzsociety.com
X-WR-CALDESC:Events for Hartford Jazz Society
REFRESH-INTERVAL;VALUE=DURATION:PT1H
X-Robots-Tag:noindex
X-PUBLISHED-TTL:PT1H
BEGIN:VTIMEZONE
TZID:America/New_York
BEGIN:DAYLIGHT
TZOFFSETFROM:-0500
TZOFFSETTO:-0400
TZNAME:EDT
DTSTART:20250309T070000
END:DAYLIGHT
BEGIN:STANDARD
TZOFFSETFROM:-0400
TZOFFSETTO:-0500
TZNAME:EST
DTSTART:20251102T060000
END:STANDARD
BEGIN:DAYLIGHT
TZOFFSETFROM:-0500
TZOFFSETTO:-0400
TZNAME:EDT
DTSTART:20260308T070000
END:DAYLIGHT
BEGIN:STANDARD
TZOFFSETFROM:-0400
TZOFFSETTO:-0500
TZNAME:EST
DTSTART:20261101T060000
END:STANDARD
BEGIN:DAYLIGHT
TZOFFSETFROM:-0500
TZOFFSETTO:-0400
TZNAME:EDT
DTSTART:20270314T070000
END:DAYLIGHT
BEGIN:STANDARD
TZOFFSETFROM:-0400
TZOFFSETTO:-0500
TZNAME:EST
DTSTART:20271107T060000
END:STANDARD
END:VTIMEZONE
BEGIN:VEVENT
DTSTART;TZID=America/New_York:20260425T190000
DTEND;TZID=America/New_York:20260425T210000
DTSTAMP:20260423T013432
CREATED:20260402T160437Z
LAST-MODIFIED:20260402T160628Z
UID:10007689-1777143600-1777150800@hartfordjazzsociety.com
SUMMARY:Blue Lion Trio
DESCRIPTION:Every Saturday \nHost & drummer Richard Sylvester has launched a remarkable jazz series (every Saturday!) at this cozy venue
URL:https://hartfordjazzsociety.com/event/blue-lion-trio-4/2026-04-25/
LOCATION:Open Door Tea\, 3552 Main Street\, Stratford\, CT
END:VEVENT
BEGIN:VEVENT
DTSTART;TZID=America/New_York:20260502T190000
DTEND;TZID=America/New_York:20260502T210000
DTSTAMP:20260423T013432
CREATED:20260402T160437Z
LAST-MODIFIED:20260402T160628Z
UID:10007690-1777748400-1777755600@hartfordjazzsociety.com
SUMMARY:Blue Lion Trio
DESCRIPTION:Every Saturday \nHost & drummer Richard Sylvester has launched a remarkable jazz series (every Saturday!) at this cozy venue
URL:https://hartfordjazzsociety.com/event/blue-lion-trio-4/2026-05-02/
LOCATION:Open Door Tea\, 3552 Main Street\, Stratford\, CT
END:VEVENT
BEGIN:VEVENT
DTSTART;TZID=America/New_York:20260509T190000
DTEND;TZID=America/New_York:20260509T210000
DTSTAMP:20260423T013432
CREATED:20260402T160437Z
LAST-MODIFIED:20260402T160628Z
UID:10007691-1778353200-1778360400@hartfordjazzsociety.com
SUMMARY:Blue Lion Trio
DESCRIPTION:Every Saturday \nHost & drummer Richard Sylvester has launched a remarkable jazz series (every Saturday!) at this cozy venue
URL:https://hartfordjazzsociety.com/event/blue-lion-trio-4/2026-05-09/
LOCATION:Open Door Tea\, 3552 Main Street\, Stratford\, CT
END:VEVENT
BEGIN:VEVENT
DTSTART;TZID=America/New_York:20260516T190000
DTEND;TZID=America/New_York:20260516T210000
DTSTAMP:20260423T013432
CREATED:20260402T160437Z
LAST-MODIFIED:20260402T160628Z
UID:10007692-1778958000-1778965200@hartfordjazzsociety.com
SUMMARY:Blue Lion Trio
DESCRIPTION:Every Saturday \nHost & drummer Richard Sylvester has launched a remarkable jazz series (every Saturday!) at this cozy venue
URL:https://hartfordjazzsociety.com/event/blue-lion-trio-4/2026-05-16/
LOCATION:Open Door Tea\, 3552 Main Street\, Stratford\, CT
END:VEVENT
BEGIN:VEVENT
DTSTART;TZID=America/New_York:20260523T190000
DTEND;TZID=America/New_York:20260523T210000
DTSTAMP:20260423T013432
CREATED:20260402T160437Z
LAST-MODIFIED:20260402T160628Z
UID:10007693-1779562800-1779570000@hartfordjazzsociety.com
SUMMARY:Blue Lion Trio
DESCRIPTION:Every Saturday \nHost & drummer Richard Sylvester has launched a remarkable jazz series (every Saturday!) at this cozy venue
URL:https://hartfordjazzsociety.com/event/blue-lion-trio-4/2026-05-23/
LOCATION:Open Door Tea\, 3552 Main Street\, Stratford\, CT
END:VEVENT
BEGIN:VEVENT
DTSTART;TZID=America/New_York:20260530T190000
DTEND;TZID=America/New_York:20260530T210000
DTSTAMP:20260423T013432
CREATED:20260402T160437Z
LAST-MODIFIED:20260402T160628Z
UID:10007694-1780167600-1780174800@hartfordjazzsociety.com
SUMMARY:Blue Lion Trio
DESCRIPTION:Every Saturday \nHost & drummer Richard Sylvester has launched a remarkable jazz series (every Saturday!) at this cozy venue
URL:https://hartfordjazzsociety.com/event/blue-lion-trio-4/2026-05-30/
LOCATION:Open Door Tea\, 3552 Main Street\, Stratford\, CT
END:VEVENT
BEGIN:VEVENT
DTSTART;TZID=America/New_York:20260606T190000
DTEND;TZID=America/New_York:20260606T210000
DTSTAMP:20260423T013432
CREATED:20260402T160437Z
LAST-MODIFIED:20260402T160628Z
UID:10007695-1780772400-1780779600@hartfordjazzsociety.com
SUMMARY:Blue Lion Trio
DESCRIPTION:Every Saturday \nHost & drummer Richard Sylvester has launched a remarkable jazz series (every Saturday!) at this cozy venue
URL:https://hartfordjazzsociety.com/event/blue-lion-trio-4/2026-06-06/
LOCATION:Open Door Tea\, 3552 Main Street\, Stratford\, CT
END:VEVENT
BEGIN:VEVENT
DTSTART;TZID=America/New_York:20260613T190000
DTEND;TZID=America/New_York:20260613T210000
DTSTAMP:20260423T013432
CREATED:20260402T160437Z
LAST-MODIFIED:20260402T160628Z
UID:10007696-1781377200-1781384400@hartfordjazzsociety.com
SUMMARY:Blue Lion Trio
DESCRIPTION:Every Saturday \nHost & drummer Richard Sylvester has launched a remarkable jazz series (every Saturday!) at this cozy venue
URL:https://hartfordjazzsociety.com/event/blue-lion-trio-4/2026-06-13/
LOCATION:Open Door Tea\, 3552 Main Street\, Stratford\, CT
END:VEVENT
BEGIN:VEVENT
DTSTART;TZID=America/New_York:20260620T190000
DTEND;TZID=America/New_York:20260620T210000
DTSTAMP:20260423T013432
CREATED:20260402T160437Z
LAST-MODIFIED:20260402T160628Z
UID:10007697-1781982000-1781989200@hartfordjazzsociety.com
SUMMARY:Blue Lion Trio
DESCRIPTION:Every Saturday \nHost & drummer Richard Sylvester has launched a remarkable jazz series (every Saturday!) at this cozy venue
URL:https://hartfordjazzsociety.com/event/blue-lion-trio-4/2026-06-20/
LOCATION:Open Door Tea\, 3552 Main Street\, Stratford\, CT
END:VEVENT
BEGIN:VEVENT
DTSTART;TZID=America/New_York:20260627T190000
DTEND;TZID=America/New_York:20260627T210000
DTSTAMP:20260423T013432
CREATED:20260402T160437Z
LAST-MODIFIED:20260402T160628Z
UID:10007698-1782586800-1782594000@hartfordjazzsociety.com
SUMMARY:Blue Lion Trio
DESCRIPTION:Every Saturday \nHost & drummer Richard Sylvester has launched a remarkable jazz series (every Saturday!) at this cozy venue
URL:https://hartfordjazzsociety.com/event/blue-lion-trio-4/2026-06-27/
LOCATION:Open Door Tea\, 3552 Main Street\, Stratford\, CT
END:VEVENT
BEGIN:VEVENT
DTSTART;TZID=America/New_York:20260704T190000
DTEND;TZID=America/New_York:20260704T210000
DTSTAMP:20260423T013432
CREATED:20260402T160437Z
LAST-MODIFIED:20260402T160628Z
UID:10007699-1783191600-1783198800@hartfordjazzsociety.com
SUMMARY:Blue Lion Trio
DESCRIPTION:Every Saturday \nHost & drummer Richard Sylvester has launched a remarkable jazz series (every Saturday!) at this cozy venue
URL:https://hartfordjazzsociety.com/event/blue-lion-trio-4/2026-07-04/
LOCATION:Open Door Tea\, 3552 Main Street\, Stratford\, CT
END:VEVENT
BEGIN:VEVENT
DTSTART;TZID=America/New_York:20260711T190000
DTEND;TZID=America/New_York:20260711T210000
DTSTAMP:20260423T013432
CREATED:20260402T160437Z
LAST-MODIFIED:20260402T160628Z
UID:10007700-1783796400-1783803600@hartfordjazzsociety.com
SUMMARY:Blue Lion Trio
DESCRIPTION:Every Saturday \nHost & drummer Richard Sylvester has launched a remarkable jazz series (every Saturday!) at this cozy venue
URL:https://hartfordjazzsociety.com/event/blue-lion-trio-4/2026-07-11/
LOCATION:Open Door Tea\, 3552 Main Street\, Stratford\, CT
END:VEVENT
BEGIN:VEVENT
DTSTART;TZID=America/New_York:20260718T190000
DTEND;TZID=America/New_York:20260718T210000
DTSTAMP:20260423T013432
CREATED:20260402T160437Z
LAST-MODIFIED:20260402T160628Z
UID:10007701-1784401200-1784408400@hartfordjazzsociety.com
SUMMARY:Blue Lion Trio
DESCRIPTION:Every Saturday \nHost & drummer Richard Sylvester has launched a remarkable jazz series (every Saturday!) at this cozy venue
URL:https://hartfordjazzsociety.com/event/blue-lion-trio-4/2026-07-18/
LOCATION:Open Door Tea\, 3552 Main Street\, Stratford\, CT
END:VEVENT
BEGIN:VEVENT
DTSTART;TZID=America/New_York:20260725T190000
DTEND;TZID=America/New_York:20260725T210000
DTSTAMP:20260423T013432
CREATED:20260402T160437Z
LAST-MODIFIED:20260402T160628Z
UID:10007702-1785006000-1785013200@hartfordjazzsociety.com
SUMMARY:Blue Lion Trio
DESCRIPTION:Every Saturday \nHost & drummer Richard Sylvester has launched a remarkable jazz series (every Saturday!) at this cozy venue
URL:https://hartfordjazzsociety.com/event/blue-lion-trio-4/2026-07-25/
LOCATION:Open Door Tea\, 3552 Main Street\, Stratford\, CT
END:VEVENT
BEGIN:VEVENT
DTSTART;TZID=America/New_York:20260801T190000
DTEND;TZID=America/New_York:20260801T210000
DTSTAMP:20260423T013432
CREATED:20260402T160437Z
LAST-MODIFIED:20260402T160628Z
UID:10007703-1785610800-1785618000@hartfordjazzsociety.com
SUMMARY:Blue Lion Trio
DESCRIPTION:Every Saturday \nHost & drummer Richard Sylvester has launched a remarkable jazz series (every Saturday!) at this cozy venue
URL:https://hartfordjazzsociety.com/event/blue-lion-trio-4/2026-08-01/
LOCATION:Open Door Tea\, 3552 Main Street\, Stratford\, CT
END:VEVENT
BEGIN:VEVENT
DTSTART;TZID=America/New_York:20260808T190000
DTEND;TZID=America/New_York:20260808T210000
DTSTAMP:20260423T013432
CREATED:20260402T160437Z
LAST-MODIFIED:20260402T160628Z
UID:10007704-1786215600-1786222800@hartfordjazzsociety.com
SUMMARY:Blue Lion Trio
DESCRIPTION:Every Saturday \nHost & drummer Richard Sylvester has launched a remarkable jazz series (every Saturday!) at this cozy venue
URL:https://hartfordjazzsociety.com/event/blue-lion-trio-4/2026-08-08/
LOCATION:Open Door Tea\, 3552 Main Street\, Stratford\, CT
END:VEVENT
BEGIN:VEVENT
DTSTART;TZID=America/New_York:20260815T190000
DTEND;TZID=America/New_York:20260815T210000
DTSTAMP:20260423T013432
CREATED:20260402T160437Z
LAST-MODIFIED:20260402T160628Z
UID:10007705-1786820400-1786827600@hartfordjazzsociety.com
SUMMARY:Blue Lion Trio
DESCRIPTION:Every Saturday \nHost & drummer Richard Sylvester has launched a remarkable jazz series (every Saturday!) at this cozy venue
URL:https://hartfordjazzsociety.com/event/blue-lion-trio-4/2026-08-15/
LOCATION:Open Door Tea\, 3552 Main Street\, Stratford\, CT
END:VEVENT
BEGIN:VEVENT
DTSTART;TZID=America/New_York:20260822T190000
DTEND;TZID=America/New_York:20260822T210000
DTSTAMP:20260423T013432
CREATED:20260402T160437Z
LAST-MODIFIED:20260402T160628Z
UID:10007706-1787425200-1787432400@hartfordjazzsociety.com
SUMMARY:Blue Lion Trio
DESCRIPTION:Every Saturday \nHost & drummer Richard Sylvester has launched a remarkable jazz series (every Saturday!) at this cozy venue
URL:https://hartfordjazzsociety.com/event/blue-lion-trio-4/2026-08-22/
LOCATION:Open Door Tea\, 3552 Main Street\, Stratford\, CT
END:VEVENT
BEGIN:VEVENT
DTSTART;TZID=America/New_York:20260829T190000
DTEND;TZID=America/New_York:20260829T210000
DTSTAMP:20260423T013432
CREATED:20260402T160437Z
LAST-MODIFIED:20260402T160628Z
UID:10007707-1788030000-1788037200@hartfordjazzsociety.com
SUMMARY:Blue Lion Trio
DESCRIPTION:Every Saturday \nHost & drummer Richard Sylvester has launched a remarkable jazz series (every Saturday!) at this cozy venue
URL:https://hartfordjazzsociety.com/event/blue-lion-trio-4/2026-08-29/
LOCATION:Open Door Tea\, 3552 Main Street\, Stratford\, CT
END:VEVENT
BEGIN:VEVENT
DTSTART;TZID=America/New_York:20260905T190000
DTEND;TZID=America/New_York:20260905T210000
DTSTAMP:20260423T013432
CREATED:20260402T160437Z
LAST-MODIFIED:20260402T160628Z
UID:10007708-1788634800-1788642000@hartfordjazzsociety.com
SUMMARY:Blue Lion Trio
DESCRIPTION:Every Saturday \nHost & drummer Richard Sylvester has launched a remarkable jazz series (every Saturday!) at this cozy venue
URL:https://hartfordjazzsociety.com/event/blue-lion-trio-4/2026-09-05/
LOCATION:Open Door Tea\, 3552 Main Street\, Stratford\, CT
END:VEVENT
BEGIN:VEVENT
DTSTART;TZID=America/New_York:20260912T190000
DTEND;TZID=America/New_York:20260912T210000
DTSTAMP:20260423T013432
CREATED:20260402T160437Z
LAST-MODIFIED:20260402T160628Z
UID:10007709-1789239600-1789246800@hartfordjazzsociety.com
SUMMARY:Blue Lion Trio
DESCRIPTION:Every Saturday \nHost & drummer Richard Sylvester has launched a remarkable jazz series (every Saturday!) at this cozy venue
URL:https://hartfordjazzsociety.com/event/blue-lion-trio-4/2026-09-12/
LOCATION:Open Door Tea\, 3552 Main Street\, Stratford\, CT
END:VEVENT
BEGIN:VEVENT
DTSTART;TZID=America/New_York:20260919T190000
DTEND;TZID=America/New_York:20260919T210000
DTSTAMP:20260423T013432
CREATED:20260402T160437Z
LAST-MODIFIED:20260402T160628Z
UID:10007710-1789844400-1789851600@hartfordjazzsociety.com
SUMMARY:Blue Lion Trio
DESCRIPTION:Every Saturday \nHost & drummer Richard Sylvester has launched a remarkable jazz series (every Saturday!) at this cozy venue
URL:https://hartfordjazzsociety.com/event/blue-lion-trio-4/2026-09-19/
LOCATION:Open Door Tea\, 3552 Main Street\, Stratford\, CT
END:VEVENT
BEGIN:VEVENT
DTSTART;TZID=America/New_York:20260926T190000
DTEND;TZID=America/New_York:20260926T210000
DTSTAMP:20260423T013432
CREATED:20260402T160437Z
LAST-MODIFIED:20260402T160628Z
UID:10007711-1790449200-1790456400@hartfordjazzsociety.com
SUMMARY:Blue Lion Trio
DESCRIPTION:Every Saturday \nHost & drummer Richard Sylvester has launched a remarkable jazz series (every Saturday!) at this cozy venue
URL:https://hartfordjazzsociety.com/event/blue-lion-trio-4/2026-09-26/
LOCATION:Open Door Tea\, 3552 Main Street\, Stratford\, CT
END:VEVENT
BEGIN:VEVENT
DTSTART;TZID=America/New_York:20261003T190000
DTEND;TZID=America/New_York:20261003T210000
DTSTAMP:20260423T013432
CREATED:20260402T160437Z
LAST-MODIFIED:20260402T160628Z
UID:10007712-1791054000-1791061200@hartfordjazzsociety.com
SUMMARY:Blue Lion Trio
DESCRIPTION:Every Saturday \nHost & drummer Richard Sylvester has launched a remarkable jazz series (every Saturday!) at this cozy venue
URL:https://hartfordjazzsociety.com/event/blue-lion-trio-4/2026-10-03/
LOCATION:Open Door Tea\, 3552 Main Street\, Stratford\, CT
END:VEVENT
BEGIN:VEVENT
DTSTART;TZID=America/New_York:20261010T190000
DTEND;TZID=America/New_York:20261010T210000
DTSTAMP:20260423T013432
CREATED:20260402T160437Z
LAST-MODIFIED:20260402T160628Z
UID:10007713-1791658800-1791666000@hartfordjazzsociety.com
SUMMARY:Blue Lion Trio
DESCRIPTION:Every Saturday \nHost & drummer Richard Sylvester has launched a remarkable jazz series (every Saturday!) at this cozy venue
URL:https://hartfordjazzsociety.com/event/blue-lion-trio-4/2026-10-10/
LOCATION:Open Door Tea\, 3552 Main Street\, Stratford\, CT
END:VEVENT
BEGIN:VEVENT
DTSTART;TZID=America/New_York:20261017T190000
DTEND;TZID=America/New_York:20261017T210000
DTSTAMP:20260423T013432
CREATED:20260402T160437Z
LAST-MODIFIED:20260402T160628Z
UID:10007714-1792263600-1792270800@hartfordjazzsociety.com
SUMMARY:Blue Lion Trio
DESCRIPTION:Every Saturday \nHost & drummer Richard Sylvester has launched a remarkable jazz series (every Saturday!) at this cozy venue
URL:https://hartfordjazzsociety.com/event/blue-lion-trio-4/2026-10-17/
LOCATION:Open Door Tea\, 3552 Main Street\, Stratford\, CT
END:VEVENT
BEGIN:VEVENT
DTSTART;TZID=America/New_York:20261024T190000
DTEND;TZID=America/New_York:20261024T210000
DTSTAMP:20260423T013432
CREATED:20260402T160437Z
LAST-MODIFIED:20260402T160628Z
UID:10007715-1792868400-1792875600@hartfordjazzsociety.com
SUMMARY:Blue Lion Trio
DESCRIPTION:Every Saturday \nHost & drummer Richard Sylvester has launched a remarkable jazz series (every Saturday!) at this cozy venue
URL:https://hartfordjazzsociety.com/event/blue-lion-trio-4/2026-10-24/
LOCATION:Open Door Tea\, 3552 Main Street\, Stratford\, CT
END:VEVENT
BEGIN:VEVENT
DTSTART;TZID=America/New_York:20261031T190000
DTEND;TZID=America/New_York:20261031T210000
DTSTAMP:20260423T013432
CREATED:20260402T160437Z
LAST-MODIFIED:20260402T160628Z
UID:10007716-1793473200-1793480400@hartfordjazzsociety.com
SUMMARY:Blue Lion Trio
DESCRIPTION:Every Saturday \nHost & drummer Richard Sylvester has launched a remarkable jazz series (every Saturday!) at this cozy venue
URL:https://hartfordjazzsociety.com/event/blue-lion-trio-4/2026-10-31/
LOCATION:Open Door Tea\, 3552 Main Street\, Stratford\, CT
END:VEVENT
BEGIN:VEVENT
DTSTART;TZID=America/New_York:20261107T190000
DTEND;TZID=America/New_York:20261107T210000
DTSTAMP:20260423T013432
CREATED:20260402T160437Z
LAST-MODIFIED:20260402T160628Z
UID:10007717-1794078000-1794085200@hartfordjazzsociety.com
SUMMARY:Blue Lion Trio
DESCRIPTION:Every Saturday \nHost & drummer Richard Sylvester has launched a remarkable jazz series (every Saturday!) at this cozy venue
URL:https://hartfordjazzsociety.com/event/blue-lion-trio-4/2026-11-07/
LOCATION:Open Door Tea\, 3552 Main Street\, Stratford\, CT
END:VEVENT
BEGIN:VEVENT
DTSTART;TZID=America/New_York:20261114T190000
DTEND;TZID=America/New_York:20261114T210000
DTSTAMP:20260423T013432
CREATED:20260402T160437Z
LAST-MODIFIED:20260402T160628Z
UID:10007718-1794682800-1794690000@hartfordjazzsociety.com
SUMMARY:Blue Lion Trio
DESCRIPTION:Every Saturday \nHost & drummer Richard Sylvester has launched a remarkable jazz series (every Saturday!) at this cozy venue
URL:https://hartfordjazzsociety.com/event/blue-lion-trio-4/2026-11-14/
LOCATION:Open Door Tea\, 3552 Main Street\, Stratford\, CT
END:VEVENT
END:VCALENDAR