BEGIN:VCALENDAR
VERSION:2.0
PRODID:-//Hartford Jazz Society - ECPv6.15.20//NONSGML v1.0//EN
CALSCALE:GREGORIAN
METHOD:PUBLISH
X-WR-CALNAME:Hartford Jazz Society
X-ORIGINAL-URL:https://hartfordjazzsociety.com
X-WR-CALDESC:Events for Hartford Jazz Society
REFRESH-INTERVAL;VALUE=DURATION:PT1H
X-Robots-Tag:noindex
X-PUBLISHED-TTL:PT1H
BEGIN:VTIMEZONE
TZID:America/New_York
BEGIN:DAYLIGHT
TZOFFSETFROM:-0500
TZOFFSETTO:-0400
TZNAME:EDT
DTSTART:20250309T070000
END:DAYLIGHT
BEGIN:STANDARD
TZOFFSETFROM:-0400
TZOFFSETTO:-0500
TZNAME:EST
DTSTART:20251102T060000
END:STANDARD
BEGIN:DAYLIGHT
TZOFFSETFROM:-0500
TZOFFSETTO:-0400
TZNAME:EDT
DTSTART:20260308T070000
END:DAYLIGHT
BEGIN:STANDARD
TZOFFSETFROM:-0400
TZOFFSETTO:-0500
TZNAME:EST
DTSTART:20261101T060000
END:STANDARD
BEGIN:DAYLIGHT
TZOFFSETFROM:-0500
TZOFFSETTO:-0400
TZNAME:EDT
DTSTART:20270314T070000
END:DAYLIGHT
BEGIN:STANDARD
TZOFFSETFROM:-0400
TZOFFSETTO:-0500
TZNAME:EST
DTSTART:20271107T060000
END:STANDARD
END:VTIMEZONE
BEGIN:VEVENT
DTSTART;TZID=America/New_York:20260327T173000
DTEND;TZID=America/New_York:20260327T190000
DTSTAMP:20260422T194148
CREATED:20260317T033643Z
LAST-MODIFIED:20260317T033643Z
UID:10007656-1774632600-1774638000@hartfordjazzsociety.com
SUMMARY:Natalie Hamilton
DESCRIPTION:Natalie Hamilton is a singer/songwriter known for her four-octave\, velvet voice and a style that blends jazz sophistication with folk intimacy. Critics describe her sound as evocative\, powerful\, and uniquely her own\, comparing her voice to a young Barbra Streisand and her narrative\, lyrical compositions to Joni Mitchell. \n“She is able to say more with humming than most singers can say with words – reminiscent of a young Barbra Streisand.” (Sandy Cooperman – The Daily Sun) \nHamilton is currently performing and recording a new album for 2026 release.
URL:https://hartfordjazzsociety.com/event/natalie-hamilton/
LOCATION:American Mural Project\, 90 Whiting Street\, Winsted\, CT
END:VEVENT
BEGIN:VEVENT
DTSTART;TZID=America/New_York:20260207T200000
DTEND;TZID=America/New_York:20260207T220000
DTSTAMP:20260422T194148
CREATED:20251222T024707Z
LAST-MODIFIED:20260116T054533Z
UID:10007497-1770494400-1770501600@hartfordjazzsociety.com
SUMMARY:Nicole Zuraitis: My Favorite Songs
DESCRIPTION:Our Live @AMP series offers intimate musical performances against a huge\, colorful backdrop. With its five-story mural and multiple viewing platforms\, Connecticut’s most unique art space is also the Nutmeg State’s coolest concert space. Whether it’s an evening of jazz\, rock\, folk or R&B\, Live @AMP is a stellar night opportunity to vibe out with fellow music-lovers\, award-winning musicians and vocalists in an unparalleled setting. \nThis year’s LIVE @AMP lineup puts the spotlight on women artists who bring a diverse array of styles and artistry to vibrant life. \nNicole Zuraitis is a 2X GRAMMY winning and 4X GRAMMY-nominated jazz singer-songwriter\, pianist and arranger\, New York-based bandleader and winner of the prestigious 2021 American Traditions Vocal Competition Gold Medal. With a “heart as big as her remarkable voice\,” (Jazz Police)\, Nicole is a trailblazing artist who is redefining vocal jazz and jazz songwriting\, or as she has coined “modern songbook”\, earning her a place as one of the top artists and “prolific songwriters” (Broadway World) to watch in jazz and beyond. \nThe ‘My Favorite Songs’ program is a rare chance for jazz fans to hear this singular talent at the piano\, singing the songs that shaped her journey and sharing the stories behind them. \n$50 General Admission Adult ($60 at door)/$10 General Admission Student ($20 at door)
URL:https://hartfordjazzsociety.com/event/nicole-zuraitis-my-favorite-songs/
LOCATION:American Mural Project\, 90 Whiting Street\, Winsted\, CT
END:VEVENT
BEGIN:VEVENT
DTSTART;TZID=America/New_York:20260123T173000
DTEND;TZID=America/New_York:20260123T190000
DTSTAMP:20260422T194148
CREATED:20260107T043653Z
LAST-MODIFIED:20260107T043653Z
UID:10007518-1769189400-1769194800@hartfordjazzsociety.com
SUMMARY:Christopher Casey
DESCRIPTION:Christopher Casey earned a bachelor’s degree from The Hartt School and studied under Jackie McLean\, Jackie Byard\, and Hotep Galeta. An active pianist\, composer and arranger\, Chris performs extensively throughout New England and the New York area. He has performed with such greats as Jackie McLean\, Nat Reeves\, Steve Davis\, Claudio Roditi\, Slide Hampton\, Houston Person\, Jacomo Gates\, Bob Berg\, Jimmy Greene\, and Greg Banaszak. His works have been commissioned by Jackie McLean\, Curtis Fuller\, Steve Davis\, PBS Television\, and The Polish National Chamber Orchestra of Slupsk. Recordings include “Double Vision”\, “Jazz in the Wild”\, “Sounds of Hartford”\, “Head over Heals”\, and “Imagination”.
URL:https://hartfordjazzsociety.com/event/christopher-casey/
LOCATION:American Mural Project\, 90 Whiting Street\, Winsted\, CT
END:VEVENT
END:VCALENDAR