BEGIN:VCALENDAR
VERSION:2.0
PRODID:-//Hartford Jazz Society - ECPv6.15.20//NONSGML v1.0//EN
CALSCALE:GREGORIAN
METHOD:PUBLISH
X-WR-CALNAME:Hartford Jazz Society
X-ORIGINAL-URL:https://hartfordjazzsociety.com
X-WR-CALDESC:Events for Hartford Jazz Society
REFRESH-INTERVAL;VALUE=DURATION:PT1H
X-Robots-Tag:noindex
X-PUBLISHED-TTL:PT1H
BEGIN:VTIMEZONE
TZID:America/New_York
BEGIN:DAYLIGHT
TZOFFSETFROM:-0500
TZOFFSETTO:-0400
TZNAME:EDT
DTSTART:20250309T070000
END:DAYLIGHT
BEGIN:STANDARD
TZOFFSETFROM:-0400
TZOFFSETTO:-0500
TZNAME:EST
DTSTART:20251102T060000
END:STANDARD
BEGIN:DAYLIGHT
TZOFFSETFROM:-0500
TZOFFSETTO:-0400
TZNAME:EDT
DTSTART:20260308T070000
END:DAYLIGHT
BEGIN:STANDARD
TZOFFSETFROM:-0400
TZOFFSETTO:-0500
TZNAME:EST
DTSTART:20261101T060000
END:STANDARD
BEGIN:DAYLIGHT
TZOFFSETFROM:-0500
TZOFFSETTO:-0400
TZNAME:EDT
DTSTART:20270314T070000
END:DAYLIGHT
BEGIN:STANDARD
TZOFFSETFROM:-0400
TZOFFSETTO:-0500
TZNAME:EST
DTSTART:20271107T060000
END:STANDARD
END:VTIMEZONE
BEGIN:VEVENT
DTSTART;TZID=America/New_York:20260424T173000
DTEND;TZID=America/New_York:20260424T190000
DTSTAMP:20260422T175129
CREATED:20260317T033938Z
LAST-MODIFIED:20260317T033938Z
UID:10007657-1777051800-1777057200@hartfordjazzsociety.com
SUMMARY:Isabella Mendes
DESCRIPTION:Singer\, songwriter\, composer\, pianist\, and educator Isabella Mendes is one of New Haven and Hartford County’s top Brazilian and Jazz entertainers in the industry and has earned an impressive list of accomplishments well beyond her years. Born in Sao Paulo\, Brazil\, Isabella started to study music at age four and hasn’t stopped since. She has been studying with Grammy Winner pianist Fabio Torres and Emmy Winner vocalist Michal Towber. Isabella is also the founder and owner of IMMusic Studio\, a private music school\, where she teaches piano and voice. She is an advocate for women and diversity in the arts\, and is leading workshops bringing diversity through music in schools and community events.
URL:https://hartfordjazzsociety.com/event/isabella-mendes/
LOCATION:American Mural Project\, 90 Whiting Street\, Winsted\, CT
END:VEVENT
END:VCALENDAR