BEGIN:VCALENDAR
VERSION:2.0
PRODID:-//Hartford Jazz Society - ECPv6.15.20//NONSGML v1.0//EN
CALSCALE:GREGORIAN
METHOD:PUBLISH
X-ORIGINAL-URL:https://hartfordjazzsociety.com
X-WR-CALDESC:Events for Hartford Jazz Society
REFRESH-INTERVAL;VALUE=DURATION:PT1H
X-Robots-Tag:noindex
X-PUBLISHED-TTL:PT1H
BEGIN:VTIMEZONE
TZID:America/New_York
BEGIN:DAYLIGHT
TZOFFSETFROM:-0500
TZOFFSETTO:-0400
TZNAME:EDT
DTSTART:20240310T070000
END:DAYLIGHT
BEGIN:STANDARD
TZOFFSETFROM:-0400
TZOFFSETTO:-0500
TZNAME:EST
DTSTART:20241103T060000
END:STANDARD
BEGIN:DAYLIGHT
TZOFFSETFROM:-0500
TZOFFSETTO:-0400
TZNAME:EDT
DTSTART:20250309T070000
END:DAYLIGHT
BEGIN:STANDARD
TZOFFSETFROM:-0400
TZOFFSETTO:-0500
TZNAME:EST
DTSTART:20251102T060000
END:STANDARD
BEGIN:DAYLIGHT
TZOFFSETFROM:-0500
TZOFFSETTO:-0400
TZNAME:EDT
DTSTART:20260308T070000
END:DAYLIGHT
BEGIN:STANDARD
TZOFFSETFROM:-0400
TZOFFSETTO:-0500
TZNAME:EST
DTSTART:20261101T060000
END:STANDARD
END:VTIMEZONE
BEGIN:VEVENT
DTSTART;TZID=America/New_York:20251206T190000
DTEND;TZID=America/New_York:20251206T220000
DTSTAMP:20260424T120627
CREATED:20250920T141433Z
LAST-MODIFIED:20251102T161927Z
UID:10006878-1765047600-1765058400@hartfordjazzsociety.com
SUMMARY:HJS - Celebrate the Holidays Fundraiser
DESCRIPTION:The Hartford Jazz Society invites you to an unforgettable evening of jazz\, community\, and celebration at their 2nd “Celebrating Jazz & Community” event on Saturday\, December 6th\, from 7:00 PM to 10:00 PM. This exciting event will be held at the Artists Collective Ballroom\, located at 1200 Albany Avenue in Hartford. \nImmerse yourself in the captivating performance of Linda Ransom and Friends\, who will fill the air with classic jazz tunes and beloved favorites. This is a unique opportunity to experience exceptional live music in a vibrant and welcoming atmosphere. \nPlease join us as we honor percussionist Abu Alvin Carter with the Hartford Jazz Society’s Lifetime Achievement Award.  \nIn addition to the phenomenal music\, attendees can participate in a raffle with exciting prizes\, including: \n\nGift baskets\nJazz photos by Maurice Robertson\nBackstage passes to the Paul Brown Monday Night Jazz Series\nAnd much more!\n\nIndulge in delectable hors d’oeuvres prepared by East West Grill and enjoy the convenience of a cash bar throughout the evening. Ample parking is available. \nGet your tickets early – purchase by November 6th for a discounted rate. \n\n$40 HJS member\n$50 Non-Member\n$75 Includes ticket and HJS Membership\n\nAfter November 6th \n\n$50 Hartford Jazz Society Members\n$60 Non-Members\n$75 Includes ticket and HJS Membership\nTickets can be purchased at the door\n\nBuy Tickets on Eventbrite \nProceeds from this event will directly support the 2026 Paul Brown Monday Night Jazz Series and the Hartford Jazz Society’s Scholarship Fund\, which helps nurture the next generation of jazz musicians. \nDon’t miss this unforgettable community celebration of Jazz! \nAbout the Hartford Jazz Society: The Hartford Jazz Society is dedicated to cultivating an appreciation for jazz music\, culture\, and history. Founded in 1960\, it is the longest continuously operating jazz society in the country. Through live events\, educational programs\, and community outreach\, the Hartford Jazz Society enriches the Greater Hartford community and preserves the spirit of jazz.
URL:https://hartfordjazzsociety.com/event/hjs-celebrate-the-holidays-fundraiser/
LOCATION:Artists Collective\, 1200 Albany Avenue\, Hartford\, CT
END:VEVENT
BEGIN:VEVENT
DTSTART;TZID=America/New_York:20251030T190000
DTEND;TZID=America/New_York:20251030T210000
DTSTAMP:20260424T120627
CREATED:20251004T140446Z
LAST-MODIFIED:20251004T140929Z
UID:10006914-1761850800-1761858000@hartfordjazzsociety.com
SUMMARY:Hey Love... Collective ft. Yunie Mojica & DJ OOOChild
DESCRIPTION:Get ready to immerse yourself in a dynamic fusion of hip-hop\, R&B\, electronic music\, and jazz — bridging contemporary Black music with deep-rooted traditions. This special event celebrates the recent release of Hey Love… Presents: Volume 1\, the highly anticipated collective album by DJ OOOChild and YunieMo\, presented in collaboration with the independent label Sonic Messengers. This in-person event promises to be a night to remember. Don’t miss out on this unique experience! See you there! \nFree with RSVP
URL:https://hartfordjazzsociety.com/event/hey-love-collective-ft-yunie-mojica-dj-ooochild/
LOCATION:Artists Collective\, 1200 Albany Avenue\, Hartford\, CT
END:VEVENT
END:VCALENDAR