BEGIN:VCALENDAR
VERSION:2.0
PRODID:-//Hartford Jazz Society - ECPv6.15.20//NONSGML v1.0//EN
CALSCALE:GREGORIAN
METHOD:PUBLISH
X-WR-CALNAME:Hartford Jazz Society
X-ORIGINAL-URL:https://hartfordjazzsociety.com
X-WR-CALDESC:Events for Hartford Jazz Society
REFRESH-INTERVAL;VALUE=DURATION:PT1H
X-Robots-Tag:noindex
X-PUBLISHED-TTL:PT1H
BEGIN:VTIMEZONE
TZID:America/New_York
BEGIN:DAYLIGHT
TZOFFSETFROM:-0500
TZOFFSETTO:-0400
TZNAME:EDT
DTSTART:20240310T070000
END:DAYLIGHT
BEGIN:STANDARD
TZOFFSETFROM:-0400
TZOFFSETTO:-0500
TZNAME:EST
DTSTART:20241103T060000
END:STANDARD
BEGIN:DAYLIGHT
TZOFFSETFROM:-0500
TZOFFSETTO:-0400
TZNAME:EDT
DTSTART:20250309T070000
END:DAYLIGHT
BEGIN:STANDARD
TZOFFSETFROM:-0400
TZOFFSETTO:-0500
TZNAME:EST
DTSTART:20251102T060000
END:STANDARD
BEGIN:DAYLIGHT
TZOFFSETFROM:-0500
TZOFFSETTO:-0400
TZNAME:EDT
DTSTART:20260308T070000
END:DAYLIGHT
BEGIN:STANDARD
TZOFFSETFROM:-0400
TZOFFSETTO:-0500
TZNAME:EST
DTSTART:20261101T060000
END:STANDARD
END:VTIMEZONE
BEGIN:VEVENT
DTSTART;TZID=America/New_York:20251212T193000
DTEND;TZID=America/New_York:20251212T213000
DTSTAMP:20260424T115041
CREATED:20251209T041620Z
LAST-MODIFIED:20251209T041620Z
UID:10007357-1765567800-1765575000@hartfordjazzsociety.com
SUMMARY:Yoko Miwa Trio
DESCRIPTION:Miwa performs with her trio featuring bassist Matt Stavrakas and drummer Scott Goulding. \nMiwa’s musicianship evokes the harmonic finesse and rhythmic brilliance of key influences like Bill Evans\, Keith Jarrett\, McCoy Tyner and Oscar Peterson. Her expansive\, versatile writing presents both a remarkable ear for melody and an earthy\, intuitive feel for groove. As a bandleader\, Miwa heads one of the finest jazz trios playing today. In his 4-star DownBeat review of Miwa’s 2019 release Keep Talkin’\, Carlo Wolff noted “the blend of intimacy and power this unusually gifted trio can muster.” \nInternationally acclaimed pianist/composer Yoko Miwa is one of the most powerful and compelling performers on the scene today. Her trio\, with its remarkable telepathy and infectious energy\, has brought audiences to their feet worldwide. Their 2021 release Songs of Joy received wide acclaim and reached #1 on national jazz radio charts. Jazziz called it “a radiant new collection.” Her 2019 CD\, Keep Talkin’\, showcases Miwa’s fine playing and artful compositions and the trio’s uncanny musical camaraderie. DownBeat gave the recording four stars\, calling it “a beautifully constructed album” and noting “the drive and lyricism of a pianist and composer at home in bebop\, gospel\, pop\, and classical.” For more than a decade Miwa’s trio has played regularly at major jazz clubs in their home city of Boston\, as well as venues around the world. A favorite of Jazz at Lincoln Center\, Miwa was chosen to play on “Marian McPartland & Friends\,” part of the Coca-Cola Generations in Jazz Festival. Miwa also appears regularly at New York’s famed Blue Note Jazz Club as well as Birdland and has performed and/or recorded with a wide range of jazz greats including Sheila Jordan\, Slide Hampton\, Arturo Sandoval\, George Garzone\, Jazzmeia Horn\, Jon Faddis\, Jerry Bergonzi\, esperanza spalding\, Terri Lyne Carrington\, Kevin Mahogany\, John Lockwood and Johnathan Blake\, among others.
URL:https://hartfordjazzsociety.com/event/yoko-miwa-trio/
LOCATION:Beekley Community Library\, 10 Central Avenue\, New Hartford\, CT
END:VEVENT
END:VCALENDAR