BEGIN:VCALENDAR
VERSION:2.0
PRODID:-//Hartford Jazz Society - ECPv6.15.20//NONSGML v1.0//EN
CALSCALE:GREGORIAN
METHOD:PUBLISH
X-WR-CALNAME:Hartford Jazz Society
X-ORIGINAL-URL:https://hartfordjazzsociety.com
X-WR-CALDESC:Events for Hartford Jazz Society
REFRESH-INTERVAL;VALUE=DURATION:PT1H
X-Robots-Tag:noindex
X-PUBLISHED-TTL:PT1H
BEGIN:VTIMEZONE
TZID:America/New_York
BEGIN:DAYLIGHT
TZOFFSETFROM:-0500
TZOFFSETTO:-0400
TZNAME:EDT
DTSTART:20240310T070000
END:DAYLIGHT
BEGIN:STANDARD
TZOFFSETFROM:-0400
TZOFFSETTO:-0500
TZNAME:EST
DTSTART:20241103T060000
END:STANDARD
BEGIN:DAYLIGHT
TZOFFSETFROM:-0500
TZOFFSETTO:-0400
TZNAME:EDT
DTSTART:20250309T070000
END:DAYLIGHT
BEGIN:STANDARD
TZOFFSETFROM:-0400
TZOFFSETTO:-0500
TZNAME:EST
DTSTART:20251102T060000
END:STANDARD
BEGIN:DAYLIGHT
TZOFFSETFROM:-0500
TZOFFSETTO:-0400
TZNAME:EDT
DTSTART:20260308T070000
END:DAYLIGHT
BEGIN:STANDARD
TZOFFSETFROM:-0400
TZOFFSETTO:-0500
TZNAME:EST
DTSTART:20261101T060000
END:STANDARD
BEGIN:DAYLIGHT
TZOFFSETFROM:-0500
TZOFFSETTO:-0400
TZNAME:EDT
DTSTART:20270314T070000
END:DAYLIGHT
BEGIN:STANDARD
TZOFFSETFROM:-0400
TZOFFSETTO:-0500
TZNAME:EST
DTSTART:20271107T060000
END:STANDARD
END:VTIMEZONE
BEGIN:VEVENT
DTSTART;TZID=America/New_York:20260220T200000
DTEND;TZID=America/New_York:20260220T220000
DTSTAMP:20260422T214536
CREATED:20260207T155515Z
LAST-MODIFIED:20260207T155515Z
UID:10007599-1771617600-1771624800@hartfordjazzsociety.com
SUMMARY:Waberi Jordan & Friends
DESCRIPTION:Waberi Jordan is a vocalist and songwriter whose signature is rooted in the Leimert Park Jazz Community of Los Angeles. Raised on a steady diet of straight-ahead jazz\, at a time when R&B dominated the airwaves\, Waberi’s sound bridges two pivotal eras of artistic expression. \nWaberi studied and played with Horace Tapscott along with The Pan Afrikan People’s Arkestra and The Great Voice of UGMAA (Union of God’s Musicians and Artists’ Ascension)\, many notable performers and scholars like Dr. Art Hillary\, McCoy Tyner\, Azar Lawrence\, Nate Morgan\, Pharoah Sanders and many more. \nWaberi has also performed around the world with various bands and ensembles\, from SoulBop (an L.A. based collective of jazz musicians)\, R&B to West African Drum and Dance bands; 50-piece Jazz arkestras in L.A. and Europe to solo acapella sets. She has also been featured on numerous recordings\, including the Jazz CD “Living Water” by extraordinary vocalist DWIGHT TRIBLE\, and classic Reggae CD “Good’s Gonna Happen” Sahra Indio. \nIn 2009 Waberi released her debut album\, The Trajectory of Starah. The accompanying video\, Sunflowers in my Garden premiered the same year\, to critical acclaim. The song has become beloved worldwide. Her second video release\, Put it Right There was released in 2014\, and as an added bonus\, was co-directed and shot by Tim Russ\, noted for his role as Tuvok in Star Trek: Voyager. \n2015 saw Waberi exchanging the West Coast for the East Coast and settling into playing shows in NYC with Grammy nominated artists and local artists alike. \nAn opportunity came to play in Salt Lake City\, Utah in 2017\, during the Sundance Film Festival. Two on Tour was born\, as a duo with long-time friend and collaborator Shena Verrett. They met almost a decade ago in Los Angeles when Alt Rocker Shena performed there and later presented Jazz Songstress Waberi as a featured musical artist for a festival in NYC called The Urb Alt Festival. \n“The IDEA of Two On Tour came about in an organic and cosmic manner\, beginning in 2008 when Shena and I first met. Her lyricism\, accompanied with her bad-ass stage persona was so inspiring and I think the feeling was mutual. I wanted her to write for me and I was kinda embarrassed to ask. Then and there\, in 2008\, we decided that somehow we would play and sing together.” \nWaberi has been embraced by the East Coast jazz and live music community\, with residencies at The Buttonwood tree and at The Middletown Music Festival. With shows booked well into 2020 and beyond\, Waberi Jordan is looking forward – once the tide has turned on this most urgent occurrence of our lifetimes – to live performance\, collaborative in-person projects\, and the joy that life offers.
URL:https://hartfordjazzsociety.com/event/waberi-jordan-friends/
LOCATION:Buttonwood Tree Performing Arts Center\, 605 Main Street\, Middletown\, CT\, United States
END:VEVENT
BEGIN:VEVENT
DTSTART;TZID=America/New_York:20260213T190000
DTEND;TZID=America/New_York:20260213T210000
DTSTAMP:20260422T214536
CREATED:20260205T042210Z
LAST-MODIFIED:20260205T042210Z
UID:10007598-1771009200-1771016400@hartfordjazzsociety.com
SUMMARY:Ryan Sands & Altus
DESCRIPTION:Drummer and Composer Ryan Sands will perform with Altus\, a fusion of five gifted musicians—Dave Adewumi\, Isaac Levien\, Neta Raanan\, Nathan Reising\, and Ryan Sands—embarks on sonic journeys rooted in a decade-long musical bond. Inspired by Black American improvisational techniques\, Altus creates narratives that blur the line between immediate experience and timeless mythologies. \nHailing from Orange\, CT/New Haven County\, Ryan Sands has worked his way to becoming one of the top young drummers in his field. His emphatic performances have landed him performances with Terell Stafford\, Geoffrey Keezer\, Wayne Escoffrey\, Tamir Hendleman\, Lucy Yeghiazaryan\, and Jason Marsalis. He holds the drum chair for Christian Sands and Altus. Ryan has performed in the pit of the Ain’t Misbehavin\, under the direction of Jeffrey Page\, and done music for Dominique Morisseau’s Paradise Blue under the direction of Alphonso Horne. \nRyan’s musical education includes a BA in Jazz Performance from the New England Conservatory and an MA in Jazz Arts from the Manhattan School of Music. For teaching\, he has taught for Neighborhood Music School in New Haven\, CT\, and iSchool of Music and Art in Shanghai. He currently teaches private drums at Yale University for their Yale Undergrad Jazz Collective. \nRyan’s recording credits include Christian Sands’ Risin’\, Christmas Stories\, and his upcoming record in 2024. Altus’ Riot Cycles and Mythos. David Knowles’s Blackest Night. Shihai Li’s Inner Rhythm. As a bandleader Ryan released his debut record\, Standing On the Edge of Tomorrow\, and will be releasing his sophomore record\, Forest Road: Live at the Side Door\, in 2024. \nLinks: Website | YouTube | Instagram
URL:https://hartfordjazzsociety.com/event/ryan-sands-altus/
LOCATION:Buttonwood Tree Performing Arts Center\, 605 Main Street\, Middletown\, CT\, United States
END:VEVENT
BEGIN:VEVENT
DTSTART;TZID=America/New_York:20260117T210000
DTEND;TZID=America/New_York:20260117T230000
DTSTAMP:20260422T214536
CREATED:20251130T204756Z
LAST-MODIFIED:20251130T204756Z
UID:10007354-1768683600-1768690800@hartfordjazzsociety.com
SUMMARY:Mark Kaplan Quartet
DESCRIPTION:The Mark Kaplan Quartet is an established luminary on the local and regional jazz scene. Mark Kaplan\, tenor saxophone; Martin Carter\, piano; Adam Anderson\, bass; and John Rispoli\, drums.
URL:https://hartfordjazzsociety.com/event/mark-kaplan-quartet/
LOCATION:Buttonwood Tree Performing Arts Center\, 605 Main Street\, Middletown\, CT\, United States
END:VEVENT
BEGIN:VEVENT
DTSTART;TZID=America/New_York:20251213T210000
DTEND;TZID=America/New_York:20251213T230000
DTSTAMP:20260422T214536
CREATED:20251130T204601Z
LAST-MODIFIED:20251130T204601Z
UID:10007353-1765659600-1765666800@hartfordjazzsociety.com
SUMMARY:Karen Frisk Trio
DESCRIPTION:Karen Frisk is a jazz vocalist who has performed in several areas of the country with local and world-renowned jazz artists. On this evening\, she will be joined by Kent Hewitt on piano\, and Joe Fitzgerald on bass. All proceeds from this show go to The Buttonwood Tree.
URL:https://hartfordjazzsociety.com/event/karen-frisk-trio/
LOCATION:Buttonwood Tree Performing Arts Center\, 605 Main Street\, Middletown\, CT\, United States
END:VEVENT
BEGIN:VEVENT
DTSTART;TZID=America/New_York:20251114T190000
DTEND;TZID=America/New_York:20251114T210000
DTSTAMP:20260422T214536
CREATED:20251111T130753Z
LAST-MODIFIED:20251111T130753Z
UID:10007077-1763146800-1763154000@hartfordjazzsociety.com
SUMMARY:Benjamin Simmons
DESCRIPTION:Benjamin Simmons is a Hartford-based tenor saxophonist who specializes in modern and straight ahead jazz. He graduated summa cum laude from the University of Hartford Hartt School of Music in 2023 with a bachelor’s degree in jazz studies. Throughout his time at the University of Hartford\, Benjamin studied with world renowned saxophonist\, Abraham Burton\, as well as Nat Reeves\, Rene McLean\, and Steve Davis. Since graduation\, Benjamin has shared the stage with notable Hartford musicians Nat Reeves\, Jonathan Barber\, and Matt Dwonszyk. Benjamin is a prominent player in the Hartford scene and on the rise in New York City.
URL:https://hartfordjazzsociety.com/event/benjamin-simmons/
LOCATION:Buttonwood Tree Performing Arts Center\, 605 Main Street\, Middletown\, CT\, United States
END:VEVENT
END:VCALENDAR