BEGIN:VCALENDAR
VERSION:2.0
PRODID:-//Hartford Jazz Society - ECPv6.15.20//NONSGML v1.0//EN
CALSCALE:GREGORIAN
METHOD:PUBLISH
X-WR-CALNAME:Hartford Jazz Society
X-ORIGINAL-URL:https://hartfordjazzsociety.com
X-WR-CALDESC:Events for Hartford Jazz Society
REFRESH-INTERVAL;VALUE=DURATION:PT1H
X-Robots-Tag:noindex
X-PUBLISHED-TTL:PT1H
BEGIN:VTIMEZONE
TZID:America/New_York
BEGIN:DAYLIGHT
TZOFFSETFROM:-0500
TZOFFSETTO:-0400
TZNAME:EDT
DTSTART:20250309T070000
END:DAYLIGHT
BEGIN:STANDARD
TZOFFSETFROM:-0400
TZOFFSETTO:-0500
TZNAME:EST
DTSTART:20251102T060000
END:STANDARD
BEGIN:DAYLIGHT
TZOFFSETFROM:-0500
TZOFFSETTO:-0400
TZNAME:EDT
DTSTART:20260308T070000
END:DAYLIGHT
BEGIN:STANDARD
TZOFFSETFROM:-0400
TZOFFSETTO:-0500
TZNAME:EST
DTSTART:20261101T060000
END:STANDARD
BEGIN:DAYLIGHT
TZOFFSETFROM:-0500
TZOFFSETTO:-0400
TZNAME:EDT
DTSTART:20270314T070000
END:DAYLIGHT
BEGIN:STANDARD
TZOFFSETFROM:-0400
TZOFFSETTO:-0500
TZNAME:EST
DTSTART:20271107T060000
END:STANDARD
END:VTIMEZONE
BEGIN:VEVENT
DTSTART;TZID=America/New_York:20260424T190000
DTEND;TZID=America/New_York:20260424T210000
DTSTAMP:20260422T194203
CREATED:20260305T001914Z
LAST-MODIFIED:20260305T001914Z
UID:10007636-1777057200-1777064400@hartfordjazzsociety.com
SUMMARY:Mathew Pearl : Solo
DESCRIPTION:Matthew Pearl is a jazz tenor saxophonist and one of New York City’s rising young musicians. Matt received a Bachelor of Music degree in 2023 from the Jackie McLean Institute of Jazz (Hartt School\, University of Hartford) in Connecticut. He was awarded a scholarship for his talents in music and academics and studied jazz music\, history\, culture\, and performance while at the university. Matt studied with world renowned saxophonist Abraham Burton and has been mentored by professionals including Rene McLean\, Nat Reeves\, Javon Jackson\, Jonathan Barber\, Matt DeChamplain\, Steve Davis\, Haneef Nelson\, Matt Dwonszyk\, and Zaccai Curtis. \nOriginally from Marlborough\, Massachusetts\, Matt grew up listening to a lot of music\, especially jazz. Matt started playing the clarinet at the age of 10 and the tenor saxophone at the age of 12. Throughout high school and college\, Matt began gigging and performing all over New England. Some notable venues Matt has performed at include the Newport Jazz Festival\, Symphony Hall\, and the Side Door Jazz Club. \nRecently\, Matt has been focusing on performing\, especially in New York City. You might typically find him listening or playing at venues anywhere from Hartford to New York\, including Black Eyed Sally’s\, Cafe Nine\, and Smalls. \n\nInstagram – matthewpearlmusic \nFacebook – www.facebook.com/matthew.pearl.7 \nYouTube – www.youtube.com/@matthewpearlmusic
URL:https://hartfordjazzsociety.com/event/mathew-pearl-solo/
LOCATION:Buttonwood Tree Performing Arts Center\, 605 Main Street\, Middletown\, CT\, United States
END:VEVENT
BEGIN:VEVENT
DTSTART;TZID=America/New_York:20260619T190000
DTEND;TZID=America/New_York:20260619T210000
DTSTAMP:20260422T194203
CREATED:20260305T002248Z
LAST-MODIFIED:20260305T002248Z
UID:10007637-1781895600-1781902800@hartfordjazzsociety.com
SUMMARY:Noah Baerman & Friends
DESCRIPTION:Jazz pianist and composer Noah Baerman dedicates an evening to the music of one of his (and jazz music’s) biggest heroes\, Wayne Shorter (1933-2023).\n \nOn this night join Noah and his quartet\, featuring Matt Steckler (woodwinds)\, Amanda Monaco (guitar)\, Henry Lugo (bass)\, and Ryan Sands (drums). \nNoah Baerman is a jazz pianist\, composer\, educator\, and activist who has recorded eleven acclaimed albums under his own name and several more as a co-leader of cooperative ensembles including Trio 149\, Envisage Collective\, and Playdate\, earning praise from. Over fifteen years after nearly walking away from the piano due to his struggles with Ehlers-Danlos Syndrome (EDS)\, an incurable connective tissue disorder with which he was born\, Noah recently released his eleventh recording under his own name\, the duo album Alter Ego\, documenting 20 years of collaboration with bassist Henry Lugo. This came on the heels of the double-album Love Right\, a tribute to his friend and former student Claire Randall that involved the participation of 100 musicians. \nA student of Kenny Barron’s while earning Bachelor’s and Master’s degrees in Jazz Studies from Rutgers University in the 1990s\, Baerman first earned national recognition for his 2003 release Patch Kit\, conceived around his struggles with EDS and featuring jazz legends Ron Carter and Ben Riley. Patch Kit raised awareness and funds for EDS and led to an invitation from Marian McPartland to be a guest on her long-running NPR program Piano Jazz in 2005. Subsequent works have included Soul Force\, a tribute to the life and message of Rev. Dr. Martin Luther King\, Jr.\, and Know Thyself\, an emotionally sweeping 65 minute suite made possible by a “New Jazz Works” grant from Chamber Music America/Doris Duke Foundation. Baerman’s recent CDs have received coverage from publications including Downbeat\, Jazz Times\, Jazziz\, the NYC Jazz Record\, WNPR’s Jazz Corridor\, the Village Voice\, and the Hartford Courant\, as well as an hour-long examination of his album The Rock and the Redemption on WNPR’s Colin McEnroe Show. \nSince 1998 he has lived with his wife\, visual artist Kate Ten Eyck\, in Middletown\, Connecticut\, where July 10\, 2020 was declared “Noah Baerman Day” by the city’s mayor and the Middletown Commission on the Arts in recognition of his a 2020 Arts Advocacy award. He teaches at several institutions including Wesleyan University\, where he has directed the Jazz Ensemble since 2007\, and has taught through their Graduate Liberal Studies Program since 2002\, as well as spending eighteen summers working with teenaged musicians through the Center for Creative Youth. His teaching concepts have been codified through ten well-regarded instructional books published by the Alfred Publishing Company. In 2012 he became Artistic Director of Resonant Motion\, Inc.\, an organization that seeks to explore and deepen connections between music and positive changes. \nThrough RMI he has overseen numerous educational workshops on the methodology behind socially conscious art\, founded the musically diverse imprint RMI Records\, and fostered and participated in interdisciplinary work. Since 2015 he has curated and hosted RMI’s interactive guest artist series\, Jazz Up Close\, and he been one of the primary architects of RMI’s initiative\, Claire’s Continuum a commissioning program in the memory of Claire Randall\, one of RMI’s charter team members. Early in the COVID-19 pandemic he was awarded an Artists Respond grant from the CT Office of the Arts and he recently completed the multi-year Musician-Aid Requests project\, for which he recorded forty videos\, many of them with socially distanced collaborators\, of songs requested by fans who donated to support musicians financially impacted by the pandemic. \nLinks: Website | Facebook (Personal) | Facebook (Music) | Instagram | YouTube
URL:https://hartfordjazzsociety.com/event/noah-baerman-friends/
LOCATION:Buttonwood Tree Performing Arts Center\, 605 Main Street\, Middletown\, CT\, United States
END:VEVENT
END:VCALENDAR