BEGIN:VCALENDAR
VERSION:2.0
PRODID:-//Hartford Jazz Society - ECPv6.15.20//NONSGML v1.0//EN
CALSCALE:GREGORIAN
METHOD:PUBLISH
X-ORIGINAL-URL:https://hartfordjazzsociety.com
X-WR-CALDESC:Events for Hartford Jazz Society
REFRESH-INTERVAL;VALUE=DURATION:PT1H
X-Robots-Tag:noindex
X-PUBLISHED-TTL:PT1H
BEGIN:VTIMEZONE
TZID:America/New_York
BEGIN:DAYLIGHT
TZOFFSETFROM:-0500
TZOFFSETTO:-0400
TZNAME:EDT
DTSTART:20240310T070000
END:DAYLIGHT
BEGIN:STANDARD
TZOFFSETFROM:-0400
TZOFFSETTO:-0500
TZNAME:EST
DTSTART:20241103T060000
END:STANDARD
BEGIN:DAYLIGHT
TZOFFSETFROM:-0500
TZOFFSETTO:-0400
TZNAME:EDT
DTSTART:20250309T070000
END:DAYLIGHT
BEGIN:STANDARD
TZOFFSETFROM:-0400
TZOFFSETTO:-0500
TZNAME:EST
DTSTART:20251102T060000
END:STANDARD
BEGIN:DAYLIGHT
TZOFFSETFROM:-0500
TZOFFSETTO:-0400
TZNAME:EDT
DTSTART:20260308T070000
END:DAYLIGHT
BEGIN:STANDARD
TZOFFSETFROM:-0400
TZOFFSETTO:-0500
TZNAME:EST
DTSTART:20261101T060000
END:STANDARD
BEGIN:DAYLIGHT
TZOFFSETFROM:-0500
TZOFFSETTO:-0400
TZNAME:EDT
DTSTART:20270314T070000
END:DAYLIGHT
BEGIN:STANDARD
TZOFFSETFROM:-0400
TZOFFSETTO:-0500
TZNAME:EST
DTSTART:20271107T060000
END:STANDARD
END:VTIMEZONE
BEGIN:VEVENT
DTSTART;TZID=America/New_York:20260329T150000
DTEND;TZID=America/New_York:20260329T170000
DTSTAMP:20260424T115207
CREATED:20260305T030024Z
LAST-MODIFIED:20260324T140206Z
UID:10007639-1774796400-1774803600@hartfordjazzsociety.com
SUMMARY:Noah Baerman Plays the Music of James Williams
DESCRIPTION:
URL:https://hartfordjazzsociety.com/event/noah-baerman-plays-the-music-of-james-williams/
LOCATION:Crowell Concert Hall – Wesleyan University\, 283 Washington St\, Middletown\, CT
END:VEVENT
BEGIN:VEVENT
DTSTART;TZID=America/New_York:20251212T193000
DTEND;TZID=America/New_York:20251212T213000
DTSTAMP:20260424T115207
CREATED:20251209T042151Z
LAST-MODIFIED:20251209T042151Z
UID:10007358-1765567800-1765575000@hartfordjazzsociety.com
SUMMARY:Wesleyan Jazz Orchestra & Jazz Ensemble
DESCRIPTION:The Wesleyan University Jazz Orchestra\, directed by Professor of Music and African American Studies Jay Hoggard ’76\, MA ’91\, and the Wesleyan Jazz Ensemble\, directed by Noah Baerman\, present an exciting evening of classic and contemporary jazz repertoire. \nThis event will also be live-streamed on YouTube.
URL:https://hartfordjazzsociety.com/event/wesleyan-jazz-orchestra-jazz-ensemble/
LOCATION:Crowell Concert Hall – Wesleyan University\, 283 Washington St\, Middletown\, CT
END:VEVENT
END:VCALENDAR