BEGIN:VCALENDAR
VERSION:2.0
PRODID:-//Hartford Jazz Society - ECPv6.15.20//NONSGML v1.0//EN
CALSCALE:GREGORIAN
METHOD:PUBLISH
X-ORIGINAL-URL:https://hartfordjazzsociety.com
X-WR-CALDESC:Events for Hartford Jazz Society
REFRESH-INTERVAL;VALUE=DURATION:PT1H
X-Robots-Tag:noindex
X-PUBLISHED-TTL:PT1H
BEGIN:VTIMEZONE
TZID:America/New_York
BEGIN:DAYLIGHT
TZOFFSETFROM:-0500
TZOFFSETTO:-0400
TZNAME:EDT
DTSTART:20250309T070000
END:DAYLIGHT
BEGIN:STANDARD
TZOFFSETFROM:-0400
TZOFFSETTO:-0500
TZNAME:EST
DTSTART:20251102T060000
END:STANDARD
BEGIN:DAYLIGHT
TZOFFSETFROM:-0500
TZOFFSETTO:-0400
TZNAME:EDT
DTSTART:20260308T070000
END:DAYLIGHT
BEGIN:STANDARD
TZOFFSETFROM:-0400
TZOFFSETTO:-0500
TZNAME:EST
DTSTART:20261101T060000
END:STANDARD
BEGIN:DAYLIGHT
TZOFFSETFROM:-0500
TZOFFSETTO:-0400
TZNAME:EDT
DTSTART:20270314T070000
END:DAYLIGHT
BEGIN:STANDARD
TZOFFSETFROM:-0400
TZOFFSETTO:-0500
TZNAME:EST
DTSTART:20271107T060000
END:STANDARD
END:VTIMEZONE
BEGIN:VEVENT
DTSTART;TZID=America/New_York:20260424T190000
DTEND;TZID=America/New_York:20260424T210000
DTSTAMP:20260424T093224
CREATED:20260423T124143Z
LAST-MODIFIED:20260423T124705Z
UID:10007754-1777057200-1777064400@hartfordjazzsociety.com
SUMMARY:Wesleyan Jazz Orchestra & Wesleyan Jazz Ensemble
DESCRIPTION:The Wesleyan University Jazz Orchestra directed by Professor of Music and African American Studies Jay Hoggard ’76\, MA ’91\, and the Wesleyan Jazz Ensemble\, directed by Noah Baerman\, present an exciting evening of classic and contemporary jazz repertoire as the start of the 23rd annual Wesleyan Jazz Orchestra Weekend. \nAdmission is free\, and everyone is welcome. \nWe encourage you to RSVP to help us with our planning and to get a reminder the day before this event. While RSVPs are not required for entry\, they are a big help!
URL:https://hartfordjazzsociety.com/event/wesleyan-jazz-orchestra-wesleyan-jazz-ensemble/
LOCATION:Crowell Concert Hall – Wesleyan University\, 283 Washington St\, Middletown\, CT
END:VEVENT
BEGIN:VEVENT
DTSTART;TZID=America/New_York:20260425T190000
DTEND;TZID=America/New_York:20260425T210000
DTSTAMP:20260424T093224
CREATED:20260305T002601Z
LAST-MODIFIED:20260305T002601Z
UID:10007638-1777143600-1777150800@hartfordjazzsociety.com
SUMMARY:Wesleyan Jazz Faculty Concert
DESCRIPTION:These outstanding musicians and teachers from Wesleyan University’s Music Department will perform together in various combinations as the featured artists of the 23rd annual Wesleyan Jazz Orchestra Weekend: Pheeroan akLaff on drums\, Noah Baerman on piano\, Eric Charry on guitar\, Alcee Chriss on piano and organ\, Giacomo Gates on vocals\, Jay Hoggardon vibraphone\, Darius Jones on alto saxophone\, Tony Lombardozzi on guitar\, and Roy Wiseman on bass. \n$12 general public\, Wesleyan faculty/staff/alumni; $5 Wesleyan students\, non-Wesleyan students\, youth under 18
URL:https://hartfordjazzsociety.com/event/wesleyan-jazz-faculty-concert/
LOCATION:Crowell Concert Hall – Wesleyan University\, 283 Washington St\, Middletown\, CT
END:VEVENT
END:VCALENDAR