BEGIN:VCALENDAR
VERSION:2.0
PRODID:-//Hartford Jazz Society - ECPv6.15.20//NONSGML v1.0//EN
CALSCALE:GREGORIAN
METHOD:PUBLISH
X-WR-CALNAME:Hartford Jazz Society
X-ORIGINAL-URL:https://hartfordjazzsociety.com
X-WR-CALDESC:Events for Hartford Jazz Society
REFRESH-INTERVAL;VALUE=DURATION:PT1H
X-Robots-Tag:noindex
X-PUBLISHED-TTL:PT1H
BEGIN:VTIMEZONE
TZID:America/New_York
BEGIN:DAYLIGHT
TZOFFSETFROM:-0500
TZOFFSETTO:-0400
TZNAME:EDT
DTSTART:20240310T070000
END:DAYLIGHT
BEGIN:STANDARD
TZOFFSETFROM:-0400
TZOFFSETTO:-0500
TZNAME:EST
DTSTART:20241103T060000
END:STANDARD
BEGIN:DAYLIGHT
TZOFFSETFROM:-0500
TZOFFSETTO:-0400
TZNAME:EDT
DTSTART:20250309T070000
END:DAYLIGHT
BEGIN:STANDARD
TZOFFSETFROM:-0400
TZOFFSETTO:-0500
TZNAME:EST
DTSTART:20251102T060000
END:STANDARD
BEGIN:DAYLIGHT
TZOFFSETFROM:-0500
TZOFFSETTO:-0400
TZNAME:EDT
DTSTART:20260308T070000
END:DAYLIGHT
BEGIN:STANDARD
TZOFFSETFROM:-0400
TZOFFSETTO:-0500
TZNAME:EST
DTSTART:20261101T060000
END:STANDARD
BEGIN:DAYLIGHT
TZOFFSETFROM:-0500
TZOFFSETTO:-0400
TZNAME:EDT
DTSTART:20270314T070000
END:DAYLIGHT
BEGIN:STANDARD
TZOFFSETFROM:-0400
TZOFFSETTO:-0500
TZNAME:EST
DTSTART:20271107T060000
END:STANDARD
END:VTIMEZONE
BEGIN:VEVENT
DTSTART;TZID=America/New_York:20260420T193000
DTEND;TZID=America/New_York:20260420T213000
DTSTAMP:20260424T133554
CREATED:20251217T142857Z
LAST-MODIFIED:20251217T142857Z
UID:10007460-1776713400-1776720600@hartfordjazzsociety.com
SUMMARY:Hartford Jazz Orchestra
DESCRIPTION:Every Monday at Elicit Brewery in Manchester CT. No cover.
URL:https://hartfordjazzsociety.com/event/hartford-jazz-orchestra/2026-04-20/
LOCATION:Elicit Brewery\, 165 Adams Street\, Manchester\, CT
END:VEVENT
BEGIN:VEVENT
DTSTART;TZID=America/New_York:20260413T193000
DTEND;TZID=America/New_York:20260413T213000
DTSTAMP:20260424T133554
CREATED:20251217T142857Z
LAST-MODIFIED:20251217T142857Z
UID:10007459-1776108600-1776115800@hartfordjazzsociety.com
SUMMARY:Hartford Jazz Orchestra
DESCRIPTION:Every Monday at Elicit Brewery in Manchester CT. No cover.
URL:https://hartfordjazzsociety.com/event/hartford-jazz-orchestra/2026-04-13/
LOCATION:Elicit Brewery\, 165 Adams Street\, Manchester\, CT
END:VEVENT
BEGIN:VEVENT
DTSTART;TZID=America/New_York:20260406T193000
DTEND;TZID=America/New_York:20260406T213000
DTSTAMP:20260424T133554
CREATED:20251217T142857Z
LAST-MODIFIED:20251217T142857Z
UID:10007458-1775503800-1775511000@hartfordjazzsociety.com
SUMMARY:Hartford Jazz Orchestra
DESCRIPTION:Every Monday at Elicit Brewery in Manchester CT. No cover.
URL:https://hartfordjazzsociety.com/event/hartford-jazz-orchestra/2026-04-06/
LOCATION:Elicit Brewery\, 165 Adams Street\, Manchester\, CT
END:VEVENT
BEGIN:VEVENT
DTSTART;TZID=America/New_York:20260330T193000
DTEND;TZID=America/New_York:20260330T213000
DTSTAMP:20260424T133554
CREATED:20251217T142857Z
LAST-MODIFIED:20251217T142857Z
UID:10007457-1774899000-1774906200@hartfordjazzsociety.com
SUMMARY:Hartford Jazz Orchestra
DESCRIPTION:Every Monday at Elicit Brewery in Manchester CT. No cover.
URL:https://hartfordjazzsociety.com/event/hartford-jazz-orchestra/2026-03-30/
LOCATION:Elicit Brewery\, 165 Adams Street\, Manchester\, CT
END:VEVENT
BEGIN:VEVENT
DTSTART;TZID=America/New_York:20260323T193000
DTEND;TZID=America/New_York:20260323T213000
DTSTAMP:20260424T133554
CREATED:20251217T142857Z
LAST-MODIFIED:20251217T142857Z
UID:10007456-1774294200-1774301400@hartfordjazzsociety.com
SUMMARY:Hartford Jazz Orchestra
DESCRIPTION:Every Monday at Elicit Brewery in Manchester CT. No cover.
URL:https://hartfordjazzsociety.com/event/hartford-jazz-orchestra/2026-03-23/
LOCATION:Elicit Brewery\, 165 Adams Street\, Manchester\, CT
END:VEVENT
BEGIN:VEVENT
DTSTART;TZID=America/New_York:20260316T193000
DTEND;TZID=America/New_York:20260316T213000
DTSTAMP:20260424T133554
CREATED:20251217T142857Z
LAST-MODIFIED:20251217T142857Z
UID:10007455-1773689400-1773696600@hartfordjazzsociety.com
SUMMARY:Hartford Jazz Orchestra
DESCRIPTION:Every Monday at Elicit Brewery in Manchester CT. No cover.
URL:https://hartfordjazzsociety.com/event/hartford-jazz-orchestra/2026-03-16/
LOCATION:Elicit Brewery\, 165 Adams Street\, Manchester\, CT
END:VEVENT
BEGIN:VEVENT
DTSTART;TZID=America/New_York:20260309T193000
DTEND;TZID=America/New_York:20260309T213000
DTSTAMP:20260424T133554
CREATED:20251217T142857Z
LAST-MODIFIED:20251217T142857Z
UID:10007454-1773084600-1773091800@hartfordjazzsociety.com
SUMMARY:Hartford Jazz Orchestra
DESCRIPTION:Every Monday at Elicit Brewery in Manchester CT. No cover.
URL:https://hartfordjazzsociety.com/event/hartford-jazz-orchestra/2026-03-09/
LOCATION:Elicit Brewery\, 165 Adams Street\, Manchester\, CT
END:VEVENT
BEGIN:VEVENT
DTSTART;TZID=America/New_York:20260302T193000
DTEND;TZID=America/New_York:20260302T213000
DTSTAMP:20260424T133554
CREATED:20251217T142857Z
LAST-MODIFIED:20251217T142857Z
UID:10007453-1772479800-1772487000@hartfordjazzsociety.com
SUMMARY:Hartford Jazz Orchestra
DESCRIPTION:Every Monday at Elicit Brewery in Manchester CT. No cover.
URL:https://hartfordjazzsociety.com/event/hartford-jazz-orchestra/2026-03-02/
LOCATION:Elicit Brewery\, 165 Adams Street\, Manchester\, CT
END:VEVENT
BEGIN:VEVENT
DTSTART;TZID=America/New_York:20260223T193000
DTEND;TZID=America/New_York:20260223T213000
DTSTAMP:20260424T133554
CREATED:20251217T142857Z
LAST-MODIFIED:20251217T142857Z
UID:10007452-1771875000-1771882200@hartfordjazzsociety.com
SUMMARY:Hartford Jazz Orchestra
DESCRIPTION:Every Monday at Elicit Brewery in Manchester CT. No cover.
URL:https://hartfordjazzsociety.com/event/hartford-jazz-orchestra/2026-02-23/
LOCATION:Elicit Brewery\, 165 Adams Street\, Manchester\, CT
END:VEVENT
BEGIN:VEVENT
DTSTART;TZID=America/New_York:20260216T193000
DTEND;TZID=America/New_York:20260216T213000
DTSTAMP:20260424T133554
CREATED:20251217T142857Z
LAST-MODIFIED:20251217T142857Z
UID:10007451-1771270200-1771277400@hartfordjazzsociety.com
SUMMARY:Hartford Jazz Orchestra
DESCRIPTION:Every Monday at Elicit Brewery in Manchester CT. No cover.
URL:https://hartfordjazzsociety.com/event/hartford-jazz-orchestra/2026-02-16/
LOCATION:Elicit Brewery\, 165 Adams Street\, Manchester\, CT
END:VEVENT
BEGIN:VEVENT
DTSTART;TZID=America/New_York:20260209T193000
DTEND;TZID=America/New_York:20260209T213000
DTSTAMP:20260424T133554
CREATED:20251217T142857Z
LAST-MODIFIED:20251217T142857Z
UID:10007450-1770665400-1770672600@hartfordjazzsociety.com
SUMMARY:Hartford Jazz Orchestra
DESCRIPTION:Every Monday at Elicit Brewery in Manchester CT. No cover.
URL:https://hartfordjazzsociety.com/event/hartford-jazz-orchestra/2026-02-09/
LOCATION:Elicit Brewery\, 165 Adams Street\, Manchester\, CT
END:VEVENT
BEGIN:VEVENT
DTSTART;TZID=America/New_York:20260202T193000
DTEND;TZID=America/New_York:20260202T213000
DTSTAMP:20260424T133554
CREATED:20251217T142857Z
LAST-MODIFIED:20251217T142857Z
UID:10007449-1770060600-1770067800@hartfordjazzsociety.com
SUMMARY:Hartford Jazz Orchestra
DESCRIPTION:Every Monday at Elicit Brewery in Manchester CT. No cover.
URL:https://hartfordjazzsociety.com/event/hartford-jazz-orchestra/2026-02-02/
LOCATION:Elicit Brewery\, 165 Adams Street\, Manchester\, CT
END:VEVENT
BEGIN:VEVENT
DTSTART;TZID=America/New_York:20260126T193000
DTEND;TZID=America/New_York:20260126T213000
DTSTAMP:20260424T133554
CREATED:20251217T142857Z
LAST-MODIFIED:20251217T142857Z
UID:10007448-1769455800-1769463000@hartfordjazzsociety.com
SUMMARY:Hartford Jazz Orchestra
DESCRIPTION:Every Monday at Elicit Brewery in Manchester CT. No cover.
URL:https://hartfordjazzsociety.com/event/hartford-jazz-orchestra/2026-01-26/
LOCATION:Elicit Brewery\, 165 Adams Street\, Manchester\, CT
END:VEVENT
BEGIN:VEVENT
DTSTART;TZID=America/New_York:20260119T193000
DTEND;TZID=America/New_York:20260119T213000
DTSTAMP:20260424T133554
CREATED:20251217T142857Z
LAST-MODIFIED:20251217T142857Z
UID:10007447-1768851000-1768858200@hartfordjazzsociety.com
SUMMARY:Hartford Jazz Orchestra
DESCRIPTION:Every Monday at Elicit Brewery in Manchester CT. No cover.
URL:https://hartfordjazzsociety.com/event/hartford-jazz-orchestra/2026-01-19/
LOCATION:Elicit Brewery\, 165 Adams Street\, Manchester\, CT
END:VEVENT
BEGIN:VEVENT
DTSTART;TZID=America/New_York:20260112T193000
DTEND;TZID=America/New_York:20260112T213000
DTSTAMP:20260424T133554
CREATED:20251217T142857Z
LAST-MODIFIED:20251217T142857Z
UID:10007446-1768246200-1768253400@hartfordjazzsociety.com
SUMMARY:Hartford Jazz Orchestra
DESCRIPTION:Every Monday at Elicit Brewery in Manchester CT. No cover.
URL:https://hartfordjazzsociety.com/event/hartford-jazz-orchestra/2026-01-12/
LOCATION:Elicit Brewery\, 165 Adams Street\, Manchester\, CT
END:VEVENT
BEGIN:VEVENT
DTSTART;TZID=America/New_York:20260105T193000
DTEND;TZID=America/New_York:20260105T213000
DTSTAMP:20260424T133554
CREATED:20251217T142857Z
LAST-MODIFIED:20251217T142857Z
UID:10007445-1767641400-1767648600@hartfordjazzsociety.com
SUMMARY:Hartford Jazz Orchestra
DESCRIPTION:Every Monday at Elicit Brewery in Manchester CT. No cover.
URL:https://hartfordjazzsociety.com/event/hartford-jazz-orchestra/2026-01-05/
LOCATION:Elicit Brewery\, 165 Adams Street\, Manchester\, CT
END:VEVENT
BEGIN:VEVENT
DTSTART;TZID=America/New_York:20251229T193000
DTEND;TZID=America/New_York:20251229T213000
DTSTAMP:20260424T133554
CREATED:20251217T142857Z
LAST-MODIFIED:20251217T142857Z
UID:10007444-1767036600-1767043800@hartfordjazzsociety.com
SUMMARY:Hartford Jazz Orchestra
DESCRIPTION:Every Monday at Elicit Brewery in Manchester CT. No cover.
URL:https://hartfordjazzsociety.com/event/hartford-jazz-orchestra/2025-12-29/
LOCATION:Elicit Brewery\, 165 Adams Street\, Manchester\, CT
END:VEVENT
BEGIN:VEVENT
DTSTART;TZID=America/New_York:20251222T193000
DTEND;TZID=America/New_York:20251222T213000
DTSTAMP:20260424T133554
CREATED:20251217T142857Z
LAST-MODIFIED:20251217T142857Z
UID:10007443-1766431800-1766439000@hartfordjazzsociety.com
SUMMARY:Hartford Jazz Orchestra
DESCRIPTION:Every Monday at Elicit Brewery in Manchester CT. No cover.
URL:https://hartfordjazzsociety.com/event/hartford-jazz-orchestra/2025-12-22/
LOCATION:Elicit Brewery\, 165 Adams Street\, Manchester\, CT
END:VEVENT
END:VCALENDAR