BEGIN:VCALENDAR
VERSION:2.0
PRODID:-//Hartford Jazz Society - ECPv6.15.20//NONSGML v1.0//EN
CALSCALE:GREGORIAN
METHOD:PUBLISH
X-WR-CALNAME:Hartford Jazz Society
X-ORIGINAL-URL:https://hartfordjazzsociety.com
X-WR-CALDESC:Events for Hartford Jazz Society
REFRESH-INTERVAL;VALUE=DURATION:PT1H
X-Robots-Tag:noindex
X-PUBLISHED-TTL:PT1H
BEGIN:VTIMEZONE
TZID:America/New_York
BEGIN:DAYLIGHT
TZOFFSETFROM:-0500
TZOFFSETTO:-0400
TZNAME:EDT
DTSTART:20240310T070000
END:DAYLIGHT
BEGIN:STANDARD
TZOFFSETFROM:-0400
TZOFFSETTO:-0500
TZNAME:EST
DTSTART:20241103T060000
END:STANDARD
BEGIN:DAYLIGHT
TZOFFSETFROM:-0500
TZOFFSETTO:-0400
TZNAME:EDT
DTSTART:20250309T070000
END:DAYLIGHT
BEGIN:STANDARD
TZOFFSETFROM:-0400
TZOFFSETTO:-0500
TZNAME:EST
DTSTART:20251102T060000
END:STANDARD
BEGIN:DAYLIGHT
TZOFFSETFROM:-0500
TZOFFSETTO:-0400
TZNAME:EDT
DTSTART:20260308T070000
END:DAYLIGHT
BEGIN:STANDARD
TZOFFSETFROM:-0400
TZOFFSETTO:-0500
TZNAME:EST
DTSTART:20261101T060000
END:STANDARD
BEGIN:DAYLIGHT
TZOFFSETFROM:-0500
TZOFFSETTO:-0400
TZNAME:EDT
DTSTART:20270314T070000
END:DAYLIGHT
BEGIN:STANDARD
TZOFFSETFROM:-0400
TZOFFSETTO:-0500
TZNAME:EST
DTSTART:20271107T060000
END:STANDARD
END:VTIMEZONE
BEGIN:VEVENT
DTSTART;TZID=America/New_York:20260407T190000
DTEND;TZID=America/New_York:20260407T210000
DTSTAMP:20260425T064209
CREATED:20260330T005639Z
LAST-MODIFIED:20260407T041639Z
UID:10007680-1775588400-1775595600@hartfordjazzsociety.com
SUMMARY:New Haven Improvisers Collective
DESCRIPTION:Knox Chandler and Bob Gorry – Guitar Duo\nGoBruCcio  (Gorry/Brunelli/RIccio)\nCOMBO NHIC\n\nIf you’d like to be part of COMBO NHIC\, get there and be ready by 7pm. It would be great to have you as part of it. Music will start promptly.\nFree parking lot across the street. \nNext Workshop is scheduled for Monday April 27th at the Sandbox.
URL:https://hartfordjazzsociety.com/event/new-haven-improvisers-collective/
LOCATION:Ely Center of Contemporary Art\, 51 Trumbull St\, New Haven\, CT
END:VEVENT
BEGIN:VEVENT
DTSTART;TZID=America/New_York:20260210T190000
DTEND;TZID=America/New_York:20260210T220000
DTSTAMP:20260425T064209
CREATED:20260126T034912Z
LAST-MODIFIED:20260209T164620Z
UID:10007590-1770750000-1770760800@hartfordjazzsociety.com
SUMMARY:New Haven Improvisers Collective performance series
DESCRIPTION:Rimp\, Ramp\, Romp : Michael Brooks / Andrew Barnes Jamieson /    Conor Perreault / Matt Wick\nBarry Seroff (solo)\nCOMBO NHIC\n\n\n\nIf you’d like to be part of COMBO NHIC\, get there and be ready by 7pm. It would be great to have you as part of it. Music will start promptly.\nFree parking lot across the street.
URL:https://hartfordjazzsociety.com/event/new-haven-improvisers-collective-performance-series/
LOCATION:Ely Center of Contemporary Art\, 51 Trumbull St\, New Haven\, CT
END:VEVENT
BEGIN:VEVENT
DTSTART;TZID=America/New_York:20251211T190000
DTEND;TZID=America/New_York:20251211T220000
DTSTAMP:20260425T064209
CREATED:20251210T223846Z
LAST-MODIFIED:20251210T223849Z
UID:10007098-1765479600-1765490400@hartfordjazzsociety.com
SUMMARY:New Haven Improvisers Collective performance series
DESCRIPTION:A new music series on the 2nd Thursday of every month.  It will feature groups and ad hoc combinations of New Haven Improvisers Collective folks. \n\nBob Gorry / Steve Chillemi Duo (Black Iron CD release)\nHarshing Mellows (Mike Brooks\, Conor Perreault)\nCOMBO NHIC\n\nIf you’d like to be part of COMBO NHIC\, get there and be ready by 7pm.  It would be great to have you as part of it.  Music will start promptly. \nCD Release Show for Black Iron \nThis will be the last show at the Ely Center on Trumbull St and your last opportunity to play and listen in this cool space\, so I hope to see you there. \nThere will be no NHIC workshop in December.  Happy Holidays.  Working on plans for 2026 now. \n 
URL:https://hartfordjazzsociety.com/event/new-haven-improvisers-collective-performance-series-2-2-2-3-2/
LOCATION:Ely Center of Contemporary Art\, 51 Trumbull St\, New Haven\, CT
END:VEVENT
BEGIN:VEVENT
DTSTART;TZID=America/New_York:20251204T190000
DTEND;TZID=America/New_York:20251204T210000
DTSTAMP:20260425T064209
CREATED:20251124T010921Z
LAST-MODIFIED:20251124T010921Z
UID:10007336-1764874800-1764882000@hartfordjazzsociety.com
SUMMARY:Joe Morris / Stephen Haynes / Matt Rouseau / GoBruCcio
DESCRIPTION:Joe Morris / Stephen Haynes / Matt Rouseau\nGoBruCcio (Bob Gorry / Pete Brunelli / Peter Riccio)
URL:https://hartfordjazzsociety.com/event/joe-morris-stephen-haynes-matt-rouseau-gobruccio/
LOCATION:Ely Center of Contemporary Art\, 51 Trumbull St\, New Haven\, CT
END:VEVENT
BEGIN:VEVENT
DTSTART;TZID=America/New_York:20251201T190000
DTEND;TZID=America/New_York:20251201T210000
DTSTAMP:20260425T064209
CREATED:20251124T011031Z
LAST-MODIFIED:20251124T011031Z
UID:10007337-1764615600-1764622800@hartfordjazzsociety.com
SUMMARY:Greg Bendian / Brett Bottomley / Diane Buettner / Bob Gorry
DESCRIPTION:
URL:https://hartfordjazzsociety.com/event/greg-bendian-brett-bottomley-diane-buettner-bob-gorry/
LOCATION:Ely Center of Contemporary Art\, 51 Trumbull St\, New Haven\, CT
END:VEVENT
BEGIN:VEVENT
DTSTART;TZID=America/New_York:20251124T193000
DTEND;TZID=America/New_York:20251124T223000
DTSTAMP:20260425T064209
CREATED:20251116T023047Z
LAST-MODIFIED:20251116T023048Z
UID:10004470-1764012600-1764023400@hartfordjazzsociety.com
SUMMARY:New Haven Improvisers Collective (workshop)
DESCRIPTION:Last Monday of every month\, 7:30-10:30 PM \nThe New Haven Improvisers Collective is dedicated to bringing improvised music to New Haven. Bring your instrument to the next NHIC improvised music workshop. Visit the website below and send your contact information to info@nhic-music.org \nhttps://www.nhic-music.org \n 
URL:https://hartfordjazzsociety.com/event/new-haven-improvisers-collective-workshop-2/
LOCATION:Ely Center of Contemporary Art\, 51 Trumbull St\, New Haven\, CT
END:VEVENT
BEGIN:VEVENT
DTSTART;TZID=America/New_York:20251113T190000
DTEND;TZID=America/New_York:20251113T220000
DTSTAMP:20260425T064209
CREATED:20251027T024347Z
LAST-MODIFIED:20251116T023356Z
UID:10006894-1763060400-1763071200@hartfordjazzsociety.com
SUMMARY:New Haven Improvisers Collective performance series
DESCRIPTION:A new music series on the 2nd Thursday of every month.  It will feature groups and ad hoc combinations of New Haven Improvisers Collective folks. \nShow up with your instrument before 7pm and join COMBO NHIC. \nCD release for Roundhouse \n\nRoundhouse Quartet (Diane Buettner / Bob Gorry / Michael Paolucci / Conor Perreault)\nConcussion (Nick DiMaria / Bob Gorry / Dan Klug) \nCOMBO NHIC\n\n 
URL:https://hartfordjazzsociety.com/event/new-haven-improvisers-collective-performance-series-2-2-2-3/
LOCATION:Ely Center of Contemporary Art\, 51 Trumbull St\, New Haven\, CT
END:VEVENT
BEGIN:VEVENT
DTSTART;TZID=America/New_York:20251027T193000
DTEND;TZID=America/New_York:20251027T223000
DTSTAMP:20260425T064209
CREATED:20241114T182510Z
LAST-MODIFIED:20250927T035303Z
UID:10004469-1761593400-1761604200@hartfordjazzsociety.com
SUMMARY:New Haven Improvisers Collective (workshop)
DESCRIPTION:Last Monday of every month\, 7:30-10:30 PM \nThe New Haven Improvisers Collective is dedicated to bringing improvised music to New Haven. Bring your instrument to the next NHIC improvised music workshop. Visit the website below and send your contact information to info@nhic-music.org \nhttps://www.nhic-music.org \n 
URL:https://hartfordjazzsociety.com/event/new-haven-improvisers-collective-workshop/2025-10-27/
LOCATION:Ely Center of Contemporary Art\, 51 Trumbull St\, New Haven\, CT
END:VEVENT
BEGIN:VEVENT
DTSTART;TZID=America/New_York:20251016T193000
DTEND;TZID=America/New_York:20251016T213000
DTSTAMP:20260425T064209
CREATED:20251015T233408Z
LAST-MODIFIED:20251015T233408Z
UID:10006929-1760643000-1760650200@hartfordjazzsociety.com
SUMMARY:Perfido / Humbert Duo
DESCRIPTION:The Perfido / Humbert Duo is comprised of Dominique Humbert performing on alto & soprano saxophones & Peter Perfido on drums\, gongs and some small percussion instruments. Our repertoire covers a fairly expansive musical palette that is multi-directional in concept. Influences range from tunes by some of the great modern jazz composers such as: Thelonious Monk\, Charlie Parker\, Wayne Shorter and Paul Motian. We also like to experiment with wide open improvised pieces\, exploring areas as diverse as meditative / minimal atmospheres to African-inspired folk sounds. There are also more energetic\, charged up excursions that come into play in our « terra incognito » explorations. We have a number of original pieces and a few compositions written by friends that are excellent composers. All this to say: we can cover a wide range of sounds in an exchange that is quite intimate between 2 instrumentalists who enjoy the challenge and sense of spaciousness in performing as a duo.
URL:https://hartfordjazzsociety.com/event/perfido-humbert-duo/
LOCATION:Ely Center of Contemporary Art\, 51 Trumbull St\, New Haven\, CT
END:VEVENT
END:VCALENDAR