BEGIN:VCALENDAR
VERSION:2.0
PRODID:-//Hartford Jazz Society - ECPv6.15.20//NONSGML v1.0//EN
CALSCALE:GREGORIAN
METHOD:PUBLISH
X-WR-CALNAME:Hartford Jazz Society
X-ORIGINAL-URL:https://hartfordjazzsociety.com
X-WR-CALDESC:Events for Hartford Jazz Society
REFRESH-INTERVAL;VALUE=DURATION:PT1H
X-Robots-Tag:noindex
X-PUBLISHED-TTL:PT1H
BEGIN:VTIMEZONE
TZID:America/New_York
BEGIN:DAYLIGHT
TZOFFSETFROM:-0500
TZOFFSETTO:-0400
TZNAME:EDT
DTSTART:20250309T070000
END:DAYLIGHT
BEGIN:STANDARD
TZOFFSETFROM:-0400
TZOFFSETTO:-0500
TZNAME:EST
DTSTART:20251102T060000
END:STANDARD
BEGIN:DAYLIGHT
TZOFFSETFROM:-0500
TZOFFSETTO:-0400
TZNAME:EDT
DTSTART:20260308T070000
END:DAYLIGHT
BEGIN:STANDARD
TZOFFSETFROM:-0400
TZOFFSETTO:-0500
TZNAME:EST
DTSTART:20261101T060000
END:STANDARD
BEGIN:DAYLIGHT
TZOFFSETFROM:-0500
TZOFFSETTO:-0400
TZNAME:EDT
DTSTART:20270314T070000
END:DAYLIGHT
BEGIN:STANDARD
TZOFFSETFROM:-0400
TZOFFSETTO:-0500
TZNAME:EST
DTSTART:20271107T060000
END:STANDARD
END:VTIMEZONE
BEGIN:VEVENT
DTSTART;TZID=America/New_York:20260610T200000
DTEND;TZID=America/New_York:20260610T220000
DTSTAMP:20260424T153332
CREATED:20260301T021029Z
LAST-MODIFIED:20260301T021029Z
UID:10007633-1781121600-1781128800@hartfordjazzsociety.com
SUMMARY:Big Bad Voodoo Daddy
DESCRIPTION:Together for over 32 years\, Big Bad Voodoo Daddy — famously named after an autograph by blues legend Albert Collins — has appeared in concert venues across the world\, sold millions of records\, and had their music appear in hundreds of movies and television shows. With sold out concerts from the Hollywood Bowl to Lincoln Center\, appearances with many of the country’s finest symphony orchestras\, and television appearances ranging from Dancing with the Stars to Superbowl XXXIII\, Big Bad Voodoo Daddy continues its decades long mission to celebrate and revitalize jazz and swing music — America’s original musical art form — and bring joy to audiences around the world.
URL:https://hartfordjazzsociety.com/event/big-bad-voodoo-daddy/
LOCATION:Infinity Hall – Hartford\, 32 Front Street\, Hartford\, CT\, 06103
END:VEVENT
END:VCALENDAR