BEGIN:VCALENDAR
VERSION:2.0
PRODID:-//Hartford Jazz Society - ECPv6.15.20//NONSGML v1.0//EN
CALSCALE:GREGORIAN
METHOD:PUBLISH
X-WR-CALNAME:Hartford Jazz Society
X-ORIGINAL-URL:https://hartfordjazzsociety.com
X-WR-CALDESC:Events for Hartford Jazz Society
REFRESH-INTERVAL;VALUE=DURATION:PT1H
X-Robots-Tag:noindex
X-PUBLISHED-TTL:PT1H
BEGIN:VTIMEZONE
TZID:America/New_York
BEGIN:DAYLIGHT
TZOFFSETFROM:-0500
TZOFFSETTO:-0400
TZNAME:EDT
DTSTART:20250309T070000
END:DAYLIGHT
BEGIN:STANDARD
TZOFFSETFROM:-0400
TZOFFSETTO:-0500
TZNAME:EST
DTSTART:20251102T060000
END:STANDARD
BEGIN:DAYLIGHT
TZOFFSETFROM:-0500
TZOFFSETTO:-0400
TZNAME:EDT
DTSTART:20260308T070000
END:DAYLIGHT
BEGIN:STANDARD
TZOFFSETFROM:-0400
TZOFFSETTO:-0500
TZNAME:EST
DTSTART:20261101T060000
END:STANDARD
BEGIN:DAYLIGHT
TZOFFSETFROM:-0500
TZOFFSETTO:-0400
TZNAME:EDT
DTSTART:20270314T070000
END:DAYLIGHT
BEGIN:STANDARD
TZOFFSETFROM:-0400
TZOFFSETTO:-0500
TZNAME:EST
DTSTART:20271107T060000
END:STANDARD
END:VTIMEZONE
BEGIN:VEVENT
DTSTART;TZID=America/New_York:20260424T171500
DTEND;TZID=America/New_York:20260424T190000
DTSTAMP:20260423T033212
CREATED:20251210T225210Z
LAST-MODIFIED:20251210T225210Z
UID:10007383-1777050900-1777057200@hartfordjazzsociety.com
SUMMARY:Fridays with Frank
DESCRIPTION:Join renowned jazz historian and Jazz Haven Board member Frank Cochran for BYOB “Fridays with Frank.”  Happy Hour jazz listening sessions are held every Friday from 5:15 to 7:00 pm at the Institute Library in downtown New Haven.  Each Friday Frank selects iconic jazz LPs to play from the Library’s extensive collection.  Discussion follows.  BYOB and please give a modest donation towards the IL’s spiraling utilities. A $5.00 contribution is welcome.
URL:https://hartfordjazzsociety.com/event/fridays-with-frank/2026-04-24/
LOCATION:Institute Library\, 847 Chapel Street\, New Haven\, CT
END:VEVENT
BEGIN:VEVENT
DTSTART;TZID=America/New_York:20260501T171500
DTEND;TZID=America/New_York:20260501T190000
DTSTAMP:20260423T033212
CREATED:20251210T225210Z
LAST-MODIFIED:20251210T225210Z
UID:10007384-1777655700-1777662000@hartfordjazzsociety.com
SUMMARY:Fridays with Frank
DESCRIPTION:Join renowned jazz historian and Jazz Haven Board member Frank Cochran for BYOB “Fridays with Frank.”  Happy Hour jazz listening sessions are held every Friday from 5:15 to 7:00 pm at the Institute Library in downtown New Haven.  Each Friday Frank selects iconic jazz LPs to play from the Library’s extensive collection.  Discussion follows.  BYOB and please give a modest donation towards the IL’s spiraling utilities. A $5.00 contribution is welcome.
URL:https://hartfordjazzsociety.com/event/fridays-with-frank/2026-05-01/
LOCATION:Institute Library\, 847 Chapel Street\, New Haven\, CT
END:VEVENT
BEGIN:VEVENT
DTSTART;TZID=America/New_York:20260508T171500
DTEND;TZID=America/New_York:20260508T190000
DTSTAMP:20260423T033212
CREATED:20251210T225210Z
LAST-MODIFIED:20251210T225210Z
UID:10007385-1778260500-1778266800@hartfordjazzsociety.com
SUMMARY:Fridays with Frank
DESCRIPTION:Join renowned jazz historian and Jazz Haven Board member Frank Cochran for BYOB “Fridays with Frank.”  Happy Hour jazz listening sessions are held every Friday from 5:15 to 7:00 pm at the Institute Library in downtown New Haven.  Each Friday Frank selects iconic jazz LPs to play from the Library’s extensive collection.  Discussion follows.  BYOB and please give a modest donation towards the IL’s spiraling utilities. A $5.00 contribution is welcome.
URL:https://hartfordjazzsociety.com/event/fridays-with-frank/2026-05-08/
LOCATION:Institute Library\, 847 Chapel Street\, New Haven\, CT
END:VEVENT
BEGIN:VEVENT
DTSTART;TZID=America/New_York:20260515T171500
DTEND;TZID=America/New_York:20260515T190000
DTSTAMP:20260423T033212
CREATED:20251210T225210Z
LAST-MODIFIED:20251210T225210Z
UID:10007386-1778865300-1778871600@hartfordjazzsociety.com
SUMMARY:Fridays with Frank
DESCRIPTION:Join renowned jazz historian and Jazz Haven Board member Frank Cochran for BYOB “Fridays with Frank.”  Happy Hour jazz listening sessions are held every Friday from 5:15 to 7:00 pm at the Institute Library in downtown New Haven.  Each Friday Frank selects iconic jazz LPs to play from the Library’s extensive collection.  Discussion follows.  BYOB and please give a modest donation towards the IL’s spiraling utilities. A $5.00 contribution is welcome.
URL:https://hartfordjazzsociety.com/event/fridays-with-frank/2026-05-15/
LOCATION:Institute Library\, 847 Chapel Street\, New Haven\, CT
END:VEVENT
BEGIN:VEVENT
DTSTART;TZID=America/New_York:20260522T171500
DTEND;TZID=America/New_York:20260522T190000
DTSTAMP:20260423T033212
CREATED:20251210T225210Z
LAST-MODIFIED:20251210T225210Z
UID:10007387-1779470100-1779476400@hartfordjazzsociety.com
SUMMARY:Fridays with Frank
DESCRIPTION:Join renowned jazz historian and Jazz Haven Board member Frank Cochran for BYOB “Fridays with Frank.”  Happy Hour jazz listening sessions are held every Friday from 5:15 to 7:00 pm at the Institute Library in downtown New Haven.  Each Friday Frank selects iconic jazz LPs to play from the Library’s extensive collection.  Discussion follows.  BYOB and please give a modest donation towards the IL’s spiraling utilities. A $5.00 contribution is welcome.
URL:https://hartfordjazzsociety.com/event/fridays-with-frank/2026-05-22/
LOCATION:Institute Library\, 847 Chapel Street\, New Haven\, CT
END:VEVENT
BEGIN:VEVENT
DTSTART;TZID=America/New_York:20260529T171500
DTEND;TZID=America/New_York:20260529T190000
DTSTAMP:20260423T033212
CREATED:20251210T225210Z
LAST-MODIFIED:20251210T225210Z
UID:10007388-1780074900-1780081200@hartfordjazzsociety.com
SUMMARY:Fridays with Frank
DESCRIPTION:Join renowned jazz historian and Jazz Haven Board member Frank Cochran for BYOB “Fridays with Frank.”  Happy Hour jazz listening sessions are held every Friday from 5:15 to 7:00 pm at the Institute Library in downtown New Haven.  Each Friday Frank selects iconic jazz LPs to play from the Library’s extensive collection.  Discussion follows.  BYOB and please give a modest donation towards the IL’s spiraling utilities. A $5.00 contribution is welcome.
URL:https://hartfordjazzsociety.com/event/fridays-with-frank/2026-05-29/
LOCATION:Institute Library\, 847 Chapel Street\, New Haven\, CT
END:VEVENT
BEGIN:VEVENT
DTSTART;TZID=America/New_York:20260605T171500
DTEND;TZID=America/New_York:20260605T190000
DTSTAMP:20260423T033212
CREATED:20251210T225210Z
LAST-MODIFIED:20251210T225210Z
UID:10007389-1780679700-1780686000@hartfordjazzsociety.com
SUMMARY:Fridays with Frank
DESCRIPTION:Join renowned jazz historian and Jazz Haven Board member Frank Cochran for BYOB “Fridays with Frank.”  Happy Hour jazz listening sessions are held every Friday from 5:15 to 7:00 pm at the Institute Library in downtown New Haven.  Each Friday Frank selects iconic jazz LPs to play from the Library’s extensive collection.  Discussion follows.  BYOB and please give a modest donation towards the IL’s spiraling utilities. A $5.00 contribution is welcome.
URL:https://hartfordjazzsociety.com/event/fridays-with-frank/2026-06-05/
LOCATION:Institute Library\, 847 Chapel Street\, New Haven\, CT
END:VEVENT
BEGIN:VEVENT
DTSTART;TZID=America/New_York:20260612T171500
DTEND;TZID=America/New_York:20260612T190000
DTSTAMP:20260423T033212
CREATED:20251210T225210Z
LAST-MODIFIED:20251210T225210Z
UID:10007390-1781284500-1781290800@hartfordjazzsociety.com
SUMMARY:Fridays with Frank
DESCRIPTION:Join renowned jazz historian and Jazz Haven Board member Frank Cochran for BYOB “Fridays with Frank.”  Happy Hour jazz listening sessions are held every Friday from 5:15 to 7:00 pm at the Institute Library in downtown New Haven.  Each Friday Frank selects iconic jazz LPs to play from the Library’s extensive collection.  Discussion follows.  BYOB and please give a modest donation towards the IL’s spiraling utilities. A $5.00 contribution is welcome.
URL:https://hartfordjazzsociety.com/event/fridays-with-frank/2026-06-12/
LOCATION:Institute Library\, 847 Chapel Street\, New Haven\, CT
END:VEVENT
BEGIN:VEVENT
DTSTART;TZID=America/New_York:20260619T171500
DTEND;TZID=America/New_York:20260619T190000
DTSTAMP:20260423T033212
CREATED:20251210T225210Z
LAST-MODIFIED:20251210T225210Z
UID:10007391-1781889300-1781895600@hartfordjazzsociety.com
SUMMARY:Fridays with Frank
DESCRIPTION:Join renowned jazz historian and Jazz Haven Board member Frank Cochran for BYOB “Fridays with Frank.”  Happy Hour jazz listening sessions are held every Friday from 5:15 to 7:00 pm at the Institute Library in downtown New Haven.  Each Friday Frank selects iconic jazz LPs to play from the Library’s extensive collection.  Discussion follows.  BYOB and please give a modest donation towards the IL’s spiraling utilities. A $5.00 contribution is welcome.
URL:https://hartfordjazzsociety.com/event/fridays-with-frank/2026-06-19/
LOCATION:Institute Library\, 847 Chapel Street\, New Haven\, CT
END:VEVENT
BEGIN:VEVENT
DTSTART;TZID=America/New_York:20260626T171500
DTEND;TZID=America/New_York:20260626T190000
DTSTAMP:20260423T033212
CREATED:20251210T225210Z
LAST-MODIFIED:20251210T225210Z
UID:10007392-1782494100-1782500400@hartfordjazzsociety.com
SUMMARY:Fridays with Frank
DESCRIPTION:Join renowned jazz historian and Jazz Haven Board member Frank Cochran for BYOB “Fridays with Frank.”  Happy Hour jazz listening sessions are held every Friday from 5:15 to 7:00 pm at the Institute Library in downtown New Haven.  Each Friday Frank selects iconic jazz LPs to play from the Library’s extensive collection.  Discussion follows.  BYOB and please give a modest donation towards the IL’s spiraling utilities. A $5.00 contribution is welcome.
URL:https://hartfordjazzsociety.com/event/fridays-with-frank/2026-06-26/
LOCATION:Institute Library\, 847 Chapel Street\, New Haven\, CT
END:VEVENT
BEGIN:VEVENT
DTSTART;TZID=America/New_York:20260703T171500
DTEND;TZID=America/New_York:20260703T190000
DTSTAMP:20260423T033212
CREATED:20251210T225210Z
LAST-MODIFIED:20251210T225210Z
UID:10007393-1783098900-1783105200@hartfordjazzsociety.com
SUMMARY:Fridays with Frank
DESCRIPTION:Join renowned jazz historian and Jazz Haven Board member Frank Cochran for BYOB “Fridays with Frank.”  Happy Hour jazz listening sessions are held every Friday from 5:15 to 7:00 pm at the Institute Library in downtown New Haven.  Each Friday Frank selects iconic jazz LPs to play from the Library’s extensive collection.  Discussion follows.  BYOB and please give a modest donation towards the IL’s spiraling utilities. A $5.00 contribution is welcome.
URL:https://hartfordjazzsociety.com/event/fridays-with-frank/2026-07-03/
LOCATION:Institute Library\, 847 Chapel Street\, New Haven\, CT
END:VEVENT
BEGIN:VEVENT
DTSTART;TZID=America/New_York:20260710T171500
DTEND;TZID=America/New_York:20260710T190000
DTSTAMP:20260423T033212
CREATED:20251210T225210Z
LAST-MODIFIED:20251210T225210Z
UID:10007394-1783703700-1783710000@hartfordjazzsociety.com
SUMMARY:Fridays with Frank
DESCRIPTION:Join renowned jazz historian and Jazz Haven Board member Frank Cochran for BYOB “Fridays with Frank.”  Happy Hour jazz listening sessions are held every Friday from 5:15 to 7:00 pm at the Institute Library in downtown New Haven.  Each Friday Frank selects iconic jazz LPs to play from the Library’s extensive collection.  Discussion follows.  BYOB and please give a modest donation towards the IL’s spiraling utilities. A $5.00 contribution is welcome.
URL:https://hartfordjazzsociety.com/event/fridays-with-frank/2026-07-10/
LOCATION:Institute Library\, 847 Chapel Street\, New Haven\, CT
END:VEVENT
BEGIN:VEVENT
DTSTART;TZID=America/New_York:20260717T171500
DTEND;TZID=America/New_York:20260717T190000
DTSTAMP:20260423T033212
CREATED:20251210T225210Z
LAST-MODIFIED:20251210T225210Z
UID:10007395-1784308500-1784314800@hartfordjazzsociety.com
SUMMARY:Fridays with Frank
DESCRIPTION:Join renowned jazz historian and Jazz Haven Board member Frank Cochran for BYOB “Fridays with Frank.”  Happy Hour jazz listening sessions are held every Friday from 5:15 to 7:00 pm at the Institute Library in downtown New Haven.  Each Friday Frank selects iconic jazz LPs to play from the Library’s extensive collection.  Discussion follows.  BYOB and please give a modest donation towards the IL’s spiraling utilities. A $5.00 contribution is welcome.
URL:https://hartfordjazzsociety.com/event/fridays-with-frank/2026-07-17/
LOCATION:Institute Library\, 847 Chapel Street\, New Haven\, CT
END:VEVENT
BEGIN:VEVENT
DTSTART;TZID=America/New_York:20260724T171500
DTEND;TZID=America/New_York:20260724T190000
DTSTAMP:20260423T033212
CREATED:20251210T225210Z
LAST-MODIFIED:20251210T225210Z
UID:10007396-1784913300-1784919600@hartfordjazzsociety.com
SUMMARY:Fridays with Frank
DESCRIPTION:Join renowned jazz historian and Jazz Haven Board member Frank Cochran for BYOB “Fridays with Frank.”  Happy Hour jazz listening sessions are held every Friday from 5:15 to 7:00 pm at the Institute Library in downtown New Haven.  Each Friday Frank selects iconic jazz LPs to play from the Library’s extensive collection.  Discussion follows.  BYOB and please give a modest donation towards the IL’s spiraling utilities. A $5.00 contribution is welcome.
URL:https://hartfordjazzsociety.com/event/fridays-with-frank/2026-07-24/
LOCATION:Institute Library\, 847 Chapel Street\, New Haven\, CT
END:VEVENT
BEGIN:VEVENT
DTSTART;TZID=America/New_York:20260731T171500
DTEND;TZID=America/New_York:20260731T190000
DTSTAMP:20260423T033212
CREATED:20251210T225210Z
LAST-MODIFIED:20251210T225210Z
UID:10007397-1785518100-1785524400@hartfordjazzsociety.com
SUMMARY:Fridays with Frank
DESCRIPTION:Join renowned jazz historian and Jazz Haven Board member Frank Cochran for BYOB “Fridays with Frank.”  Happy Hour jazz listening sessions are held every Friday from 5:15 to 7:00 pm at the Institute Library in downtown New Haven.  Each Friday Frank selects iconic jazz LPs to play from the Library’s extensive collection.  Discussion follows.  BYOB and please give a modest donation towards the IL’s spiraling utilities. A $5.00 contribution is welcome.
URL:https://hartfordjazzsociety.com/event/fridays-with-frank/2026-07-31/
LOCATION:Institute Library\, 847 Chapel Street\, New Haven\, CT
END:VEVENT
BEGIN:VEVENT
DTSTART;TZID=America/New_York:20260807T171500
DTEND;TZID=America/New_York:20260807T190000
DTSTAMP:20260423T033212
CREATED:20251210T225210Z
LAST-MODIFIED:20251210T225210Z
UID:10007398-1786122900-1786129200@hartfordjazzsociety.com
SUMMARY:Fridays with Frank
DESCRIPTION:Join renowned jazz historian and Jazz Haven Board member Frank Cochran for BYOB “Fridays with Frank.”  Happy Hour jazz listening sessions are held every Friday from 5:15 to 7:00 pm at the Institute Library in downtown New Haven.  Each Friday Frank selects iconic jazz LPs to play from the Library’s extensive collection.  Discussion follows.  BYOB and please give a modest donation towards the IL’s spiraling utilities. A $5.00 contribution is welcome.
URL:https://hartfordjazzsociety.com/event/fridays-with-frank/2026-08-07/
LOCATION:Institute Library\, 847 Chapel Street\, New Haven\, CT
END:VEVENT
BEGIN:VEVENT
DTSTART;TZID=America/New_York:20260814T171500
DTEND;TZID=America/New_York:20260814T190000
DTSTAMP:20260423T033212
CREATED:20251210T225210Z
LAST-MODIFIED:20251210T225210Z
UID:10007399-1786727700-1786734000@hartfordjazzsociety.com
SUMMARY:Fridays with Frank
DESCRIPTION:Join renowned jazz historian and Jazz Haven Board member Frank Cochran for BYOB “Fridays with Frank.”  Happy Hour jazz listening sessions are held every Friday from 5:15 to 7:00 pm at the Institute Library in downtown New Haven.  Each Friday Frank selects iconic jazz LPs to play from the Library’s extensive collection.  Discussion follows.  BYOB and please give a modest donation towards the IL’s spiraling utilities. A $5.00 contribution is welcome.
URL:https://hartfordjazzsociety.com/event/fridays-with-frank/2026-08-14/
LOCATION:Institute Library\, 847 Chapel Street\, New Haven\, CT
END:VEVENT
BEGIN:VEVENT
DTSTART;TZID=America/New_York:20260821T171500
DTEND;TZID=America/New_York:20260821T190000
DTSTAMP:20260423T033212
CREATED:20251210T225210Z
LAST-MODIFIED:20251210T225210Z
UID:10007400-1787332500-1787338800@hartfordjazzsociety.com
SUMMARY:Fridays with Frank
DESCRIPTION:Join renowned jazz historian and Jazz Haven Board member Frank Cochran for BYOB “Fridays with Frank.”  Happy Hour jazz listening sessions are held every Friday from 5:15 to 7:00 pm at the Institute Library in downtown New Haven.  Each Friday Frank selects iconic jazz LPs to play from the Library’s extensive collection.  Discussion follows.  BYOB and please give a modest donation towards the IL’s spiraling utilities. A $5.00 contribution is welcome.
URL:https://hartfordjazzsociety.com/event/fridays-with-frank/2026-08-21/
LOCATION:Institute Library\, 847 Chapel Street\, New Haven\, CT
END:VEVENT
BEGIN:VEVENT
DTSTART;TZID=America/New_York:20260828T171500
DTEND;TZID=America/New_York:20260828T190000
DTSTAMP:20260423T033212
CREATED:20251210T225210Z
LAST-MODIFIED:20251210T225210Z
UID:10007401-1787937300-1787943600@hartfordjazzsociety.com
SUMMARY:Fridays with Frank
DESCRIPTION:Join renowned jazz historian and Jazz Haven Board member Frank Cochran for BYOB “Fridays with Frank.”  Happy Hour jazz listening sessions are held every Friday from 5:15 to 7:00 pm at the Institute Library in downtown New Haven.  Each Friday Frank selects iconic jazz LPs to play from the Library’s extensive collection.  Discussion follows.  BYOB and please give a modest donation towards the IL’s spiraling utilities. A $5.00 contribution is welcome.
URL:https://hartfordjazzsociety.com/event/fridays-with-frank/2026-08-28/
LOCATION:Institute Library\, 847 Chapel Street\, New Haven\, CT
END:VEVENT
BEGIN:VEVENT
DTSTART;TZID=America/New_York:20260904T171500
DTEND;TZID=America/New_York:20260904T190000
DTSTAMP:20260423T033212
CREATED:20251210T225210Z
LAST-MODIFIED:20251210T225210Z
UID:10007402-1788542100-1788548400@hartfordjazzsociety.com
SUMMARY:Fridays with Frank
DESCRIPTION:Join renowned jazz historian and Jazz Haven Board member Frank Cochran for BYOB “Fridays with Frank.”  Happy Hour jazz listening sessions are held every Friday from 5:15 to 7:00 pm at the Institute Library in downtown New Haven.  Each Friday Frank selects iconic jazz LPs to play from the Library’s extensive collection.  Discussion follows.  BYOB and please give a modest donation towards the IL’s spiraling utilities. A $5.00 contribution is welcome.
URL:https://hartfordjazzsociety.com/event/fridays-with-frank/2026-09-04/
LOCATION:Institute Library\, 847 Chapel Street\, New Haven\, CT
END:VEVENT
BEGIN:VEVENT
DTSTART;TZID=America/New_York:20260911T171500
DTEND;TZID=America/New_York:20260911T190000
DTSTAMP:20260423T033212
CREATED:20251210T225210Z
LAST-MODIFIED:20251210T225210Z
UID:10007403-1789146900-1789153200@hartfordjazzsociety.com
SUMMARY:Fridays with Frank
DESCRIPTION:Join renowned jazz historian and Jazz Haven Board member Frank Cochran for BYOB “Fridays with Frank.”  Happy Hour jazz listening sessions are held every Friday from 5:15 to 7:00 pm at the Institute Library in downtown New Haven.  Each Friday Frank selects iconic jazz LPs to play from the Library’s extensive collection.  Discussion follows.  BYOB and please give a modest donation towards the IL’s spiraling utilities. A $5.00 contribution is welcome.
URL:https://hartfordjazzsociety.com/event/fridays-with-frank/2026-09-11/
LOCATION:Institute Library\, 847 Chapel Street\, New Haven\, CT
END:VEVENT
BEGIN:VEVENT
DTSTART;TZID=America/New_York:20260918T171500
DTEND;TZID=America/New_York:20260918T190000
DTSTAMP:20260423T033212
CREATED:20251210T225210Z
LAST-MODIFIED:20251210T225210Z
UID:10007404-1789751700-1789758000@hartfordjazzsociety.com
SUMMARY:Fridays with Frank
DESCRIPTION:Join renowned jazz historian and Jazz Haven Board member Frank Cochran for BYOB “Fridays with Frank.”  Happy Hour jazz listening sessions are held every Friday from 5:15 to 7:00 pm at the Institute Library in downtown New Haven.  Each Friday Frank selects iconic jazz LPs to play from the Library’s extensive collection.  Discussion follows.  BYOB and please give a modest donation towards the IL’s spiraling utilities. A $5.00 contribution is welcome.
URL:https://hartfordjazzsociety.com/event/fridays-with-frank/2026-09-18/
LOCATION:Institute Library\, 847 Chapel Street\, New Haven\, CT
END:VEVENT
BEGIN:VEVENT
DTSTART;TZID=America/New_York:20260925T171500
DTEND;TZID=America/New_York:20260925T190000
DTSTAMP:20260423T033212
CREATED:20251210T225210Z
LAST-MODIFIED:20251210T225210Z
UID:10007405-1790356500-1790362800@hartfordjazzsociety.com
SUMMARY:Fridays with Frank
DESCRIPTION:Join renowned jazz historian and Jazz Haven Board member Frank Cochran for BYOB “Fridays with Frank.”  Happy Hour jazz listening sessions are held every Friday from 5:15 to 7:00 pm at the Institute Library in downtown New Haven.  Each Friday Frank selects iconic jazz LPs to play from the Library’s extensive collection.  Discussion follows.  BYOB and please give a modest donation towards the IL’s spiraling utilities. A $5.00 contribution is welcome.
URL:https://hartfordjazzsociety.com/event/fridays-with-frank/2026-09-25/
LOCATION:Institute Library\, 847 Chapel Street\, New Haven\, CT
END:VEVENT
BEGIN:VEVENT
DTSTART;TZID=America/New_York:20261002T171500
DTEND;TZID=America/New_York:20261002T190000
DTSTAMP:20260423T033212
CREATED:20251210T225210Z
LAST-MODIFIED:20251210T225210Z
UID:10007406-1790961300-1790967600@hartfordjazzsociety.com
SUMMARY:Fridays with Frank
DESCRIPTION:Join renowned jazz historian and Jazz Haven Board member Frank Cochran for BYOB “Fridays with Frank.”  Happy Hour jazz listening sessions are held every Friday from 5:15 to 7:00 pm at the Institute Library in downtown New Haven.  Each Friday Frank selects iconic jazz LPs to play from the Library’s extensive collection.  Discussion follows.  BYOB and please give a modest donation towards the IL’s spiraling utilities. A $5.00 contribution is welcome.
URL:https://hartfordjazzsociety.com/event/fridays-with-frank/2026-10-02/
LOCATION:Institute Library\, 847 Chapel Street\, New Haven\, CT
END:VEVENT
BEGIN:VEVENT
DTSTART;TZID=America/New_York:20261009T171500
DTEND;TZID=America/New_York:20261009T190000
DTSTAMP:20260423T033212
CREATED:20251210T225210Z
LAST-MODIFIED:20251210T225210Z
UID:10007407-1791566100-1791572400@hartfordjazzsociety.com
SUMMARY:Fridays with Frank
DESCRIPTION:Join renowned jazz historian and Jazz Haven Board member Frank Cochran for BYOB “Fridays with Frank.”  Happy Hour jazz listening sessions are held every Friday from 5:15 to 7:00 pm at the Institute Library in downtown New Haven.  Each Friday Frank selects iconic jazz LPs to play from the Library’s extensive collection.  Discussion follows.  BYOB and please give a modest donation towards the IL’s spiraling utilities. A $5.00 contribution is welcome.
URL:https://hartfordjazzsociety.com/event/fridays-with-frank/2026-10-09/
LOCATION:Institute Library\, 847 Chapel Street\, New Haven\, CT
END:VEVENT
BEGIN:VEVENT
DTSTART;TZID=America/New_York:20261016T171500
DTEND;TZID=America/New_York:20261016T190000
DTSTAMP:20260423T033212
CREATED:20251210T225210Z
LAST-MODIFIED:20251210T225210Z
UID:10007408-1792170900-1792177200@hartfordjazzsociety.com
SUMMARY:Fridays with Frank
DESCRIPTION:Join renowned jazz historian and Jazz Haven Board member Frank Cochran for BYOB “Fridays with Frank.”  Happy Hour jazz listening sessions are held every Friday from 5:15 to 7:00 pm at the Institute Library in downtown New Haven.  Each Friday Frank selects iconic jazz LPs to play from the Library’s extensive collection.  Discussion follows.  BYOB and please give a modest donation towards the IL’s spiraling utilities. A $5.00 contribution is welcome.
URL:https://hartfordjazzsociety.com/event/fridays-with-frank/2026-10-16/
LOCATION:Institute Library\, 847 Chapel Street\, New Haven\, CT
END:VEVENT
BEGIN:VEVENT
DTSTART;TZID=America/New_York:20261023T171500
DTEND;TZID=America/New_York:20261023T190000
DTSTAMP:20260423T033212
CREATED:20251210T225210Z
LAST-MODIFIED:20251210T225210Z
UID:10007409-1792775700-1792782000@hartfordjazzsociety.com
SUMMARY:Fridays with Frank
DESCRIPTION:Join renowned jazz historian and Jazz Haven Board member Frank Cochran for BYOB “Fridays with Frank.”  Happy Hour jazz listening sessions are held every Friday from 5:15 to 7:00 pm at the Institute Library in downtown New Haven.  Each Friday Frank selects iconic jazz LPs to play from the Library’s extensive collection.  Discussion follows.  BYOB and please give a modest donation towards the IL’s spiraling utilities. A $5.00 contribution is welcome.
URL:https://hartfordjazzsociety.com/event/fridays-with-frank/2026-10-23/
LOCATION:Institute Library\, 847 Chapel Street\, New Haven\, CT
END:VEVENT
BEGIN:VEVENT
DTSTART;TZID=America/New_York:20261030T171500
DTEND;TZID=America/New_York:20261030T190000
DTSTAMP:20260423T033212
CREATED:20251210T225210Z
LAST-MODIFIED:20251210T225210Z
UID:10007410-1793380500-1793386800@hartfordjazzsociety.com
SUMMARY:Fridays with Frank
DESCRIPTION:Join renowned jazz historian and Jazz Haven Board member Frank Cochran for BYOB “Fridays with Frank.”  Happy Hour jazz listening sessions are held every Friday from 5:15 to 7:00 pm at the Institute Library in downtown New Haven.  Each Friday Frank selects iconic jazz LPs to play from the Library’s extensive collection.  Discussion follows.  BYOB and please give a modest donation towards the IL’s spiraling utilities. A $5.00 contribution is welcome.
URL:https://hartfordjazzsociety.com/event/fridays-with-frank/2026-10-30/
LOCATION:Institute Library\, 847 Chapel Street\, New Haven\, CT
END:VEVENT
BEGIN:VEVENT
DTSTART;TZID=America/New_York:20261106T171500
DTEND;TZID=America/New_York:20261106T190000
DTSTAMP:20260423T033212
CREATED:20251210T225210Z
LAST-MODIFIED:20251210T225210Z
UID:10007411-1793985300-1793991600@hartfordjazzsociety.com
SUMMARY:Fridays with Frank
DESCRIPTION:Join renowned jazz historian and Jazz Haven Board member Frank Cochran for BYOB “Fridays with Frank.”  Happy Hour jazz listening sessions are held every Friday from 5:15 to 7:00 pm at the Institute Library in downtown New Haven.  Each Friday Frank selects iconic jazz LPs to play from the Library’s extensive collection.  Discussion follows.  BYOB and please give a modest donation towards the IL’s spiraling utilities. A $5.00 contribution is welcome.
URL:https://hartfordjazzsociety.com/event/fridays-with-frank/2026-11-06/
LOCATION:Institute Library\, 847 Chapel Street\, New Haven\, CT
END:VEVENT
BEGIN:VEVENT
DTSTART;TZID=America/New_York:20261113T171500
DTEND;TZID=America/New_York:20261113T190000
DTSTAMP:20260423T033212
CREATED:20251210T225210Z
LAST-MODIFIED:20251210T225210Z
UID:10007412-1794590100-1794596400@hartfordjazzsociety.com
SUMMARY:Fridays with Frank
DESCRIPTION:Join renowned jazz historian and Jazz Haven Board member Frank Cochran for BYOB “Fridays with Frank.”  Happy Hour jazz listening sessions are held every Friday from 5:15 to 7:00 pm at the Institute Library in downtown New Haven.  Each Friday Frank selects iconic jazz LPs to play from the Library’s extensive collection.  Discussion follows.  BYOB and please give a modest donation towards the IL’s spiraling utilities. A $5.00 contribution is welcome.
URL:https://hartfordjazzsociety.com/event/fridays-with-frank/2026-11-13/
LOCATION:Institute Library\, 847 Chapel Street\, New Haven\, CT
END:VEVENT
END:VCALENDAR