BEGIN:VCALENDAR
VERSION:2.0
PRODID:-//Hartford Jazz Society - ECPv6.15.20//NONSGML v1.0//EN
CALSCALE:GREGORIAN
METHOD:PUBLISH
X-WR-CALNAME:Hartford Jazz Society
X-ORIGINAL-URL:https://hartfordjazzsociety.com
X-WR-CALDESC:Events for Hartford Jazz Society
REFRESH-INTERVAL;VALUE=DURATION:PT1H
X-Robots-Tag:noindex
X-PUBLISHED-TTL:PT1H
BEGIN:VTIMEZONE
TZID:America/New_York
BEGIN:DAYLIGHT
TZOFFSETFROM:-0500
TZOFFSETTO:-0400
TZNAME:EDT
DTSTART:20240310T070000
END:DAYLIGHT
BEGIN:STANDARD
TZOFFSETFROM:-0400
TZOFFSETTO:-0500
TZNAME:EST
DTSTART:20241103T060000
END:STANDARD
BEGIN:DAYLIGHT
TZOFFSETFROM:-0500
TZOFFSETTO:-0400
TZNAME:EDT
DTSTART:20250309T070000
END:DAYLIGHT
BEGIN:STANDARD
TZOFFSETFROM:-0400
TZOFFSETTO:-0500
TZNAME:EST
DTSTART:20251102T060000
END:STANDARD
BEGIN:DAYLIGHT
TZOFFSETFROM:-0500
TZOFFSETTO:-0400
TZNAME:EDT
DTSTART:20260308T070000
END:DAYLIGHT
BEGIN:STANDARD
TZOFFSETFROM:-0400
TZOFFSETTO:-0500
TZNAME:EST
DTSTART:20261101T060000
END:STANDARD
END:VTIMEZONE
BEGIN:VEVENT
DTSTART;TZID=America/New_York:20251214T134500
DTEND;TZID=America/New_York:20251214T150000
DTSTAMP:20260424T095318
CREATED:20251214T144707Z
LAST-MODIFIED:20251214T144707Z
UID:10007435-1765719900-1765724400@hartfordjazzsociety.com
SUMMARY:Andrew Wilcox Trio
DESCRIPTION:Enjoy Vince Guaraldi’s holiday classics “Linus and Lucy” and “Christmastime is Here” from A Charlie Brown Christmas\, featuring the Andrew Wilcox Trio. Step back into a mid-century wonderland during special tours of the Isham-Terry House available as an add-on at 1 pm and 3 pm. \nTickets for the performance are $25/Person\, $20/CTL Member. \n 
URL:https://hartfordjazzsociety.com/event/andrew-wilcox-trio/
LOCATION:Isham Terry House\, 211 High Street\, Hartford\, CT
END:VEVENT
END:VCALENDAR