BEGIN:VCALENDAR
VERSION:2.0
PRODID:-//Hartford Jazz Society - ECPv6.15.20//NONSGML v1.0//EN
CALSCALE:GREGORIAN
METHOD:PUBLISH
X-WR-CALNAME:Hartford Jazz Society
X-ORIGINAL-URL:https://hartfordjazzsociety.com
X-WR-CALDESC:Events for Hartford Jazz Society
REFRESH-INTERVAL;VALUE=DURATION:PT1H
X-Robots-Tag:noindex
X-PUBLISHED-TTL:PT1H
BEGIN:VTIMEZONE
TZID:America/New_York
BEGIN:DAYLIGHT
TZOFFSETFROM:-0500
TZOFFSETTO:-0400
TZNAME:EDT
DTSTART:20250309T070000
END:DAYLIGHT
BEGIN:STANDARD
TZOFFSETFROM:-0400
TZOFFSETTO:-0500
TZNAME:EST
DTSTART:20251102T060000
END:STANDARD
BEGIN:DAYLIGHT
TZOFFSETFROM:-0500
TZOFFSETTO:-0400
TZNAME:EDT
DTSTART:20260308T070000
END:DAYLIGHT
BEGIN:STANDARD
TZOFFSETFROM:-0400
TZOFFSETTO:-0500
TZNAME:EST
DTSTART:20261101T060000
END:STANDARD
BEGIN:DAYLIGHT
TZOFFSETFROM:-0500
TZOFFSETTO:-0400
TZNAME:EDT
DTSTART:20270314T070000
END:DAYLIGHT
BEGIN:STANDARD
TZOFFSETFROM:-0400
TZOFFSETTO:-0500
TZNAME:EST
DTSTART:20271107T060000
END:STANDARD
END:VTIMEZONE
BEGIN:VEVENT
DTSTART;TZID=America/New_York:20260328T193000
DTEND;TZID=America/New_York:20260328T213000
DTSTAMP:20260425T075932
CREATED:20260322T124632Z
LAST-MODIFIED:20260322T124632Z
UID:10007662-1774726200-1774733400@hartfordjazzsociety.com
SUMMARY:Boney James - Slow Burn Tour
DESCRIPTION:Saxophonist and composer Boney James’s new Concord Records album\, Slow Burn\, was released  October 18\, 2024. \n“When I mentioned that phrase to people as a possible title\, they said\, “That also refers to your  whole career in a way” James says with a laugh. “This is my 19th record and I feel like I’m just  hitting my stride.” \nSlow Burn is a new high point in a remarkable career that now spans more than three decades  and includes a long list of accolades; four GRAMMY nominations\, three NAACP Image Award  nominations\, a Soul Train Award for Best Jazz Album and four RIAA Gold Record certifications.  In 2009\, Billboard named James one of the Top 3 Contemporary Jazz Artists of the decade. In  2024 year Boney became the first ever artist to score 20 number one singles on the Billboard Smooth Jazz chart. \nBut Boney James has never been one to look backwards and Slow Burn\, which the artist  produced\, marks several firsts. Beginning with the album’s opening track\, ‘Arcadia.’ The very first notes on the album are the acoustic bass playing of the legendary Marcus Miller.  It’s one of the few times that Miller\, known for his electric bass guitar work\, has committed his  standup bass playing to a recording and the first time that James has incorporated an upright bass  into his own music \nNext is James’ intriguing interpretation of the classic ‘Butterfly.’ Co-written by master  keyboardist Herbie Hancock and Bennie Maupin\, the track features Marcus Miller again as well  as young lion Cory Henry’s inspired electric piano. “This beautiful melody got stuck in my head”  explains James. “I have never covered a tune by a legend like Herbie before and I hope we did  him justice.” \nThe title track\, ‘Slow Burn\,’ is one of four tunes on the album that James co-wrote and co produced with multi-instrumentalist Jairus Mozee ( known for his work with Anderson Paak\,  Anthony Hamilton and Nikki Minaj etc.). \nTickets:\n$75 General Public *processing fee included in price\n$63 SCSU Faculty/Staff *processing fee included in price\nSeating: Reserved
URL:https://hartfordjazzsociety.com/event/boney-james-slow-burn-tour/
LOCATION:John Lyman Center for the Performing Arts – Southern CT State University\, 501 Crescent Street\, New Haven\, CT
END:VEVENT
END:VCALENDAR