BEGIN:VCALENDAR
VERSION:2.0
PRODID:-//Hartford Jazz Society - ECPv6.15.20//NONSGML v1.0//EN
CALSCALE:GREGORIAN
METHOD:PUBLISH
X-WR-CALNAME:Hartford Jazz Society
X-ORIGINAL-URL:https://hartfordjazzsociety.com
X-WR-CALDESC:Events for Hartford Jazz Society
REFRESH-INTERVAL;VALUE=DURATION:PT1H
X-Robots-Tag:noindex
X-PUBLISHED-TTL:PT1H
BEGIN:VTIMEZONE
TZID:America/New_York
BEGIN:DAYLIGHT
TZOFFSETFROM:-0500
TZOFFSETTO:-0400
TZNAME:EDT
DTSTART:20240310T070000
END:DAYLIGHT
BEGIN:STANDARD
TZOFFSETFROM:-0400
TZOFFSETTO:-0500
TZNAME:EST
DTSTART:20241103T060000
END:STANDARD
BEGIN:DAYLIGHT
TZOFFSETFROM:-0500
TZOFFSETTO:-0400
TZNAME:EDT
DTSTART:20250309T070000
END:DAYLIGHT
BEGIN:STANDARD
TZOFFSETFROM:-0400
TZOFFSETTO:-0500
TZNAME:EST
DTSTART:20251102T060000
END:STANDARD
BEGIN:DAYLIGHT
TZOFFSETFROM:-0500
TZOFFSETTO:-0400
TZNAME:EDT
DTSTART:20260308T070000
END:DAYLIGHT
BEGIN:STANDARD
TZOFFSETFROM:-0400
TZOFFSETTO:-0500
TZNAME:EST
DTSTART:20261101T060000
END:STANDARD
BEGIN:DAYLIGHT
TZOFFSETFROM:-0500
TZOFFSETTO:-0400
TZNAME:EDT
DTSTART:20270314T070000
END:DAYLIGHT
BEGIN:STANDARD
TZOFFSETFROM:-0400
TZOFFSETTO:-0500
TZNAME:EST
DTSTART:20271107T060000
END:STANDARD
END:VTIMEZONE
BEGIN:VEVENT
DTSTART;TZID=America/New_York:20260418T180000
DTEND;TZID=America/New_York:20260418T210000
DTSTAMP:20260423T031626
CREATED:20260114T010844Z
LAST-MODIFIED:20260114T012526Z
UID:10007531-1776535200-1776546000@hartfordjazzsociety.com
SUMMARY:Bob Ahern Quartet
DESCRIPTION:The Bob Ahern Quartet will be performing the last Saturday of each month at the legendary Lighthouse Inn from 6-9. The group features Lisa Marien on vocals and Bob Ahern on drums along with various Jazz artists each month.
URL:https://hartfordjazzsociety.com/event/bob-ahern-quartet/2026-04-18/
LOCATION:Lighthouse Inn\, 6 Guthrie Pl\, New London\, CT
END:VEVENT
BEGIN:VEVENT
DTSTART;TZID=America/New_York:20260411T180000
DTEND;TZID=America/New_York:20260411T210000
DTSTAMP:20260423T031626
CREATED:20260114T010844Z
LAST-MODIFIED:20260114T012526Z
UID:10007530-1775930400-1775941200@hartfordjazzsociety.com
SUMMARY:Bob Ahern Quartet
DESCRIPTION:The Bob Ahern Quartet will be performing the last Saturday of each month at the legendary Lighthouse Inn from 6-9. The group features Lisa Marien on vocals and Bob Ahern on drums along with various Jazz artists each month.
URL:https://hartfordjazzsociety.com/event/bob-ahern-quartet/2026-04-11/
LOCATION:Lighthouse Inn\, 6 Guthrie Pl\, New London\, CT
END:VEVENT
BEGIN:VEVENT
DTSTART;TZID=America/New_York:20260404T180000
DTEND;TZID=America/New_York:20260404T210000
DTSTAMP:20260423T031626
CREATED:20260114T010844Z
LAST-MODIFIED:20260114T012526Z
UID:10007529-1775325600-1775336400@hartfordjazzsociety.com
SUMMARY:Bob Ahern Quartet
DESCRIPTION:The Bob Ahern Quartet will be performing the last Saturday of each month at the legendary Lighthouse Inn from 6-9. The group features Lisa Marien on vocals and Bob Ahern on drums along with various Jazz artists each month.
URL:https://hartfordjazzsociety.com/event/bob-ahern-quartet/2026-04-04/
LOCATION:Lighthouse Inn\, 6 Guthrie Pl\, New London\, CT
END:VEVENT
BEGIN:VEVENT
DTSTART;TZID=America/New_York:20260328T180000
DTEND;TZID=America/New_York:20260328T210000
DTSTAMP:20260423T031626
CREATED:20260114T010844Z
LAST-MODIFIED:20260114T012526Z
UID:10007528-1774720800-1774731600@hartfordjazzsociety.com
SUMMARY:Bob Ahern Quartet
DESCRIPTION:The Bob Ahern Quartet will be performing the last Saturday of each month at the legendary Lighthouse Inn from 6-9. The group features Lisa Marien on vocals and Bob Ahern on drums along with various Jazz artists each month.
URL:https://hartfordjazzsociety.com/event/bob-ahern-quartet/2026-03-28/
LOCATION:Lighthouse Inn\, 6 Guthrie Pl\, New London\, CT
END:VEVENT
BEGIN:VEVENT
DTSTART;TZID=America/New_York:20260321T180000
DTEND;TZID=America/New_York:20260321T210000
DTSTAMP:20260423T031626
CREATED:20260114T010844Z
LAST-MODIFIED:20260114T012526Z
UID:10007527-1774116000-1774126800@hartfordjazzsociety.com
SUMMARY:Bob Ahern Quartet
DESCRIPTION:The Bob Ahern Quartet will be performing the last Saturday of each month at the legendary Lighthouse Inn from 6-9. The group features Lisa Marien on vocals and Bob Ahern on drums along with various Jazz artists each month.
URL:https://hartfordjazzsociety.com/event/bob-ahern-quartet/2026-03-21/
LOCATION:Lighthouse Inn\, 6 Guthrie Pl\, New London\, CT
END:VEVENT
BEGIN:VEVENT
DTSTART;TZID=America/New_York:20260314T180000
DTEND;TZID=America/New_York:20260314T210000
DTSTAMP:20260423T031626
CREATED:20260114T010844Z
LAST-MODIFIED:20260114T012526Z
UID:10007526-1773511200-1773522000@hartfordjazzsociety.com
SUMMARY:Bob Ahern Quartet
DESCRIPTION:The Bob Ahern Quartet will be performing the last Saturday of each month at the legendary Lighthouse Inn from 6-9. The group features Lisa Marien on vocals and Bob Ahern on drums along with various Jazz artists each month.
URL:https://hartfordjazzsociety.com/event/bob-ahern-quartet/2026-03-14/
LOCATION:Lighthouse Inn\, 6 Guthrie Pl\, New London\, CT
END:VEVENT
BEGIN:VEVENT
DTSTART;TZID=America/New_York:20260307T180000
DTEND;TZID=America/New_York:20260307T210000
DTSTAMP:20260423T031626
CREATED:20260114T010844Z
LAST-MODIFIED:20260114T012526Z
UID:10007525-1772906400-1772917200@hartfordjazzsociety.com
SUMMARY:Bob Ahern Quartet
DESCRIPTION:The Bob Ahern Quartet will be performing the last Saturday of each month at the legendary Lighthouse Inn from 6-9. The group features Lisa Marien on vocals and Bob Ahern on drums along with various Jazz artists each month.
URL:https://hartfordjazzsociety.com/event/bob-ahern-quartet/2026-03-07/
LOCATION:Lighthouse Inn\, 6 Guthrie Pl\, New London\, CT
END:VEVENT
BEGIN:VEVENT
DTSTART;TZID=America/New_York:20260228T180000
DTEND;TZID=America/New_York:20260228T210000
DTSTAMP:20260423T031626
CREATED:20260114T010844Z
LAST-MODIFIED:20260114T012526Z
UID:10007524-1772301600-1772312400@hartfordjazzsociety.com
SUMMARY:Bob Ahern Quartet
DESCRIPTION:The Bob Ahern Quartet will be performing the last Saturday of each month at the legendary Lighthouse Inn from 6-9. The group features Lisa Marien on vocals and Bob Ahern on drums along with various Jazz artists each month.
URL:https://hartfordjazzsociety.com/event/bob-ahern-quartet/2026-02-28/
LOCATION:Lighthouse Inn\, 6 Guthrie Pl\, New London\, CT
END:VEVENT
BEGIN:VEVENT
DTSTART;TZID=America/New_York:20260221T180000
DTEND;TZID=America/New_York:20260221T210000
DTSTAMP:20260423T031626
CREATED:20260114T010844Z
LAST-MODIFIED:20260114T012526Z
UID:10007523-1771696800-1771707600@hartfordjazzsociety.com
SUMMARY:Bob Ahern Quartet
DESCRIPTION:The Bob Ahern Quartet will be performing the last Saturday of each month at the legendary Lighthouse Inn from 6-9. The group features Lisa Marien on vocals and Bob Ahern on drums along with various Jazz artists each month.
URL:https://hartfordjazzsociety.com/event/bob-ahern-quartet/2026-02-21/
LOCATION:Lighthouse Inn\, 6 Guthrie Pl\, New London\, CT
END:VEVENT
BEGIN:VEVENT
DTSTART;TZID=America/New_York:20260214T180000
DTEND;TZID=America/New_York:20260214T210000
DTSTAMP:20260423T031626
CREATED:20260114T010844Z
LAST-MODIFIED:20260114T012526Z
UID:10007522-1771092000-1771102800@hartfordjazzsociety.com
SUMMARY:Bob Ahern Quartet
DESCRIPTION:The Bob Ahern Quartet will be performing the last Saturday of each month at the legendary Lighthouse Inn from 6-9. The group features Lisa Marien on vocals and Bob Ahern on drums along with various Jazz artists each month.
URL:https://hartfordjazzsociety.com/event/bob-ahern-quartet/2026-02-14/
LOCATION:Lighthouse Inn\, 6 Guthrie Pl\, New London\, CT
END:VEVENT
BEGIN:VEVENT
DTSTART;TZID=America/New_York:20260207T180000
DTEND;TZID=America/New_York:20260207T210000
DTSTAMP:20260423T031626
CREATED:20260114T010844Z
LAST-MODIFIED:20260114T012526Z
UID:10007521-1770487200-1770498000@hartfordjazzsociety.com
SUMMARY:Bob Ahern Quartet
DESCRIPTION:The Bob Ahern Quartet will be performing the last Saturday of each month at the legendary Lighthouse Inn from 6-9. The group features Lisa Marien on vocals and Bob Ahern on drums along with various Jazz artists each month.
URL:https://hartfordjazzsociety.com/event/bob-ahern-quartet/2026-02-07/
LOCATION:Lighthouse Inn\, 6 Guthrie Pl\, New London\, CT
END:VEVENT
BEGIN:VEVENT
DTSTART;TZID=America/New_York:20260131T180000
DTEND;TZID=America/New_York:20260131T210000
DTSTAMP:20260423T031626
CREATED:20260114T010844Z
LAST-MODIFIED:20260114T012526Z
UID:10007520-1769882400-1769893200@hartfordjazzsociety.com
SUMMARY:Bob Ahern Quartet
DESCRIPTION:The Bob Ahern Quartet will be performing the last Saturday of each month at the legendary Lighthouse Inn from 6-9. The group features Lisa Marien on vocals and Bob Ahern on drums along with various Jazz artists each month.
URL:https://hartfordjazzsociety.com/event/bob-ahern-quartet/2026-01-31/
LOCATION:Lighthouse Inn\, 6 Guthrie Pl\, New London\, CT
END:VEVENT
BEGIN:VEVENT
DTSTART;TZID=America/New_York:20251227T180000
DTEND;TZID=America/New_York:20251227T210000
DTSTAMP:20260423T031626
CREATED:20251116T033609Z
LAST-MODIFIED:20251116T033611Z
UID:10004560-1766858400-1766869200@hartfordjazzsociety.com
SUMMARY:Bob Ahern Quartet
DESCRIPTION:The Bob Ahern Quartet featuring drummer Bob Ahern will be performing the last Saturday of every month for 2025 at the legendary Lighthouse Inn in New London. Each month\, Bob features a different Jazz celebrity. Great jazz venue and restaurant.
URL:https://hartfordjazzsociety.com/event/bob-ahern-quartet-2-2/
LOCATION:Lighthouse Inn\, 6 Guthrie Pl\, New London\, CT
END:VEVENT
BEGIN:VEVENT
DTSTART;TZID=America/New_York:20251129T180000
DTEND;TZID=America/New_York:20251129T210000
DTSTAMP:20260423T031626
CREATED:20241228T012035Z
LAST-MODIFIED:20241228T012035Z
UID:10004559-1764439200-1764450000@hartfordjazzsociety.com
SUMMARY:Bob Ahern Quartet
DESCRIPTION:The Bob Ahern Quartet featuring Jazz drummer Bob Ahern will be performing the last Saturday of every month for 2025 at the legendary Lighthouse Inn in New London. Each month\, Bob features a different Jazz celebrity. Great jazz venue and restaurant.
URL:https://hartfordjazzsociety.com/event/bob-ahern-quartet-2/2025-11-29/
LOCATION:Lighthouse Inn\, 6 Guthrie Pl\, New London\, CT
END:VEVENT
BEGIN:VEVENT
DTSTART;TZID=America/New_York:20251025T180000
DTEND;TZID=America/New_York:20251025T210000
DTSTAMP:20260423T031626
CREATED:20241228T012035Z
LAST-MODIFIED:20241228T012035Z
UID:10004558-1761415200-1761426000@hartfordjazzsociety.com
SUMMARY:Bob Ahern Quartet
DESCRIPTION:The Bob Ahern Quartet featuring Jazz drummer Bob Ahern will be performing the last Saturday of every month for 2025 at the legendary Lighthouse Inn in New London. Each month\, Bob features a different Jazz celebrity. Great jazz venue and restaurant.
URL:https://hartfordjazzsociety.com/event/bob-ahern-quartet-2/2025-10-25/
LOCATION:Lighthouse Inn\, 6 Guthrie Pl\, New London\, CT
END:VEVENT
END:VCALENDAR