BEGIN:VCALENDAR
VERSION:2.0
PRODID:-//Hartford Jazz Society - ECPv6.15.20//NONSGML v1.0//EN
CALSCALE:GREGORIAN
METHOD:PUBLISH
X-ORIGINAL-URL:https://hartfordjazzsociety.com
X-WR-CALDESC:Events for Hartford Jazz Society
REFRESH-INTERVAL;VALUE=DURATION:PT1H
X-Robots-Tag:noindex
X-PUBLISHED-TTL:PT1H
BEGIN:VTIMEZONE
TZID:America/New_York
BEGIN:DAYLIGHT
TZOFFSETFROM:-0500
TZOFFSETTO:-0400
TZNAME:EDT
DTSTART:20250309T070000
END:DAYLIGHT
BEGIN:STANDARD
TZOFFSETFROM:-0400
TZOFFSETTO:-0500
TZNAME:EST
DTSTART:20251102T060000
END:STANDARD
BEGIN:DAYLIGHT
TZOFFSETFROM:-0500
TZOFFSETTO:-0400
TZNAME:EDT
DTSTART:20260308T070000
END:DAYLIGHT
BEGIN:STANDARD
TZOFFSETFROM:-0400
TZOFFSETTO:-0500
TZNAME:EST
DTSTART:20261101T060000
END:STANDARD
BEGIN:DAYLIGHT
TZOFFSETFROM:-0500
TZOFFSETTO:-0400
TZNAME:EDT
DTSTART:20270314T070000
END:DAYLIGHT
BEGIN:STANDARD
TZOFFSETFROM:-0400
TZOFFSETTO:-0500
TZNAME:EST
DTSTART:20271107T060000
END:STANDARD
END:VTIMEZONE
BEGIN:VEVENT
DTSTART;TZID=America/New_York:20260214T180000
DTEND;TZID=America/New_York:20260214T210000
DTSTAMP:20260424T060725
CREATED:20260204T160313Z
LAST-MODIFIED:20260204T160313Z
UID:10007597-1771092000-1771102800@hartfordjazzsociety.com
SUMMARY:Central City Stompers
DESCRIPTION:The Central City Stompers are known for their good-time jazz and ability to make people of all ages smile. They are a 10-piece ensemble from central CT that plays at various festivals\, town concerts\, fairs\, and other events. They have especially been a big hit at the Durham Fair\, Branford Jazz\, Haddam Neck Fair\, and Vinnie’s Jump & Jive in Middletown. \nWe are thrilled that the Central City Stompers will be joining us for the Sweetheart Soiree! Be sure to grab your tickets ASAP so that you can enjoy this incredible act live and in person! \nJoin St. Vincent de Paul Middletown for our inaugural Valentine’s Day fundraising event: the Sweetheart Soiree! Bring your spouse\, significant other\, a friend\, or simply come as you are\,  and get ready to dance the night away to the sounds of the Jazz Age. Guests can look forward to a live swing band (the Central City Stompers)\, a delicious banquet dinner\, and a robust raffle. \n100% of the proceeds will go to SVDM and allow us to continue meeting needs and offering hope in Middlesex County!
URL:https://hartfordjazzsociety.com/event/central-city-stompers/
LOCATION:Middletown Elks Lodge No 771\, 44 Maynard Street\, Middletown\, CT
END:VEVENT
END:VCALENDAR