BEGIN:VCALENDAR
VERSION:2.0
PRODID:-//Hartford Jazz Society - ECPv6.15.20//NONSGML v1.0//EN
CALSCALE:GREGORIAN
METHOD:PUBLISH
X-ORIGINAL-URL:https://hartfordjazzsociety.com
X-WR-CALDESC:Events for Hartford Jazz Society
REFRESH-INTERVAL;VALUE=DURATION:PT1H
X-Robots-Tag:noindex
X-PUBLISHED-TTL:PT1H
BEGIN:VTIMEZONE
TZID:America/New_York
BEGIN:DAYLIGHT
TZOFFSETFROM:-0500
TZOFFSETTO:-0400
TZNAME:EDT
DTSTART:20240310T070000
END:DAYLIGHT
BEGIN:STANDARD
TZOFFSETFROM:-0400
TZOFFSETTO:-0500
TZNAME:EST
DTSTART:20241103T060000
END:STANDARD
BEGIN:DAYLIGHT
TZOFFSETFROM:-0500
TZOFFSETTO:-0400
TZNAME:EDT
DTSTART:20250309T070000
END:DAYLIGHT
BEGIN:STANDARD
TZOFFSETFROM:-0400
TZOFFSETTO:-0500
TZNAME:EST
DTSTART:20251102T060000
END:STANDARD
BEGIN:DAYLIGHT
TZOFFSETFROM:-0500
TZOFFSETTO:-0400
TZNAME:EDT
DTSTART:20260308T070000
END:DAYLIGHT
BEGIN:STANDARD
TZOFFSETFROM:-0400
TZOFFSETTO:-0500
TZNAME:EST
DTSTART:20261101T060000
END:STANDARD
END:VTIMEZONE
BEGIN:VEVENT
DTSTART;TZID=America/New_York:20251220T200000
DTEND;TZID=America/New_York:20251220T220000
DTSTAMP:20260424T115321
CREATED:20251214T164506Z
LAST-MODIFIED:20251214T164506Z
UID:10007438-1766260800-1766268000@hartfordjazzsociety.com
SUMMARY:Big Bad Voodoo Daddy's Wild and Swingin' Holiday Party
DESCRIPTION:Since its formation in the early nineties in Ventura\, California\, the band has toured virtually nonstop\, performing on average over 150 shows a year\, and has produced a sizable catalog of recorded music\, with sales of over two million albums to date. Early on\, during their legendary residency at the Derby nightclub in Los Angeles\, they reminded the world\, in the midst of the Grunge era no less\, that it was still cool to swing. The band\, co-founded by singer Scotty Morris and drummer Kurt Sodergren\, was at the forefront of the swing revival of that time\, blending a vibrant fusion of the Classic American sounds of Jazz\, Swing\, and Dixieland\, with the energy and spirit of contemporary culture. \nAfter over 30 years\, 11 records\, over 3000 live shows\, and countless appearances in film and television\, Big Bad Voodoo Daddy is showing no signs of slowing down\, and is looking forward to sharing its music with new and old fans alike. \nWolf Den
URL:https://hartfordjazzsociety.com/event/big-bad-voodoo-daddys-wild-and-swingin-holiday-party/2025-12-20/
LOCATION:Mohegan Sun Casino\, 1 Mohegan Sun Blvd\, Uncasville\, CT
END:VEVENT
BEGIN:VEVENT
DTSTART;TZID=America/New_York:20251219T200000
DTEND;TZID=America/New_York:20251219T220000
DTSTAMP:20260424T115321
CREATED:20251214T164506Z
LAST-MODIFIED:20251214T164506Z
UID:10007437-1766174400-1766181600@hartfordjazzsociety.com
SUMMARY:Big Bad Voodoo Daddy's Wild and Swingin' Holiday Party
DESCRIPTION:Since its formation in the early nineties in Ventura\, California\, the band has toured virtually nonstop\, performing on average over 150 shows a year\, and has produced a sizable catalog of recorded music\, with sales of over two million albums to date. Early on\, during their legendary residency at the Derby nightclub in Los Angeles\, they reminded the world\, in the midst of the Grunge era no less\, that it was still cool to swing. The band\, co-founded by singer Scotty Morris and drummer Kurt Sodergren\, was at the forefront of the swing revival of that time\, blending a vibrant fusion of the Classic American sounds of Jazz\, Swing\, and Dixieland\, with the energy and spirit of contemporary culture. \nAfter over 30 years\, 11 records\, over 3000 live shows\, and countless appearances in film and television\, Big Bad Voodoo Daddy is showing no signs of slowing down\, and is looking forward to sharing its music with new and old fans alike. \nWolf Den
URL:https://hartfordjazzsociety.com/event/big-bad-voodoo-daddys-wild-and-swingin-holiday-party/2025-12-19/
LOCATION:Mohegan Sun Casino\, 1 Mohegan Sun Blvd\, Uncasville\, CT
END:VEVENT
END:VCALENDAR