BEGIN:VCALENDAR
VERSION:2.0
PRODID:-//Hartford Jazz Society - ECPv6.15.20//NONSGML v1.0//EN
CALSCALE:GREGORIAN
METHOD:PUBLISH
X-ORIGINAL-URL:https://hartfordjazzsociety.com
X-WR-CALDESC:Events for Hartford Jazz Society
REFRESH-INTERVAL;VALUE=DURATION:PT1H
X-Robots-Tag:noindex
X-PUBLISHED-TTL:PT1H
BEGIN:VTIMEZONE
TZID:America/New_York
BEGIN:DAYLIGHT
TZOFFSETFROM:-0500
TZOFFSETTO:-0400
TZNAME:EDT
DTSTART:20240310T070000
END:DAYLIGHT
BEGIN:STANDARD
TZOFFSETFROM:-0400
TZOFFSETTO:-0500
TZNAME:EST
DTSTART:20241103T060000
END:STANDARD
BEGIN:DAYLIGHT
TZOFFSETFROM:-0500
TZOFFSETTO:-0400
TZNAME:EDT
DTSTART:20250309T070000
END:DAYLIGHT
BEGIN:STANDARD
TZOFFSETFROM:-0400
TZOFFSETTO:-0500
TZNAME:EST
DTSTART:20251102T060000
END:STANDARD
BEGIN:DAYLIGHT
TZOFFSETFROM:-0500
TZOFFSETTO:-0400
TZNAME:EDT
DTSTART:20260308T070000
END:DAYLIGHT
BEGIN:STANDARD
TZOFFSETFROM:-0400
TZOFFSETTO:-0500
TZNAME:EST
DTSTART:20261101T060000
END:STANDARD
END:VTIMEZONE
BEGIN:VEVENT
DTSTART;TZID=America/New_York:20251107T193000
DTEND;TZID=America/New_York:20251107T213000
DTSTAMP:20260424T133825
CREATED:20251010T004311Z
LAST-MODIFIED:20251010T004311Z
UID:10006918-1762543800-1762551000@hartfordjazzsociety.com
SUMMARY:New Jazz Underground
DESCRIPTION:The bold and innovative trio infuse modern jazz with hard bop\, hip-hop\, and pop for a sound that’s “classy and classic” (NPR) — bringing fresh perspective while honoring tradition. \nAbdias Armenteros\, saxophone\nSebastian Rios\, bass\nTJ Reddick\, drums \nTickets start at $26\, Yale faculty/staff start at $19\, Students start at $11
URL:https://hartfordjazzsociety.com/event/new-jazz-underground/
LOCATION:Morse Recital Hall – Yale University\, 470 College Street\, New Haven\, CT
END:VEVENT
END:VCALENDAR