BEGIN:VCALENDAR
VERSION:2.0
PRODID:-//Hartford Jazz Society - ECPv6.15.20//NONSGML v1.0//EN
CALSCALE:GREGORIAN
METHOD:PUBLISH
X-WR-CALNAME:Hartford Jazz Society
X-ORIGINAL-URL:https://hartfordjazzsociety.com
X-WR-CALDESC:Events for Hartford Jazz Society
REFRESH-INTERVAL;VALUE=DURATION:PT1H
X-Robots-Tag:noindex
X-PUBLISHED-TTL:PT1H
BEGIN:VTIMEZONE
TZID:America/New_York
BEGIN:DAYLIGHT
TZOFFSETFROM:-0500
TZOFFSETTO:-0400
TZNAME:EDT
DTSTART:20240310T070000
END:DAYLIGHT
BEGIN:STANDARD
TZOFFSETFROM:-0400
TZOFFSETTO:-0500
TZNAME:EST
DTSTART:20241103T060000
END:STANDARD
BEGIN:DAYLIGHT
TZOFFSETFROM:-0500
TZOFFSETTO:-0400
TZNAME:EDT
DTSTART:20250309T070000
END:DAYLIGHT
BEGIN:STANDARD
TZOFFSETFROM:-0400
TZOFFSETTO:-0500
TZNAME:EST
DTSTART:20251102T060000
END:STANDARD
BEGIN:DAYLIGHT
TZOFFSETFROM:-0500
TZOFFSETTO:-0400
TZNAME:EDT
DTSTART:20260308T070000
END:DAYLIGHT
BEGIN:STANDARD
TZOFFSETFROM:-0400
TZOFFSETTO:-0500
TZNAME:EST
DTSTART:20261101T060000
END:STANDARD
BEGIN:DAYLIGHT
TZOFFSETFROM:-0500
TZOFFSETTO:-0400
TZNAME:EDT
DTSTART:20270314T070000
END:DAYLIGHT
BEGIN:STANDARD
TZOFFSETFROM:-0400
TZOFFSETTO:-0500
TZNAME:EST
DTSTART:20271107T060000
END:STANDARD
END:VTIMEZONE
BEGIN:VEVENT
DTSTART;TZID=America/New_York:20260320T190000
DTEND;TZID=America/New_York:20260320T210000
DTSTAMP:20260424T205730
CREATED:20260309T163849Z
LAST-MODIFIED:20260309T163849Z
UID:10007641-1774033200-1774040400@hartfordjazzsociety.com
SUMMARY:Jesse Hameen II Birthday Concert
DESCRIPTION:Celebrate 85 years of Jesse Hameen II. Join us March 20\, 7–9 PM for a joyful evening of jazz as we celebrate 85 remarkable years of Jesse Hameen II— musician\, mentor\, and beloved community treasure. This will be a special birthday concert held by the Neighborhood Music School honoring and featuring Jesse\, a long time member of the Board of Directors of Jazz Haven.\n\nJesse Hameen II\, drums\nWayne Escoffery\, saxophone\nTK Blue\, saxophone\nZaccai Curtis\, piano\nRodney Jones\, guitar\nZwelakhe-Duma Bell Le Pere\, bass\n \nThis special birthday concert honors Jesse’s lifelong legacy of rhythm\, artistry\, and dedication to nurturing the next generation of jazz artists. Enjoy an unforgettable night of live performances filled with swing\, soul\, and celebration as friends\, students\, and fellow musicians come together in tribute.\n \n‍This event is pay-what-you-can at the door*with all proceeds directly supporting the Neighborhood Music School’s Summer Jazz Program\, helping young musicians grow\, collaborate\, and carry the music forward.\n \n*Tickets are not available for purchase online—tickets can only be purchased at the door. We accept cash or credit card.\n \nAs a gift to Jesse on his 85th birthday\, you can make a donation to support Jesse’s beloved NMS Summer Jazz Program\, where young musicians develop their craft\, collaborate with peers\, and learn directly from professional teaching artists. 
URL:https://hartfordjazzsociety.com/event/jesse-hameen-ii-birthday-concert/
LOCATION:Neighborhood Music School\, 100 Audubon Streen\, New Haven\, CT
END:VEVENT
BEGIN:VEVENT
DTSTART;TZID=America/New_York:20251205T200000
DTEND;TZID=America/New_York:20251205T200000
DTSTAMP:20260424T205730
CREATED:20251126T160414Z
LAST-MODIFIED:20251126T160414Z
UID:10007340-1764964800-1764964800@hartfordjazzsociety.com
SUMMARY:Ian Hendrickson-Smith & Friends
DESCRIPTION:Saxophonist Ian Hendrickson-Smith is known for his rich tone\, soulful style\, and blues-driven melodies. A genre-hopping musician with six Grammys and decades of performances at the world’s top venues\, Ian currently tours with The Roots and plays on The Tonight Show Starring Jimmy Fallon. Ian has recorded or toured with artists including The Roots\, Sharon Jones & the Dap-Kings\, Amy Winehouse\, Mark Ronson\, Al Green\, Lady Gaga\, Ed Sheeran\, Bob Dylan\, Lizzo\, and many more. \nIan will perform with Al Street (guitar)\, Eric Finland (organ)\, and David Hawkins (drums) for one special performance at NMS
URL:https://hartfordjazzsociety.com/event/ian-hendrickson-smith-friends/
LOCATION:Neighborhood Music School\, 100 Audubon Streen\, New Haven\, CT
END:VEVENT
END:VCALENDAR